Test-Label: checkpatch Test-Status: SUCCESS http://dpdk.org/patch/63595 _coding style OK_
[-- Attachment #1: Type: text/plain, Size: 1990 bytes --] Test-Label: iol-intel-Performance Test-Status: SUCCESS http://dpdk.org/patch/63595 _Performance Testing PASS_ Submitter: Lu Qiuwen <luqiuwen@iie.ac.cn> Date: Thursday, December 05 2019 13:30:08 DPDK git baseline: Repo:dpdk Branch: master CommitID:aef1d0733179afb56916e95058a4f1398b81af04 63595 --> performance testing pass Test environment and result as below: Ubuntu 18.04 Kernel: 4.15.0-generic GCC: 7.4 NIC: Intel Corporation Ethernet Converged Network Adapter 82599ES 10000 Mbps Target: x86_64-native-linuxapp-gcc Fail/Total: 0/3 Detail performance results: +------------+---------+-------------------------------------+ | frame_size | txd/rxd | throughput difference from expected | +============+=========+=====================================+ | 64 | 128 | -0.041 | +------------+---------+-------------------------------------+ | 64 | 512 | 0.005 | +------------+---------+-------------------------------------+ | 64 | 2048 | 0.010 | +------------+---------+-------------------------------------+ Ubuntu 18.04 Kernel: 4.15.0-generic GCC: 7.4 NIC: Intel Corporation Ethernet Converged Network Adapter XL710-QDA2 40000 Mbps Target: x86_64-native-linuxapp-gcc Fail/Total: 0/2 Detail performance results: +------------+---------+-------------------------------------+ | frame_size | txd/rxd | throughput difference from expected | +============+=========+=====================================+ | 64 | 512 | 0.175 | +------------+---------+-------------------------------------+ | 64 | 2048 | 0.198 | +------------+---------+-------------------------------------+ https://lab.dpdk.org/results/dashboard/patchsets/8819/ UNH-IOL DPDK Performance Test Lab To manage your email subscriptions visit: https://lab.dpdk.org/results/dashboard/preferences/subscriptions/
[-- Attachment #1: Type: text/plain, Size: 1647 bytes --] Test-Label: iol-testing Test-Status: SUCCESS http://dpdk.org/patch/63595 _Testing PASS_ Submitter: Lu Qiuwen <luqiuwen@iie.ac.cn> Date: Thursday, December 05 2019 13:30:08 DPDK git baseline: Repo:dpdk Branch: master CommitID:aef1d0733179afb56916e95058a4f1398b81af04 63595 --> testing pass Test environment and result as below: +--------------+------------------+-------------------+--------------+--------------------+----------------+ | Environment | dpdk_compile_ovs | dpdk_compile_spdk | dpdk_compile | dpdk_meson_compile | dpdk_unit_test | +==============+==================+===================+==============+====================+================+ | Ubuntu 18.04 | PASS | PASS | PASS | PASS | PASS | +--------------+------------------+-------------------+--------------+--------------------+----------------+ | CentOS 8 | PASS | SKIPPED | PASS | PASS | SKIPPED | +--------------+------------------+-------------------+--------------+--------------------+----------------+ | FreeBSD 11.2 | SKIPPED | PASS | PASS | PASS | SKIPPED | +--------------+------------------+-------------------+--------------+--------------------+----------------+ Ubuntu 18.04 Kernel: 4.15.0-generic GCC: 7.4 CentOS 8 Kernel: 4.18.0.el8_0 GCC: 8.2 FreeBSD 11.2 Kernel: 11.2 GCC: 8.3 https://lab.dpdk.org/results/dashboard/patchsets/8819/ UNH-IOL DPDK Performance Test Lab To manage your email subscriptions visit: https://lab.dpdk.org/results/dashboard/preferences/subscriptions/
[-- Attachment #1: Type: text/plain, Size: 3905 bytes --] Test-Label: iol-mellanox-Performance Test-Status: SUCCESS http://dpdk.org/patch/63595 _Performance Testing PASS_ Submitter: Lu Qiuwen <luqiuwen@iie.ac.cn> Date: Thursday, December 05 2019 13:30:08 DPDK git baseline: Repo:dpdk Branch: master CommitID:aef1d0733179afb56916e95058a4f1398b81af04 63595 --> performance testing pass Test environment and result as below: Ubuntu 18.04 Kernel: 4.15.0-generic GCC: 7.4 NIC: Mellanox ConnectX-5 100000 Mbps Target: x86_64-native-linuxapp-gcc Fail/Total: 0/6 Detail performance results: +------------+---------+-------------------------------------+ | frame_size | txd/rxd | throughput difference from expected | +============+=========+=====================================+ | 64 | 256 | -0.084 | +------------+---------+-------------------------------------+ | 128 | 256 | 0.118 | +------------+---------+-------------------------------------+ | 256 | 256 | 0.077 | +------------+---------+-------------------------------------+ | 512 | 256 | 0.068 | +------------+---------+-------------------------------------+ | 1024 | 256 | 0.033 | +------------+---------+-------------------------------------+ | 1518 | 256 | 0.025 | +------------+---------+-------------------------------------+ Ubuntu 18.04 Kernel: 4.15.0-generic GCC: 7.4 NIC: Mellanox ConnectX-4 Lx 40000 Mbps Target: x86_64-native-linuxapp-gcc Fail/Total: 0/6 Detail performance results: +------------+---------+-------------------------------------+ | frame_size | txd/rxd | throughput difference from expected | +============+=========+=====================================+ | 64 | 256 | -0.575 | +------------+---------+-------------------------------------+ | 128 | 256 | -0.208 | +------------+---------+-------------------------------------+ | 256 | 256 | 0.145 | +------------+---------+-------------------------------------+ | 512 | 256 | 0.018 | +------------+---------+-------------------------------------+ | 1024 | 256 | 0 | +------------+---------+-------------------------------------+ | 1518 | 256 | 0.004 | +------------+---------+-------------------------------------+ Ubuntu 18.04 Kernel: 4.15.0-generic GCC: 7.4 NIC: Mellanox ConnectX-4 Lx 25000 Mbps Target: x86_64-native-linuxapp-gcc Fail/Total: 0/6 Detail performance results: +------------+---------+-------------------------------------+ | frame_size | txd/rxd | throughput difference from expected | +============+=========+=====================================+ | 64 | 256 | 0.120 | +------------+---------+-------------------------------------+ | 128 | 256 | -0.024 | +------------+---------+-------------------------------------+ | 256 | 256 | 0.014 | +------------+---------+-------------------------------------+ | 512 | 256 | 0.003 | +------------+---------+-------------------------------------+ | 1024 | 256 | 0.008 | +------------+---------+-------------------------------------+ | 1518 | 256 | -0.011 | +------------+---------+-------------------------------------+ https://lab.dpdk.org/results/dashboard/patchsets/8819/ UNH-IOL DPDK Performance Test Lab To manage your email subscriptions visit: https://lab.dpdk.org/results/dashboard/preferences/subscriptions/