Test-Label: checkpatch Test-Status: SUCCESS http://dpdk.org/patch/63609 _coding style OK_
[-- Attachment #1: Type: text/plain, Size: 1992 bytes --] Test-Label: iol-intel-Performance Test-Status: SUCCESS http://dpdk.org/patch/63609 _Performance Testing PASS_ Submitter: Guinan Sun <guinanx.sun@intel.com> Date: Friday, December 06 2019 15:41:18 DPDK git baseline: Repo:dpdk Branch: master CommitID:aef1d0733179afb56916e95058a4f1398b81af04 63609 --> performance testing pass Test environment and result as below: Ubuntu 18.04 Kernel: 4.15.0-generic GCC: 7.4 NIC: Intel Corporation Ethernet Converged Network Adapter 82599ES 10000 Mbps Target: x86_64-native-linuxapp-gcc Fail/Total: 0/3 Detail performance results: +------------+---------+-------------------------------------+ | frame_size | txd/rxd | throughput difference from expected | +============+=========+=====================================+ | 64 | 128 | 0.071 | +------------+---------+-------------------------------------+ | 64 | 512 | 0.178 | +------------+---------+-------------------------------------+ | 64 | 2048 | -0.073 | +------------+---------+-------------------------------------+ Ubuntu 18.04 Kernel: 4.15.0-generic GCC: 7.4 NIC: Intel Corporation Ethernet Converged Network Adapter XL710-QDA2 40000 Mbps Target: x86_64-native-linuxapp-gcc Fail/Total: 0/2 Detail performance results: +------------+---------+-------------------------------------+ | frame_size | txd/rxd | throughput difference from expected | +============+=========+=====================================+ | 64 | 512 | 0.326 | +------------+---------+-------------------------------------+ | 64 | 2048 | 0.143 | +------------+---------+-------------------------------------+ https://lab.dpdk.org/results/dashboard/patchsets/8823/ UNH-IOL DPDK Performance Test Lab To manage your email subscriptions visit: https://lab.dpdk.org/results/dashboard/preferences/subscriptions/
[-- Attachment #1: Type: text/plain, Size: 1649 bytes --] Test-Label: iol-testing Test-Status: SUCCESS http://dpdk.org/patch/63609 _Testing PASS_ Submitter: Guinan Sun <guinanx.sun@intel.com> Date: Friday, December 06 2019 15:41:18 DPDK git baseline: Repo:dpdk Branch: master CommitID:aef1d0733179afb56916e95058a4f1398b81af04 63609 --> testing pass Test environment and result as below: +--------------+--------------+------------------+--------------------+----------------+-------------------+ | Environment | dpdk_compile | dpdk_compile_ovs | dpdk_meson_compile | dpdk_unit_test | dpdk_compile_spdk | +==============+==============+==================+====================+================+===================+ | FreeBSD 11.2 | PASS | SKIPPED | PASS | SKIPPED | PASS | +--------------+--------------+------------------+--------------------+----------------+-------------------+ | Ubuntu 18.04 | PASS | PASS | PASS | PASS | PASS | +--------------+--------------+------------------+--------------------+----------------+-------------------+ | CentOS 8 | PASS | PASS | PASS | SKIPPED | SKIPPED | +--------------+--------------+------------------+--------------------+----------------+-------------------+ FreeBSD 11.2 Kernel: 11.2 GCC: 8.3 Ubuntu 18.04 Kernel: 4.15.0-generic GCC: 7.4 CentOS 8 Kernel: 4.18.0.el8_0 GCC: 8.2 https://lab.dpdk.org/results/dashboard/patchsets/8823/ UNH-IOL DPDK Performance Test Lab To manage your email subscriptions visit: https://lab.dpdk.org/results/dashboard/preferences/subscriptions/
[-- Attachment #1: Type: text/plain, Size: 3907 bytes --] Test-Label: iol-mellanox-Performance Test-Status: SUCCESS http://dpdk.org/patch/63609 _Performance Testing PASS_ Submitter: Guinan Sun <guinanx.sun@intel.com> Date: Friday, December 06 2019 15:41:18 DPDK git baseline: Repo:dpdk Branch: master CommitID:aef1d0733179afb56916e95058a4f1398b81af04 63609 --> performance testing pass Test environment and result as below: Ubuntu 18.04 Kernel: 4.15.0-generic GCC: 7.4 NIC: Mellanox ConnectX-4 Lx 25000 Mbps Target: x86_64-native-linuxapp-gcc Fail/Total: 0/6 Detail performance results: +------------+---------+-------------------------------------+ | frame_size | txd/rxd | throughput difference from expected | +============+=========+=====================================+ | 64 | 256 | 0.292 | +------------+---------+-------------------------------------+ | 128 | 256 | -0.009 | +------------+---------+-------------------------------------+ | 256 | 256 | 0.018 | +------------+---------+-------------------------------------+ | 512 | 256 | -0.001 | +------------+---------+-------------------------------------+ | 1024 | 256 | 0.002 | +------------+---------+-------------------------------------+ | 1518 | 256 | 0.013 | +------------+---------+-------------------------------------+ Ubuntu 18.04 Kernel: 4.15.0-generic GCC: 7.4 NIC: Mellanox ConnectX-5 100000 Mbps Target: x86_64-native-linuxapp-gcc Fail/Total: 0/6 Detail performance results: +------------+---------+-------------------------------------+ | frame_size | txd/rxd | throughput difference from expected | +============+=========+=====================================+ | 64 | 256 | -0.528 | +------------+---------+-------------------------------------+ | 128 | 256 | 0.170 | +------------+---------+-------------------------------------+ | 256 | 256 | -0.089 | +------------+---------+-------------------------------------+ | 512 | 256 | 0.067 | +------------+---------+-------------------------------------+ | 1024 | 256 | 0.010 | +------------+---------+-------------------------------------+ | 1518 | 256 | -0.013 | +------------+---------+-------------------------------------+ Ubuntu 18.04 Kernel: 4.15.0-generic GCC: 7.4 NIC: Mellanox ConnectX-4 Lx 40000 Mbps Target: x86_64-native-linuxapp-gcc Fail/Total: 0/6 Detail performance results: +------------+---------+-------------------------------------+ | frame_size | txd/rxd | throughput difference from expected | +============+=========+=====================================+ | 64 | 256 | -0.086 | +------------+---------+-------------------------------------+ | 128 | 256 | 0.012 | +------------+---------+-------------------------------------+ | 256 | 256 | -0.166 | +------------+---------+-------------------------------------+ | 512 | 256 | 0.019 | +------------+---------+-------------------------------------+ | 1024 | 256 | -0.008 | +------------+---------+-------------------------------------+ | 1518 | 256 | -0.004 | +------------+---------+-------------------------------------+ https://lab.dpdk.org/results/dashboard/patchsets/8823/ UNH-IOL DPDK Performance Test Lab To manage your email subscriptions visit: https://lab.dpdk.org/results/dashboard/preferences/subscriptions/