* [dpdk-test-report] |SUCCESS| pw63675 [PATCH] net/mlx5: fix eagain on admin down
[not found] <20191209182314.4698-1-mmanning@vyatta.att-mail.com>
@ 2019-12-09 18:24 ` checkpatch
2019-12-09 20:54 ` [dpdk-test-report] |WARNING| pw63675 " 0-day Robot
1 sibling, 0 replies; 4+ messages in thread
From: checkpatch @ 2019-12-09 18:24 UTC (permalink / raw)
To: test-report
Test-Label: checkpatch
Test-Status: SUCCESS
http://dpdk.org/patch/63675
_coding style OK_
^ permalink raw reply [flat|nested] 4+ messages in thread
* [dpdk-test-report] |WARNING| pw63675 net/mlx5: fix eagain on admin down
[not found] <20191209182314.4698-1-mmanning@vyatta.att-mail.com>
2019-12-09 18:24 ` [dpdk-test-report] |SUCCESS| pw63675 [PATCH] net/mlx5: fix eagain on admin down checkpatch
@ 2019-12-09 20:54 ` 0-day Robot
1 sibling, 0 replies; 4+ messages in thread
From: 0-day Robot @ 2019-12-09 20:54 UTC (permalink / raw)
To: test-report; +Cc: mmanning, robot
From: robot@bytheb.org
Test-Label: travis-robot
Test-Status: WARNING
http://dpdk.org/patch/63675
_Travis build: failed_
Build URL: https://travis-ci.com/ovsrobot/dpdk/builds/140292181
^ permalink raw reply [flat|nested] 4+ messages in thread
* [dpdk-test-report] |SUCCESS| pw63675 [PATCH] net/mlx5: fix eagain on admin down
@ 2019-12-09 19:22 dpdklab
0 siblings, 0 replies; 4+ messages in thread
From: dpdklab @ 2019-12-09 19:22 UTC (permalink / raw)
To: Ali Alnubani, Test Report; +Cc: dpdk-test-reports
[-- Attachment #1: Type: text/plain, Size: 3916 bytes --]
Test-Label: iol-mellanox-Performance
Test-Status: SUCCESS
http://dpdk.org/patch/63675
_Performance Testing PASS_
Submitter: Mike Manning <mmanning@vyatta.att-mail.com>
Date: Monday, December 09 2019 18:23:14
DPDK git baseline: Repo:dpdk
Branch: master
CommitID:aef1d0733179afb56916e95058a4f1398b81af04
63675 --> performance testing pass
Test environment and result as below:
Ubuntu 18.04
Kernel: 4.15.0-generic
GCC: 7.4
NIC: Mellanox ConnectX-5 100000 Mbps
Target: x86_64-native-linuxapp-gcc
Fail/Total: 0/6
Detail performance results:
+------------+---------+-------------------------------------+
| frame_size | txd/rxd | throughput difference from expected |
+============+=========+=====================================+
| 64 | 256 | -0.382 |
+------------+---------+-------------------------------------+
| 128 | 256 | 0.024 |
+------------+---------+-------------------------------------+
| 256 | 256 | -0.079 |
+------------+---------+-------------------------------------+
| 512 | 256 | 0.243 |
+------------+---------+-------------------------------------+
| 1024 | 256 | -0.055 |
+------------+---------+-------------------------------------+
| 1518 | 256 | -0.034 |
+------------+---------+-------------------------------------+
Ubuntu 18.04
Kernel: 4.15.0-generic
GCC: 7.4
NIC: Mellanox ConnectX-4 Lx 40000 Mbps
Target: x86_64-native-linuxapp-gcc
Fail/Total: 0/6
Detail performance results:
+------------+---------+-------------------------------------+
| frame_size | txd/rxd | throughput difference from expected |
+============+=========+=====================================+
| 64 | 256 | 0.276 |
+------------+---------+-------------------------------------+
| 128 | 256 | -0.413 |
+------------+---------+-------------------------------------+
| 256 | 256 | 0.010 |
+------------+---------+-------------------------------------+
| 512 | 256 | 0.039 |
+------------+---------+-------------------------------------+
| 1024 | 256 | 0.006 |
+------------+---------+-------------------------------------+
| 1518 | 256 | -0.009 |
+------------+---------+-------------------------------------+
Ubuntu 18.04
Kernel: 4.15.0-generic
GCC: 7.4
NIC: Mellanox ConnectX-4 Lx 25000 Mbps
Target: x86_64-native-linuxapp-gcc
Fail/Total: 0/6
Detail performance results:
+------------+---------+-------------------------------------+
| frame_size | txd/rxd | throughput difference from expected |
+============+=========+=====================================+
| 64 | 256 | 0.311 |
+------------+---------+-------------------------------------+
| 128 | 256 | -0.158 |
+------------+---------+-------------------------------------+
| 256 | 256 | -0.027 |
+------------+---------+-------------------------------------+
| 512 | 256 | 0.005 |
+------------+---------+-------------------------------------+
| 1024 | 256 | 0.004 |
+------------+---------+-------------------------------------+
| 1518 | 256 | 0.001 |
+------------+---------+-------------------------------------+
https://lab.dpdk.org/results/dashboard/patchsets/8839/
UNH-IOL DPDK Performance Test Lab
To manage your email subscriptions visit:
https://lab.dpdk.org/results/dashboard/preferences/subscriptions/
^ permalink raw reply [flat|nested] 4+ messages in thread
* [dpdk-test-report] |SUCCESS| pw63675 [PATCH] net/mlx5: fix eagain on admin down
@ 2019-12-09 19:00 dpdklab
0 siblings, 0 replies; 4+ messages in thread
From: dpdklab @ 2019-12-09 19:00 UTC (permalink / raw)
To: Test Report; +Cc: dpdk-test-reports
[-- Attachment #1: Type: text/plain, Size: 1658 bytes --]
Test-Label: iol-testing
Test-Status: SUCCESS
http://dpdk.org/patch/63675
_Testing PASS_
Submitter: Mike Manning <mmanning@vyatta.att-mail.com>
Date: Monday, December 09 2019 18:23:14
DPDK git baseline: Repo:dpdk
Branch: master
CommitID:aef1d0733179afb56916e95058a4f1398b81af04
63675 --> testing pass
Test environment and result as below:
+--------------+--------------+--------------------+------------------+----------------+-------------------+
| Environment | dpdk_compile | dpdk_meson_compile | dpdk_compile_ovs | dpdk_unit_test | dpdk_compile_spdk |
+==============+==============+====================+==================+================+===================+
| Ubuntu 18.04 | PASS | PASS | PASS | PASS | PASS |
+--------------+--------------+--------------------+------------------+----------------+-------------------+
| FreeBSD 11.2 | PASS | PASS | SKIPPED | SKIPPED | PASS |
+--------------+--------------+--------------------+------------------+----------------+-------------------+
| CentOS 8 | PASS | PASS | PASS | SKIPPED | SKIPPED |
+--------------+--------------+--------------------+------------------+----------------+-------------------+
Ubuntu 18.04
Kernel: 4.15.0-generic
GCC: 7.4
FreeBSD 11.2
Kernel: 11.2
GCC: 8.3
CentOS 8
Kernel: 4.18.0.el8_0
GCC: 8.2
https://lab.dpdk.org/results/dashboard/patchsets/8839/
UNH-IOL DPDK Performance Test Lab
To manage your email subscriptions visit:
https://lab.dpdk.org/results/dashboard/preferences/subscriptions/
^ permalink raw reply [flat|nested] 4+ messages in thread
end of thread, other threads:[~2019-12-09 20:56 UTC | newest]
Thread overview: 4+ messages (download: mbox.gz / follow: Atom feed)
-- links below jump to the message on this page --
[not found] <20191209182314.4698-1-mmanning@vyatta.att-mail.com>
2019-12-09 18:24 ` [dpdk-test-report] |SUCCESS| pw63675 [PATCH] net/mlx5: fix eagain on admin down checkpatch
2019-12-09 20:54 ` [dpdk-test-report] |WARNING| pw63675 " 0-day Robot
2019-12-09 19:00 [dpdk-test-report] |SUCCESS| pw63675 [PATCH] " dpdklab
2019-12-09 19:22 dpdklab
This is a public inbox, see mirroring instructions
for how to clone and mirror all data and code used for this inbox;
as well as URLs for NNTP newsgroup(s).