* [dpdk-test-report] |SUCCESS| pw63665 [PATCH] [v1] net/virtio-user: fix packed ring server mode
@ 2019-12-09 20:41 dpdklab
0 siblings, 0 replies; 4+ messages in thread
From: dpdklab @ 2019-12-09 20:41 UTC (permalink / raw)
To: Ali Alnubani, Test Report; +Cc: dpdk-test-reports
[-- Attachment #1: Type: text/plain, Size: 3904 bytes --]
Test-Label: iol-mellanox-Performance
Test-Status: SUCCESS
http://dpdk.org/patch/63665
_Performance Testing PASS_
Submitter: Xuan Ding <xuan.ding@intel.com>
Date: Monday, December 09 2019 16:49:38
DPDK git baseline: Repo:dpdk
Branch: master
CommitID:aef1d0733179afb56916e95058a4f1398b81af04
63665 --> performance testing pass
Test environment and result as below:
Ubuntu 18.04
Kernel: 4.15.0-generic
GCC: 7.4
NIC: Mellanox ConnectX-5 100000 Mbps
Target: x86_64-native-linuxapp-gcc
Fail/Total: 0/6
Detail performance results:
+------------+---------+-------------------------------------+
| frame_size | txd/rxd | throughput difference from expected |
+============+=========+=====================================+
| 64 | 256 | -0.347 |
+------------+---------+-------------------------------------+
| 128 | 256 | 0.227 |
+------------+---------+-------------------------------------+
| 256 | 256 | 0.051 |
+------------+---------+-------------------------------------+
| 512 | 256 | 0.150 |
+------------+---------+-------------------------------------+
| 1024 | 256 | -0.073 |
+------------+---------+-------------------------------------+
| 1518 | 256 | -0.004 |
+------------+---------+-------------------------------------+
Ubuntu 18.04
Kernel: 4.15.0-generic
GCC: 7.4
NIC: Mellanox ConnectX-4 Lx 25000 Mbps
Target: x86_64-native-linuxapp-gcc
Fail/Total: 0/6
Detail performance results:
+------------+---------+-------------------------------------+
| frame_size | txd/rxd | throughput difference from expected |
+============+=========+=====================================+
| 64 | 256 | 0.258 |
+------------+---------+-------------------------------------+
| 128 | 256 | 0.088 |
+------------+---------+-------------------------------------+
| 256 | 256 | -0.010 |
+------------+---------+-------------------------------------+
| 512 | 256 | 0.019 |
+------------+---------+-------------------------------------+
| 1024 | 256 | 0.002 |
+------------+---------+-------------------------------------+
| 1518 | 256 | 0.004 |
+------------+---------+-------------------------------------+
Ubuntu 18.04
Kernel: 4.15.0-generic
GCC: 7.4
NIC: Mellanox ConnectX-4 Lx 40000 Mbps
Target: x86_64-native-linuxapp-gcc
Fail/Total: 0/6
Detail performance results:
+------------+---------+-------------------------------------+
| frame_size | txd/rxd | throughput difference from expected |
+============+=========+=====================================+
| 64 | 256 | 0.289 |
+------------+---------+-------------------------------------+
| 128 | 256 | -0.109 |
+------------+---------+-------------------------------------+
| 256 | 256 | -0.029 |
+------------+---------+-------------------------------------+
| 512 | 256 | 0.030 |
+------------+---------+-------------------------------------+
| 1024 | 256 | -0.003 |
+------------+---------+-------------------------------------+
| 1518 | 256 | 0 |
+------------+---------+-------------------------------------+
https://lab.dpdk.org/results/dashboard/patchsets/8835/
UNH-IOL DPDK Performance Test Lab
To manage your email subscriptions visit:
https://lab.dpdk.org/results/dashboard/preferences/subscriptions/
^ permalink raw reply [flat|nested] 4+ messages in thread
* [dpdk-test-report] |SUCCESS| pw63665 [PATCH] [v1] net/virtio-user: fix packed ring server mode
@ 2019-12-09 19:35 dpdklab
0 siblings, 0 replies; 4+ messages in thread
From: dpdklab @ 2019-12-09 19:35 UTC (permalink / raw)
To: Test Report; +Cc: dpdk-test-reports
[-- Attachment #1: Type: text/plain, Size: 1646 bytes --]
Test-Label: iol-testing
Test-Status: SUCCESS
http://dpdk.org/patch/63665
_Testing PASS_
Submitter: Xuan Ding <xuan.ding@intel.com>
Date: Monday, December 09 2019 16:49:38
DPDK git baseline: Repo:dpdk
Branch: master
CommitID:aef1d0733179afb56916e95058a4f1398b81af04
63665 --> testing pass
Test environment and result as below:
+--------------+--------------------+--------------+-------------------+----------------+------------------+
| Environment | dpdk_meson_compile | dpdk_compile | dpdk_compile_spdk | dpdk_unit_test | dpdk_compile_ovs |
+==============+====================+==============+===================+================+==================+
| Ubuntu 18.04 | PASS | PASS | PASS | PASS | PASS |
+--------------+--------------------+--------------+-------------------+----------------+------------------+
| FreeBSD 11.2 | PASS | PASS | PASS | SKIPPED | SKIPPED |
+--------------+--------------------+--------------+-------------------+----------------+------------------+
| CentOS 8 | PASS | PASS | SKIPPED | SKIPPED | PASS |
+--------------+--------------------+--------------+-------------------+----------------+------------------+
Ubuntu 18.04
Kernel: 4.15.0-generic
GCC: 7.4
FreeBSD 11.2
Kernel: 11.2
GCC: 8.3
CentOS 8
Kernel: 4.18.0.el8_0
GCC: 8.2
https://lab.dpdk.org/results/dashboard/patchsets/8835/
UNH-IOL DPDK Performance Test Lab
To manage your email subscriptions visit:
https://lab.dpdk.org/results/dashboard/preferences/subscriptions/
^ permalink raw reply [flat|nested] 4+ messages in thread
* [dpdk-test-report] |SUCCESS| pw63665 [PATCH] [v1] net/virtio-user: fix packed ring server mode
@ 2019-12-09 19:28 dpdklab
0 siblings, 0 replies; 4+ messages in thread
From: dpdklab @ 2019-12-09 19:28 UTC (permalink / raw)
To: Test Report; +Cc: dpdk-test-reports
[-- Attachment #1: Type: text/plain, Size: 1989 bytes --]
Test-Label: iol-intel-Performance
Test-Status: SUCCESS
http://dpdk.org/patch/63665
_Performance Testing PASS_
Submitter: Xuan Ding <xuan.ding@intel.com>
Date: Monday, December 09 2019 16:49:38
DPDK git baseline: Repo:dpdk
Branch: master
CommitID:aef1d0733179afb56916e95058a4f1398b81af04
63665 --> performance testing pass
Test environment and result as below:
Ubuntu 18.04
Kernel: 4.15.0-generic
GCC: 7.4
NIC: Intel Corporation Ethernet Converged Network Adapter XL710-QDA2 40000 Mbps
Target: x86_64-native-linuxapp-gcc
Fail/Total: 0/2
Detail performance results:
+------------+---------+-------------------------------------+
| frame_size | txd/rxd | throughput difference from expected |
+============+=========+=====================================+
| 64 | 512 | -0.778 |
+------------+---------+-------------------------------------+
| 64 | 2048 | 0.263 |
+------------+---------+-------------------------------------+
Ubuntu 18.04
Kernel: 4.15.0-generic
GCC: 7.4
NIC: Intel Corporation Ethernet Converged Network Adapter 82599ES 10000 Mbps
Target: x86_64-native-linuxapp-gcc
Fail/Total: 0/3
Detail performance results:
+------------+---------+-------------------------------------+
| frame_size | txd/rxd | throughput difference from expected |
+============+=========+=====================================+
| 64 | 128 | -0.016 |
+------------+---------+-------------------------------------+
| 64 | 512 | -0.098 |
+------------+---------+-------------------------------------+
| 64 | 2048 | -0.091 |
+------------+---------+-------------------------------------+
https://lab.dpdk.org/results/dashboard/patchsets/8835/
UNH-IOL DPDK Performance Test Lab
To manage your email subscriptions visit:
https://lab.dpdk.org/results/dashboard/preferences/subscriptions/
^ permalink raw reply [flat|nested] 4+ messages in thread
* [dpdk-test-report] |SUCCESS| pw63665 [PATCH v1] net/virtio-user: fix packed ring server mode
[not found] <20191209164939.54806-1-xuan.ding@intel.com>
@ 2019-12-09 7:55 ` checkpatch
0 siblings, 0 replies; 4+ messages in thread
From: checkpatch @ 2019-12-09 7:55 UTC (permalink / raw)
To: test-report
Test-Label: checkpatch
Test-Status: SUCCESS
http://dpdk.org/patch/63665
_coding style OK_
^ permalink raw reply [flat|nested] 4+ messages in thread
end of thread, other threads:[~2019-12-09 20:41 UTC | newest]
Thread overview: 4+ messages (download: mbox.gz / follow: Atom feed)
-- links below jump to the message on this page --
2019-12-09 20:41 [dpdk-test-report] |SUCCESS| pw63665 [PATCH] [v1] net/virtio-user: fix packed ring server mode dpdklab
-- strict thread matches above, loose matches on Subject: below --
2019-12-09 19:35 dpdklab
2019-12-09 19:28 dpdklab
[not found] <20191209164939.54806-1-xuan.ding@intel.com>
2019-12-09 7:55 ` [dpdk-test-report] |SUCCESS| pw63665 [PATCH v1] " checkpatch
This is a public inbox, see mirroring instructions
for how to clone and mirror all data and code used for this inbox;
as well as URLs for NNTP newsgroup(s).