* [dpdk-test-report] |SUCCESS| pw63732 [PATCH] net/ixgbevf: prevent duplicate default mac filter entries
@ 2019-12-11 21:05 dpdklab
0 siblings, 0 replies; 4+ messages in thread
From: dpdklab @ 2019-12-11 21:05 UTC (permalink / raw)
To: Test Report; +Cc: dpdk-test-reports
[-- Attachment #1: Type: text/plain, Size: 1338 bytes --]
Test-Label: iol-intel-Performance
Test-Status: SUCCESS
http://dpdk.org/patch/63732
_Performance Testing PASS_
Submitter: David Harton <dharton@cisco.com>
Date: Wednesday, December 11 2019 02:11:33
DPDK git baseline: Repo:dpdk
Branch: master
CommitID:aef1d0733179afb56916e95058a4f1398b81af04
63732 --> performance testing pass
Test environment and result as below:
Ubuntu 18.04
Kernel: 4.15.0-generic
GCC: 7.4
NIC: Intel Corporation Ethernet Converged Network Adapter 82599ES 10000 Mbps
Target: x86_64-native-linuxapp-gcc
Fail/Total: 0/3
Detail performance results:
+------------+---------+-------------------------------------+
| frame_size | txd/rxd | throughput difference from expected |
+============+=========+=====================================+
| 64 | 128 | -0.276 |
+------------+---------+-------------------------------------+
| 64 | 512 | 0.143 |
+------------+---------+-------------------------------------+
| 64 | 2048 | -0.099 |
+------------+---------+-------------------------------------+
https://lab.dpdk.org/results/dashboard/patchsets/8861/
UNH-IOL DPDK Community Lab
To manage your email subscriptions visit:
https://lab.dpdk.org/results/dashboard/preferences/subscriptions/
^ permalink raw reply [flat|nested] 4+ messages in thread
* [dpdk-test-report] |SUCCESS| pw63732 [PATCH] net/ixgbevf: prevent duplicate default mac filter entries
@ 2019-12-11 3:07 dpdklab
0 siblings, 0 replies; 4+ messages in thread
From: dpdklab @ 2019-12-11 3:07 UTC (permalink / raw)
To: Ali Alnubani, Test Report; +Cc: dpdk-test-reports
[-- Attachment #1: Type: text/plain, Size: 3901 bytes --]
Test-Label: iol-mellanox-Performance
Test-Status: SUCCESS
http://dpdk.org/patch/63732
_Performance Testing PASS_
Submitter: David Harton <dharton@cisco.com>
Date: Wednesday, December 11 2019 02:11:33
DPDK git baseline: Repo:dpdk
Branch: master
CommitID:aef1d0733179afb56916e95058a4f1398b81af04
63732 --> performance testing pass
Test environment and result as below:
Ubuntu 18.04
Kernel: 4.15.0-generic
GCC: 7.4
NIC: Mellanox ConnectX-4 Lx 25000 Mbps
Target: x86_64-native-linuxapp-gcc
Fail/Total: 0/6
Detail performance results:
+------------+---------+-------------------------------------+
| frame_size | txd/rxd | throughput difference from expected |
+============+=========+=====================================+
| 64 | 256 | 0.203 |
+------------+---------+-------------------------------------+
| 128 | 256 | 0.165 |
+------------+---------+-------------------------------------+
| 256 | 256 | -0.011 |
+------------+---------+-------------------------------------+
| 512 | 256 | 0.033 |
+------------+---------+-------------------------------------+
| 1024 | 256 | 0.009 |
+------------+---------+-------------------------------------+
| 1518 | 256 | 0.010 |
+------------+---------+-------------------------------------+
Ubuntu 18.04
Kernel: 4.15.0-generic
GCC: 7.4
NIC: Mellanox ConnectX-5 100000 Mbps
Target: x86_64-native-linuxapp-gcc
Fail/Total: 0/6
Detail performance results:
+------------+---------+-------------------------------------+
| frame_size | txd/rxd | throughput difference from expected |
+============+=========+=====================================+
| 64 | 256 | -0.568 |
+------------+---------+-------------------------------------+
| 128 | 256 | 0.262 |
+------------+---------+-------------------------------------+
| 256 | 256 | 0.077 |
+------------+---------+-------------------------------------+
| 512 | 256 | 0.190 |
+------------+---------+-------------------------------------+
| 1024 | 256 | -0.036 |
+------------+---------+-------------------------------------+
| 1518 | 256 | 0.010 |
+------------+---------+-------------------------------------+
Ubuntu 18.04
Kernel: 4.15.0-generic
GCC: 7.4
NIC: Mellanox ConnectX-4 Lx 40000 Mbps
Target: x86_64-native-linuxapp-gcc
Fail/Total: 0/6
Detail performance results:
+------------+---------+-------------------------------------+
| frame_size | txd/rxd | throughput difference from expected |
+============+=========+=====================================+
| 64 | 256 | 0.270 |
+------------+---------+-------------------------------------+
| 128 | 256 | 0.083 |
+------------+---------+-------------------------------------+
| 256 | 256 | -0.050 |
+------------+---------+-------------------------------------+
| 512 | 256 | 0.028 |
+------------+---------+-------------------------------------+
| 1024 | 256 | -0.027 |
+------------+---------+-------------------------------------+
| 1518 | 256 | -0.011 |
+------------+---------+-------------------------------------+
https://lab.dpdk.org/results/dashboard/patchsets/8861/
UNH-IOL DPDK Community Lab
To manage your email subscriptions visit:
https://lab.dpdk.org/results/dashboard/preferences/subscriptions/
^ permalink raw reply [flat|nested] 4+ messages in thread
* [dpdk-test-report] |SUCCESS| pw63732 [PATCH] net/ixgbevf: prevent duplicate default mac filter entries
@ 2019-12-11 2:45 dpdklab
0 siblings, 0 replies; 4+ messages in thread
From: dpdklab @ 2019-12-11 2:45 UTC (permalink / raw)
To: Test Report; +Cc: dpdk-test-reports
[-- Attachment #1: Type: text/plain, Size: 1643 bytes --]
Test-Label: iol-testing
Test-Status: SUCCESS
http://dpdk.org/patch/63732
_Testing PASS_
Submitter: David Harton <dharton@cisco.com>
Date: Wednesday, December 11 2019 02:11:33
DPDK git baseline: Repo:dpdk
Branch: master
CommitID:aef1d0733179afb56916e95058a4f1398b81af04
63732 --> testing pass
Test environment and result as below:
+--------------+--------------+--------------------+------------------+----------------+-------------------+
| Environment | dpdk_compile | dpdk_meson_compile | dpdk_compile_ovs | dpdk_unit_test | dpdk_compile_spdk |
+==============+==============+====================+==================+================+===================+
| Ubuntu 18.04 | PASS | PASS | PASS | PASS | PASS |
+--------------+--------------+--------------------+------------------+----------------+-------------------+
| FreeBSD 11.2 | PASS | PASS | SKIPPED | SKIPPED | PASS |
+--------------+--------------+--------------------+------------------+----------------+-------------------+
| CentOS 8 | PASS | PASS | PASS | SKIPPED | SKIPPED |
+--------------+--------------+--------------------+------------------+----------------+-------------------+
Ubuntu 18.04
Kernel: 4.15.0-generic
GCC: 7.4
FreeBSD 11.2
Kernel: 11.2
GCC: 8.3
CentOS 8
Kernel: 4.18.0.el8_0
GCC: 8.2
https://lab.dpdk.org/results/dashboard/patchsets/8861/
UNH-IOL DPDK Community Lab
To manage your email subscriptions visit:
https://lab.dpdk.org/results/dashboard/preferences/subscriptions/
^ permalink raw reply [flat|nested] 4+ messages in thread
[parent not found: <20191211021133.11342-1-dharton@cisco.com>]
end of thread, other threads:[~2019-12-11 21:05 UTC | newest]
Thread overview: 4+ messages (download: mbox.gz / follow: Atom feed)
-- links below jump to the message on this page --
2019-12-11 21:05 [dpdk-test-report] |SUCCESS| pw63732 [PATCH] net/ixgbevf: prevent duplicate default mac filter entries dpdklab
-- strict thread matches above, loose matches on Subject: below --
2019-12-11 3:07 dpdklab
2019-12-11 2:45 dpdklab
[not found] <20191211021133.11342-1-dharton@cisco.com>
2019-12-11 2:12 ` checkpatch
This is a public inbox, see mirroring instructions
for how to clone and mirror all data and code used for this inbox;
as well as URLs for NNTP newsgroup(s).