* [dpdk-test-report] |SUCCESS| pw63877 [PATCH] net/virtio-user: fix return value of tap offload sets not checked
[not found] <1576458195-27980-1-git-send-email-wangyunjian@huawei.com>
@ 2019-12-16 1:03 ` checkpatch
2019-12-16 3:55 ` [dpdk-test-report] |WARNING| pw63877 " 0-day Robot
2019-12-16 4:55 ` 0-day Robot
2 siblings, 0 replies; 6+ messages in thread
From: checkpatch @ 2019-12-16 1:03 UTC (permalink / raw)
To: test-report
Test-Label: checkpatch
Test-Status: SUCCESS
http://dpdk.org/patch/63877
_coding style OK_
^ permalink raw reply [flat|nested] 6+ messages in thread
* [dpdk-test-report] |WARNING| pw63877 net/virtio-user: fix return value of tap offload sets not checked
[not found] <1576458195-27980-1-git-send-email-wangyunjian@huawei.com>
2019-12-16 1:03 ` [dpdk-test-report] |SUCCESS| pw63877 [PATCH] net/virtio-user: fix return value of tap offload sets not checked checkpatch
@ 2019-12-16 3:55 ` 0-day Robot
2019-12-16 4:55 ` 0-day Robot
2 siblings, 0 replies; 6+ messages in thread
From: 0-day Robot @ 2019-12-16 3:55 UTC (permalink / raw)
To: test-report; +Cc: wangyunjian, robot
From: robot@bytheb.org
Test-Label: travis-robot
Test-Status: WARNING
http://dpdk.org/patch/63877
_Travis build: failed_
Build URL: https://travis-ci.com/ovsrobot/dpdk/builds/141147803
^ permalink raw reply [flat|nested] 6+ messages in thread
* [dpdk-test-report] |WARNING| pw63877 net/virtio-user: fix return value of tap offload sets not checked
[not found] <1576458195-27980-1-git-send-email-wangyunjian@huawei.com>
2019-12-16 1:03 ` [dpdk-test-report] |SUCCESS| pw63877 [PATCH] net/virtio-user: fix return value of tap offload sets not checked checkpatch
2019-12-16 3:55 ` [dpdk-test-report] |WARNING| pw63877 " 0-day Robot
@ 2019-12-16 4:55 ` 0-day Robot
2 siblings, 0 replies; 6+ messages in thread
From: 0-day Robot @ 2019-12-16 4:55 UTC (permalink / raw)
To: test-report; +Cc: wangyunjian, robot
From: robot@bytheb.org
Test-Label: travis-robot
Test-Status: WARNING
http://dpdk.org/patch/63877
_Travis build: failed_
Build URL: https://travis-ci.com/ovsrobot/dpdk/builds/141147803
^ permalink raw reply [flat|nested] 6+ messages in thread
* [dpdk-test-report] |SUCCESS| pw63877 [PATCH] net/virtio-user: fix return value of tap offload sets not checked
@ 2019-12-17 1:21 dpdklab
0 siblings, 0 replies; 6+ messages in thread
From: dpdklab @ 2019-12-17 1:21 UTC (permalink / raw)
To: Ali Alnubani, Test Report; +Cc: dpdk-test-reports
[-- Attachment #1: Type: text/plain, Size: 3902 bytes --]
Test-Label: iol-mellanox-Performance
Test-Status: SUCCESS
http://dpdk.org/patch/63877
_Performance Testing PASS_
Submitter: wangyunjian <wangyunjian@huawei.com>
Date: Monday, December 16 2019 01:03:15
DPDK git baseline: Repo:dpdk
Branch: master
CommitID:c3e89f69facbbfe131b6a6723665d48801ac943d
63877 --> performance testing pass
Test environment and result as below:
Ubuntu 18.04
Kernel: 4.15.0-generic
GCC: 7.4
NIC: Mellanox ConnectX-5 100000 Mbps
Target: x86_64-native-linuxapp-gcc
Fail/Total: 0/6
Detail performance results:
+------------+---------+-------------------------------------+
| frame_size | txd/rxd | throughput difference from expected |
+============+=========+=====================================+
| 64 | 256 | -0.059 |
+------------+---------+-------------------------------------+
| 128 | 256 | -0.151 |
+------------+---------+-------------------------------------+
| 256 | 256 | 0.016 |
+------------+---------+-------------------------------------+
| 512 | 256 | -0.046 |
+------------+---------+-------------------------------------+
| 1024 | 256 | 0.008 |
+------------+---------+-------------------------------------+
| 1518 | 256 | 0.015 |
+------------+---------+-------------------------------------+
Ubuntu 18.04
Kernel: 4.15.0-generic
GCC: 7.4
NIC: Mellanox ConnectX-4 Lx 25000 Mbps
Target: x86_64-native-linuxapp-gcc
Fail/Total: 0/6
Detail performance results:
+------------+---------+-------------------------------------+
| frame_size | txd/rxd | throughput difference from expected |
+============+=========+=====================================+
| 64 | 256 | 0.032 |
+------------+---------+-------------------------------------+
| 128 | 256 | 0.046 |
+------------+---------+-------------------------------------+
| 256 | 256 | 0.005 |
+------------+---------+-------------------------------------+
| 512 | 256 | 0.012 |
+------------+---------+-------------------------------------+
| 1024 | 256 | 0 |
+------------+---------+-------------------------------------+
| 1518 | 256 | 0 |
+------------+---------+-------------------------------------+
Ubuntu 18.04
Kernel: 4.15.0-generic
GCC: 7.4
NIC: Mellanox ConnectX-4 Lx 40000 Mbps
Target: x86_64-native-linuxapp-gcc
Fail/Total: 0/6
Detail performance results:
+------------+---------+-------------------------------------+
| frame_size | txd/rxd | throughput difference from expected |
+============+=========+=====================================+
| 64 | 256 | 0.367 |
+------------+---------+-------------------------------------+
| 128 | 256 | 0.221 |
+------------+---------+-------------------------------------+
| 256 | 256 | -0.118 |
+------------+---------+-------------------------------------+
| 512 | 256 | 0.005 |
+------------+---------+-------------------------------------+
| 1024 | 256 | -0.016 |
+------------+---------+-------------------------------------+
| 1518 | 256 | -0.020 |
+------------+---------+-------------------------------------+
https://lab.dpdk.org/results/dashboard/patchsets/8913/
UNH-IOL DPDK Community Lab
To manage your email subscriptions visit:
https://lab.dpdk.org/results/dashboard/preferences/subscriptions/
^ permalink raw reply [flat|nested] 6+ messages in thread
* [dpdk-test-report] |SUCCESS| pw63877 [PATCH] net/virtio-user: fix return value of tap offload sets not checked
@ 2019-12-16 20:00 dpdklab
0 siblings, 0 replies; 6+ messages in thread
From: dpdklab @ 2019-12-16 20:00 UTC (permalink / raw)
To: Test Report; +Cc: dpdk-test-reports
[-- Attachment #1: Type: text/plain, Size: 1644 bytes --]
Test-Label: iol-testing
Test-Status: SUCCESS
http://dpdk.org/patch/63877
_Testing PASS_
Submitter: wangyunjian <wangyunjian@huawei.com>
Date: Monday, December 16 2019 01:03:15
DPDK git baseline: Repo:dpdk
Branch: master
CommitID:c3e89f69facbbfe131b6a6723665d48801ac943d
63877 --> testing pass
Test environment and result as below:
+--------------+------------------+-------------------+--------------+----------------+--------------------+
| Environment | dpdk_compile_ovs | dpdk_compile_spdk | dpdk_compile | dpdk_unit_test | dpdk_meson_compile |
+==============+==================+===================+==============+================+====================+
| Ubuntu 18.04 | PASS | SKIPPED | PASS | PASS | PASS |
+--------------+------------------+-------------------+--------------+----------------+--------------------+
| CentOS 8 | PASS | SKIPPED | PASS | SKIPPED | PASS |
+--------------+------------------+-------------------+--------------+----------------+--------------------+
| FreeBSD 11.2 | SKIPPED | PASS | PASS | SKIPPED | PASS |
+--------------+------------------+-------------------+--------------+----------------+--------------------+
Ubuntu 18.04
Kernel: 4.15.0-generic
GCC: 7.4
CentOS 8
Kernel: 4.18.0.el8_0
GCC: 8.2
FreeBSD 11.2
Kernel: 11.2
GCC: 8.3
https://lab.dpdk.org/results/dashboard/patchsets/8913/
UNH-IOL DPDK Community Lab
To manage your email subscriptions visit:
https://lab.dpdk.org/results/dashboard/preferences/subscriptions/
^ permalink raw reply [flat|nested] 6+ messages in thread
* [dpdk-test-report] |SUCCESS| pw63877 [PATCH] net/virtio-user: fix return value of tap offload sets not checked
@ 2019-12-16 19:55 dpdklab
0 siblings, 0 replies; 6+ messages in thread
From: dpdklab @ 2019-12-16 19:55 UTC (permalink / raw)
To: Test Report; +Cc: dpdk-test-reports
[-- Attachment #1: Type: text/plain, Size: 1987 bytes --]
Test-Label: iol-intel-Performance
Test-Status: SUCCESS
http://dpdk.org/patch/63877
_Performance Testing PASS_
Submitter: wangyunjian <wangyunjian@huawei.com>
Date: Monday, December 16 2019 01:03:15
DPDK git baseline: Repo:dpdk
Branch: master
CommitID:c3e89f69facbbfe131b6a6723665d48801ac943d
63877 --> performance testing pass
Test environment and result as below:
Ubuntu 18.04
Kernel: 4.15.0-generic
GCC: 7.4
NIC: Intel Corporation Ethernet Converged Network Adapter 82599ES 10000 Mbps
Target: x86_64-native-linuxapp-gcc
Fail/Total: 0/3
Detail performance results:
+------------+---------+-------------------------------------+
| frame_size | txd/rxd | throughput difference from expected |
+============+=========+=====================================+
| 64 | 128 | -0.233 |
+------------+---------+-------------------------------------+
| 64 | 512 | 0.014 |
+------------+---------+-------------------------------------+
| 64 | 2048 | -0.109 |
+------------+---------+-------------------------------------+
Ubuntu 18.04
Kernel: 4.15.0-generic
GCC: 7.4
NIC: Intel Corporation Ethernet Converged Network Adapter XL710-QDA2 40000 Mbps
Target: x86_64-native-linuxapp-gcc
Fail/Total: 0/2
Detail performance results:
+------------+---------+-------------------------------------+
| frame_size | txd/rxd | throughput difference from expected |
+============+=========+=====================================+
| 64 | 512 | 0.284 |
+------------+---------+-------------------------------------+
| 64 | 2048 | 0.477 |
+------------+---------+-------------------------------------+
https://lab.dpdk.org/results/dashboard/patchsets/8913/
UNH-IOL DPDK Community Lab
To manage your email subscriptions visit:
https://lab.dpdk.org/results/dashboard/preferences/subscriptions/
^ permalink raw reply [flat|nested] 6+ messages in thread
end of thread, other threads:[~2019-12-17 1:21 UTC | newest]
Thread overview: 6+ messages (download: mbox.gz / follow: Atom feed)
-- links below jump to the message on this page --
[not found] <1576458195-27980-1-git-send-email-wangyunjian@huawei.com>
2019-12-16 1:03 ` [dpdk-test-report] |SUCCESS| pw63877 [PATCH] net/virtio-user: fix return value of tap offload sets not checked checkpatch
2019-12-16 3:55 ` [dpdk-test-report] |WARNING| pw63877 " 0-day Robot
2019-12-16 4:55 ` 0-day Robot
2019-12-16 19:55 [dpdk-test-report] |SUCCESS| pw63877 [PATCH] " dpdklab
2019-12-16 20:00 dpdklab
2019-12-17 1:21 dpdklab
This is a public inbox, see mirroring instructions
for how to clone and mirror all data and code used for this inbox;
as well as URLs for NNTP newsgroup(s).