[-- Attachment #1: Type: text/plain, Size: 1776 bytes --] _Performance Testing PASS_ Branch: dpdk-next-net-mlx e414b6b953e9c9b5fbf3584757585934be20e314 --> performance testing pass Test environment and result as below: Ubuntu 18.04 Kernel: 4.15.0-generic GCC: 7.4 NIC: Intel Corporation Ethernet Converged Network Adapter 82599ES 10000 Mbps Target: x86_64-native-linuxapp-gcc Fail/Total: 0/3 Detail performance results: +------------+---------+-------------------------------------+ | frame_size | txd/rxd | throughput difference from expected | +============+=========+=====================================+ | 64 | 128 | 0.044 | +------------+---------+-------------------------------------+ | 64 | 512 | -0.082 | +------------+---------+-------------------------------------+ | 64 | 2048 | 0.383 | +------------+---------+-------------------------------------+ Ubuntu 18.04 Kernel: 4.15.0-generic GCC: 7.4 NIC: Intel Corporation Ethernet Converged Network Adapter XL710-QDA2 40000 Mbps Target: x86_64-native-linuxapp-gcc Fail/Total: 0/2 Detail performance results: +------------+---------+-------------------------------------+ | frame_size | txd/rxd | throughput difference from expected | +============+=========+=====================================+ | 64 | 512 | 0.295 | +------------+---------+-------------------------------------+ | 64 | 2048 | -0.065 | +------------+---------+-------------------------------------+ https://lab.dpdk.org/results/dashboard/tarballs/7624/ UNH-IOL DPDK Community Lab To manage your email subscriptions visit: https://lab.dpdk.org/results/dashboard/preferences/subscriptions/
[-- Attachment #1: Type: text/plain, Size: 2017 bytes --] _Testing PASS_ Branch: dpdk-next-net-mlx e414b6b953e9c9b5fbf3584757585934be20e314 --> testing pass Test environment and result as below: +------------------+-------------------+------------------+--------------+----------------+--------------------+ | Environment | dpdk_compile_spdk | dpdk_compile_ovs | dpdk_compile | dpdk_unit_test | dpdk_meson_compile | +==================+===================+==================+==============+================+====================+ | Ubuntu 18.04 | PASS | PASS | PASS | PASS | PASS | +------------------+-------------------+------------------+--------------+----------------+--------------------+ | FreeBSD 11.2 | PASS | SKIPPED | PASS | SKIPPED | PASS | +------------------+-------------------+------------------+--------------+----------------+--------------------+ | openSUSE Leap 15 | SKIPPED | PASS | PASS | SKIPPED | PASS | +------------------+-------------------+------------------+--------------+----------------+--------------------+ | Fedora 31 | SKIPPED | PASS | PASS | SKIPPED | PASS | +------------------+-------------------+------------------+--------------+----------------+--------------------+ | CentOS 8 | SKIPPED | PASS | PASS | SKIPPED | PASS | +------------------+-------------------+------------------+--------------+----------------+--------------------+ Ubuntu 18.04 Kernel: 4.15.0-generic GCC: 7.4 FreeBSD 11.2 Kernel: 11.2 GCC: 8.3 openSUSE Leap 15 Kernel: 4.12.14 GCC: 7.4.1 Fedora 31 Kernel: 5.3.16 GCC: 9.2.1 CentOS 8 Kernel: 4.18.0.el8_0 GCC: 8.2 https://lab.dpdk.org/results/dashboard/tarballs/7624/ UNH-IOL DPDK Community Lab To manage your email subscriptions visit: https://lab.dpdk.org/results/dashboard/preferences/subscriptions/
[-- Attachment #1: Type: text/plain, Size: 949 bytes --] _Performance Testing PASS_ Branch: dpdk-next-net-mlx e414b6b953e9c9b5fbf3584757585934be20e314 --> performance testing pass Test environment and result as below: Ubuntu 18.04 Kernel: 4.14.122 GCC: 7.3.0 NIC: NXP LS2088A 10000 Mbps Target: x86_64-native-linuxapp-gcc Fail/Total: 0/2 Detail performance results: +------------+---------+-------------------------------------+ | frame_size | txd/rxd | throughput difference from expected | +============+=========+=====================================+ | 64 | 512 | 0.529 | +------------+---------+-------------------------------------+ | 64 | 2048 | -0.082 | +------------+---------+-------------------------------------+ https://lab.dpdk.org/results/dashboard/tarballs/7624/ UNH-IOL DPDK Community Lab To manage your email subscriptions visit: https://lab.dpdk.org/results/dashboard/preferences/subscriptions/
[-- Attachment #1: Type: text/plain, Size: 3688 bytes --] _Performance Testing PASS_ Branch: dpdk-next-net-mlx e414b6b953e9c9b5fbf3584757585934be20e314 --> performance testing pass Test environment and result as below: Ubuntu 18.04 Kernel: 4.15.0-generic GCC: 7.4 NIC: Mellanox ConnectX-5 100000 Mbps Target: x86_64-native-linuxapp-gcc Fail/Total: 0/6 Detail performance results: +------------+---------+-------------------------------------+ | frame_size | txd/rxd | throughput difference from expected | +============+=========+=====================================+ | 64 | 256 | -0.157 | +------------+---------+-------------------------------------+ | 128 | 256 | 0.053 | +------------+---------+-------------------------------------+ | 256 | 256 | 0.017 | +------------+---------+-------------------------------------+ | 512 | 256 | 0.105 | +------------+---------+-------------------------------------+ | 1024 | 256 | 0.038 | +------------+---------+-------------------------------------+ | 1518 | 256 | 0.010 | +------------+---------+-------------------------------------+ Ubuntu 18.04 Kernel: 4.15.0-generic GCC: 7.4 NIC: Mellanox ConnectX-4 Lx 40000 Mbps Target: x86_64-native-linuxapp-gcc Fail/Total: 0/6 Detail performance results: +------------+---------+-------------------------------------+ | frame_size | txd/rxd | throughput difference from expected | +============+=========+=====================================+ | 64 | 256 | -0.089 | +------------+---------+-------------------------------------+ | 128 | 256 | 0.086 | +------------+---------+-------------------------------------+ | 256 | 256 | -0.013 | +------------+---------+-------------------------------------+ | 512 | 256 | 0.011 | +------------+---------+-------------------------------------+ | 1024 | 256 | 0.004 | +------------+---------+-------------------------------------+ | 1518 | 256 | 0.002 | +------------+---------+-------------------------------------+ Ubuntu 18.04 Kernel: 4.15.0-generic GCC: 7.4 NIC: Mellanox ConnectX-4 Lx 25000 Mbps Target: x86_64-native-linuxapp-gcc Fail/Total: 0/6 Detail performance results: +------------+---------+-------------------------------------+ | frame_size | txd/rxd | throughput difference from expected | +============+=========+=====================================+ | 64 | 256 | 0.005 | +------------+---------+-------------------------------------+ | 128 | 256 | -0.012 | +------------+---------+-------------------------------------+ | 256 | 256 | -0.038 | +------------+---------+-------------------------------------+ | 512 | 256 | 0.007 | +------------+---------+-------------------------------------+ | 1024 | 256 | -0.003 | +------------+---------+-------------------------------------+ | 1518 | 256 | -0.002 | +------------+---------+-------------------------------------+ https://lab.dpdk.org/results/dashboard/tarballs/7624/ UNH-IOL DPDK Community Lab To manage your email subscriptions visit: https://lab.dpdk.org/results/dashboard/preferences/subscriptions/