[-- Attachment #1: Type: text/plain, Size: 1772 bytes --] _Performance Testing PASS_ Branch: dpdk-next-net 451aad8fd3afaa8ec3e66628388968671d5a3868 --> performance testing pass Test environment and result as below: Ubuntu 18.04 Kernel: 4.15.0-generic GCC: 7.4 NIC: Intel Corporation Ethernet Converged Network Adapter 82599ES 10000 Mbps Target: x86_64-native-linuxapp-gcc Fail/Total: 0/3 Detail performance results: +------------+---------+-------------------------------------+ | frame_size | txd/rxd | throughput difference from expected | +============+=========+=====================================+ | 64 | 128 | 0.063 | +------------+---------+-------------------------------------+ | 64 | 512 | -0.322 | +------------+---------+-------------------------------------+ | 64 | 2048 | 0.074 | +------------+---------+-------------------------------------+ Ubuntu 18.04 Kernel: 4.15.0-generic GCC: 7.4 NIC: Intel Corporation Ethernet Converged Network Adapter XL710-QDA2 40000 Mbps Target: x86_64-native-linuxapp-gcc Fail/Total: 0/2 Detail performance results: +------------+---------+-------------------------------------+ | frame_size | txd/rxd | throughput difference from expected | +============+=========+=====================================+ | 64 | 512 | 0.354 | +------------+---------+-------------------------------------+ | 64 | 2048 | 0.284 | +------------+---------+-------------------------------------+ https://lab.dpdk.org/results/dashboard/tarballs/7635/ UNH-IOL DPDK Community Lab To manage your email subscriptions visit: https://lab.dpdk.org/results/dashboard/preferences/subscriptions/
[-- Attachment #1: Type: text/plain, Size: 2013 bytes --] _Testing PASS_ Branch: dpdk-next-net 451aad8fd3afaa8ec3e66628388968671d5a3868 --> testing pass Test environment and result as below: +------------------+-------------------+--------------+------------------+----------------+--------------------+ | Environment | dpdk_compile_spdk | dpdk_compile | dpdk_compile_ovs | dpdk_unit_test | dpdk_meson_compile | +==================+===================+==============+==================+================+====================+ | Ubuntu 18.04 | PASS | PASS | PASS | PASS | PASS | +------------------+-------------------+--------------+------------------+----------------+--------------------+ | FreeBSD 11.2 | PASS | PASS | SKIPPED | SKIPPED | PASS | +------------------+-------------------+--------------+------------------+----------------+--------------------+ | openSUSE Leap 15 | SKIPPED | PASS | PASS | SKIPPED | PASS | +------------------+-------------------+--------------+------------------+----------------+--------------------+ | Fedora 31 | SKIPPED | PASS | PASS | SKIPPED | PASS | +------------------+-------------------+--------------+------------------+----------------+--------------------+ | CentOS 8 | SKIPPED | PASS | PASS | SKIPPED | PASS | +------------------+-------------------+--------------+------------------+----------------+--------------------+ Ubuntu 18.04 Kernel: 4.15.0-generic GCC: 7.4 FreeBSD 11.2 Kernel: 11.2 GCC: 8.3 openSUSE Leap 15 Kernel: 4.12.14 GCC: 7.4.1 Fedora 31 Kernel: 5.3.16 GCC: 9.2.1 CentOS 8 Kernel: 4.18.0.el8_0 GCC: 8.2 https://lab.dpdk.org/results/dashboard/tarballs/7635/ UNH-IOL DPDK Community Lab To manage your email subscriptions visit: https://lab.dpdk.org/results/dashboard/preferences/subscriptions/
[-- Attachment #1: Type: text/plain, Size: 945 bytes --] _Performance Testing PASS_ Branch: dpdk-next-net 451aad8fd3afaa8ec3e66628388968671d5a3868 --> performance testing pass Test environment and result as below: Ubuntu 18.04 Kernel: 4.14.122 GCC: 7.3.0 NIC: NXP LS2088A 10000 Mbps Target: x86_64-native-linuxapp-gcc Fail/Total: 0/2 Detail performance results: +------------+---------+-------------------------------------+ | frame_size | txd/rxd | throughput difference from expected | +============+=========+=====================================+ | 64 | 512 | 0.593 | +------------+---------+-------------------------------------+ | 64 | 2048 | -0.091 | +------------+---------+-------------------------------------+ https://lab.dpdk.org/results/dashboard/tarballs/7635/ UNH-IOL DPDK Community Lab To manage your email subscriptions visit: https://lab.dpdk.org/results/dashboard/preferences/subscriptions/
[-- Attachment #1: Type: text/plain, Size: 3684 bytes --] _Performance Testing PASS_ Branch: dpdk-next-net 451aad8fd3afaa8ec3e66628388968671d5a3868 --> performance testing pass Test environment and result as below: Ubuntu 18.04 Kernel: 4.15.0-generic GCC: 7.4 NIC: Mellanox ConnectX-4 Lx 40000 Mbps Target: x86_64-native-linuxapp-gcc Fail/Total: 0/6 Detail performance results: +------------+---------+-------------------------------------+ | frame_size | txd/rxd | throughput difference from expected | +============+=========+=====================================+ | 64 | 256 | 0.141 | +------------+---------+-------------------------------------+ | 128 | 256 | 0.048 | +------------+---------+-------------------------------------+ | 256 | 256 | -0.094 | +------------+---------+-------------------------------------+ | 512 | 256 | 0.006 | +------------+---------+-------------------------------------+ | 1024 | 256 | 0.027 | +------------+---------+-------------------------------------+ | 1518 | 256 | 0.001 | +------------+---------+-------------------------------------+ Ubuntu 18.04 Kernel: 4.15.0-generic GCC: 7.4 NIC: Mellanox ConnectX-4 Lx 25000 Mbps Target: x86_64-native-linuxapp-gcc Fail/Total: 0/6 Detail performance results: +------------+---------+-------------------------------------+ | frame_size | txd/rxd | throughput difference from expected | +============+=========+=====================================+ | 64 | 256 | 0.054 | +------------+---------+-------------------------------------+ | 128 | 256 | -0.195 | +------------+---------+-------------------------------------+ | 256 | 256 | -0.006 | +------------+---------+-------------------------------------+ | 512 | 256 | -0.004 | +------------+---------+-------------------------------------+ | 1024 | 256 | -0.005 | +------------+---------+-------------------------------------+ | 1518 | 256 | -0.004 | +------------+---------+-------------------------------------+ Ubuntu 18.04 Kernel: 4.15.0-generic GCC: 7.4 NIC: Mellanox ConnectX-5 100000 Mbps Target: x86_64-native-linuxapp-gcc Fail/Total: 0/6 Detail performance results: +------------+---------+-------------------------------------+ | frame_size | txd/rxd | throughput difference from expected | +============+=========+=====================================+ | 64 | 256 | -0.239 | +------------+---------+-------------------------------------+ | 128 | 256 | 0.296 | +------------+---------+-------------------------------------+ | 256 | 256 | 0.048 | +------------+---------+-------------------------------------+ | 512 | 256 | 0.234 | +------------+---------+-------------------------------------+ | 1024 | 256 | -0.028 | +------------+---------+-------------------------------------+ | 1518 | 256 | 0.024 | +------------+---------+-------------------------------------+ https://lab.dpdk.org/results/dashboard/tarballs/7635/ UNH-IOL DPDK Community Lab To manage your email subscriptions visit: https://lab.dpdk.org/results/dashboard/preferences/subscriptions/