Test-Label: checkpatch Test-Status: SUCCESS http://dpdk.org/patch/64231 _coding style OK_
[-- Attachment #1: Type: text/plain, Size: 1980 bytes --] Test-Label: iol-intel-Performance Test-Status: SUCCESS http://dpdk.org/patch/64231 _Performance Testing PASS_ Submitter: Bing Zhao <bingz@mellanox.com> Date: Monday, January 06 2020 06:31:57 DPDK git baseline: Repo:dpdk Branch: master CommitID:10060dba6455461088d24e03d3cfeba639d53022 64231 --> performance testing pass Test environment and result as below: Ubuntu 18.04 Kernel: 4.15.0-generic GCC: 7.4 NIC: Intel Corporation Ethernet Converged Network Adapter 82599ES 10000 Mbps Target: x86_64-native-linuxapp-gcc Fail/Total: 0/3 Detail performance results: +------------+---------+-------------------------------------+ | frame_size | txd/rxd | throughput difference from expected | +============+=========+=====================================+ | 64 | 128 | 0.030 | +------------+---------+-------------------------------------+ | 64 | 512 | -0.415 | +------------+---------+-------------------------------------+ | 64 | 2048 | 0.097 | +------------+---------+-------------------------------------+ Ubuntu 18.04 Kernel: 4.15.0-generic GCC: 7.4 NIC: Intel Corporation Ethernet Converged Network Adapter XL710-QDA2 40000 Mbps Target: x86_64-native-linuxapp-gcc Fail/Total: 0/2 Detail performance results: +------------+---------+-------------------------------------+ | frame_size | txd/rxd | throughput difference from expected | +============+=========+=====================================+ | 64 | 512 | 0.252 | +------------+---------+-------------------------------------+ | 64 | 2048 | -0.061 | +------------+---------+-------------------------------------+ https://lab.dpdk.org/results/dashboard/patchsets/9064/ UNH-IOL DPDK Community Lab To manage your email subscriptions visit: https://lab.dpdk.org/results/dashboard/preferences/subscriptions/
[-- Attachment #1: Type: text/plain, Size: 2211 bytes --] Test-Label: iol-testing Test-Status: SUCCESS http://dpdk.org/patch/64231 _Testing PASS_ Submitter: Bing Zhao <bingz@mellanox.com> Date: Monday, January 06 2020 06:31:57 DPDK git baseline: Repo:dpdk Branch: master CommitID:10060dba6455461088d24e03d3cfeba639d53022 64231 --> testing pass Test environment and result as below: +------------------+-------------------+------------------+--------------------+----------------+--------------+ | Environment | dpdk_compile_spdk | dpdk_compile_ovs | dpdk_meson_compile | dpdk_unit_test | dpdk_compile | +==================+===================+==================+====================+================+==============+ | FreeBSD 11.2 | PASS | SKIPPED | PASS | SKIPPED | PASS | +------------------+-------------------+------------------+--------------------+----------------+--------------+ | Ubuntu 18.04 | PASS | PASS | PASS | PASS | PASS | +------------------+-------------------+------------------+--------------------+----------------+--------------+ | openSUSE Leap 15 | SKIPPED | PASS | PASS | SKIPPED | PASS | +------------------+-------------------+------------------+--------------------+----------------+--------------+ | Fedora 31 | SKIPPED | PASS | PASS | SKIPPED | PASS | +------------------+-------------------+------------------+--------------------+----------------+--------------+ | CentOS 8 | SKIPPED | PASS | PASS | SKIPPED | PASS | +------------------+-------------------+------------------+--------------------+----------------+--------------+ FreeBSD 11.2 Kernel: 11.2 GCC: 8.3 Ubuntu 18.04 Kernel: 4.15.0-generic GCC: 7.4 openSUSE Leap 15 Kernel: 4.12.14 GCC: 7.4.1 Fedora 31 Kernel: 5.3.16 GCC: 9.2.1 CentOS 8 Kernel: 4.18.0.el8_0 GCC: 8.2 https://lab.dpdk.org/results/dashboard/patchsets/9064/ UNH-IOL DPDK Community Lab To manage your email subscriptions visit: https://lab.dpdk.org/results/dashboard/preferences/subscriptions/
[-- Attachment #1: Type: text/plain, Size: 1151 bytes --] Test-Label: iol-nxp-Performance Test-Status: SUCCESS http://dpdk.org/patch/64231 _Performance Testing PASS_ Submitter: Bing Zhao <bingz@mellanox.com> Date: Monday, January 06 2020 06:31:57 DPDK git baseline: Repo:dpdk Branch: master CommitID:10060dba6455461088d24e03d3cfeba639d53022 64231 --> performance testing pass Test environment and result as below: Ubuntu 18.04 Kernel: 4.14.122 GCC: 7.3.0 NIC: NXP LS2088A 10000 Mbps Target: x86_64-native-linuxapp-gcc Fail/Total: 0/2 Detail performance results: +------------+---------+-------------------------------------+ | frame_size | txd/rxd | throughput difference from expected | +============+=========+=====================================+ | 64 | 512 | 0.448 | +------------+---------+-------------------------------------+ | 64 | 2048 | -0.156 | +------------+---------+-------------------------------------+ https://lab.dpdk.org/results/dashboard/patchsets/9064/ UNH-IOL DPDK Community Lab To manage your email subscriptions visit: https://lab.dpdk.org/results/dashboard/preferences/subscriptions/
[-- Attachment #1: Type: text/plain, Size: 3895 bytes --] Test-Label: iol-mellanox-Performance Test-Status: SUCCESS http://dpdk.org/patch/64231 _Performance Testing PASS_ Submitter: Bing Zhao <bingz@mellanox.com> Date: Monday, January 06 2020 06:31:57 DPDK git baseline: Repo:dpdk Branch: master CommitID:10060dba6455461088d24e03d3cfeba639d53022 64231 --> performance testing pass Test environment and result as below: Ubuntu 18.04 Kernel: 4.15.0-generic GCC: 7.4 NIC: Mellanox ConnectX-5 100000 Mbps Target: x86_64-native-linuxapp-gcc Fail/Total: 0/6 Detail performance results: +------------+---------+-------------------------------------+ | frame_size | txd/rxd | throughput difference from expected | +============+=========+=====================================+ | 64 | 256 | -0.185 | +------------+---------+-------------------------------------+ | 128 | 256 | 0.244 | +------------+---------+-------------------------------------+ | 256 | 256 | 0.056 | +------------+---------+-------------------------------------+ | 512 | 256 | 0.109 | +------------+---------+-------------------------------------+ | 1024 | 256 | 0.012 | +------------+---------+-------------------------------------+ | 1518 | 256 | 0.020 | +------------+---------+-------------------------------------+ Ubuntu 18.04 Kernel: 4.15.0-generic GCC: 7.4 NIC: Mellanox ConnectX-4 Lx 40000 Mbps Target: x86_64-native-linuxapp-gcc Fail/Total: 0/6 Detail performance results: +------------+---------+-------------------------------------+ | frame_size | txd/rxd | throughput difference from expected | +============+=========+=====================================+ | 64 | 256 | -0.072 | +------------+---------+-------------------------------------+ | 128 | 256 | -0.010 | +------------+---------+-------------------------------------+ | 256 | 256 | 0.038 | +------------+---------+-------------------------------------+ | 512 | 256 | 0.001 | +------------+---------+-------------------------------------+ | 1024 | 256 | 0.002 | +------------+---------+-------------------------------------+ | 1518 | 256 | 0.004 | +------------+---------+-------------------------------------+ Ubuntu 18.04 Kernel: 4.15.0-generic GCC: 7.4 NIC: Mellanox ConnectX-4 Lx 25000 Mbps Target: x86_64-native-linuxapp-gcc Fail/Total: 0/6 Detail performance results: +------------+---------+-------------------------------------+ | frame_size | txd/rxd | throughput difference from expected | +============+=========+=====================================+ | 64 | 256 | 0.059 | +------------+---------+-------------------------------------+ | 128 | 256 | -0.113 | +------------+---------+-------------------------------------+ | 256 | 256 | -0.001 | +------------+---------+-------------------------------------+ | 512 | 256 | 0.017 | +------------+---------+-------------------------------------+ | 1024 | 256 | -0.001 | +------------+---------+-------------------------------------+ | 1518 | 256 | -0.003 | +------------+---------+-------------------------------------+ https://lab.dpdk.org/results/dashboard/patchsets/9064/ UNH-IOL DPDK Community Lab To manage your email subscriptions visit: https://lab.dpdk.org/results/dashboard/preferences/subscriptions/