Test-Label: checkpatch Test-Status: SUCCESS http://dpdk.org/patch/64247 _coding style OK_
[-- Attachment #1: Type: text/plain, Size: 1996 bytes --] Test-Label: iol-intel-Performance Test-Status: SUCCESS http://dpdk.org/patch/64247 _Performance Testing PASS_ Submitter: Stephen Hemminger <stephen@networkplumber.org> Date: Monday, January 06 2020 19:18:37 DPDK git baseline: Repo:dpdk Branch: master CommitID:10060dba6455461088d24e03d3cfeba639d53022 64247 --> performance testing pass Test environment and result as below: Ubuntu 18.04 Kernel: 4.15.0-generic GCC: 7.4 NIC: Intel Corporation Ethernet Converged Network Adapter 82599ES 10000 Mbps Target: x86_64-native-linuxapp-gcc Fail/Total: 0/3 Detail performance results: +------------+---------+-------------------------------------+ | frame_size | txd/rxd | throughput difference from expected | +============+=========+=====================================+ | 64 | 128 | 0.205 | +------------+---------+-------------------------------------+ | 64 | 512 | -0.375 | +------------+---------+-------------------------------------+ | 64 | 2048 | 0.040 | +------------+---------+-------------------------------------+ Ubuntu 18.04 Kernel: 4.15.0-generic GCC: 7.4 NIC: Intel Corporation Ethernet Converged Network Adapter XL710-QDA2 40000 Mbps Target: x86_64-native-linuxapp-gcc Fail/Total: 0/2 Detail performance results: +------------+---------+-------------------------------------+ | frame_size | txd/rxd | throughput difference from expected | +============+=========+=====================================+ | 64 | 512 | 0.444 | +------------+---------+-------------------------------------+ | 64 | 2048 | 0.212 | +------------+---------+-------------------------------------+ https://lab.dpdk.org/results/dashboard/patchsets/9072/ UNH-IOL DPDK Community Lab To manage your email subscriptions visit: https://lab.dpdk.org/results/dashboard/preferences/subscriptions/
[-- Attachment #1: Type: text/plain, Size: 2227 bytes --] Test-Label: iol-testing Test-Status: SUCCESS http://dpdk.org/patch/64247 _Testing PASS_ Submitter: Stephen Hemminger <stephen@networkplumber.org> Date: Monday, January 06 2020 19:18:37 DPDK git baseline: Repo:dpdk Branch: master CommitID:10060dba6455461088d24e03d3cfeba639d53022 64247 --> testing pass Test environment and result as below: +------------------+-------------------+--------------+------------------+----------------+--------------------+ | Environment | dpdk_compile_spdk | dpdk_compile | dpdk_compile_ovs | dpdk_unit_test | dpdk_meson_compile | +==================+===================+==============+==================+================+====================+ | Ubuntu 18.04 | PASS | PASS | PASS | PASS | PASS | +------------------+-------------------+--------------+------------------+----------------+--------------------+ | FreeBSD 11.2 | PASS | PASS | SKIPPED | SKIPPED | PASS | +------------------+-------------------+--------------+------------------+----------------+--------------------+ | openSUSE Leap 15 | SKIPPED | PASS | PASS | SKIPPED | PASS | +------------------+-------------------+--------------+------------------+----------------+--------------------+ | Fedora 31 | SKIPPED | PASS | PASS | SKIPPED | PASS | +------------------+-------------------+--------------+------------------+----------------+--------------------+ | CentOS 8 | SKIPPED | PASS | PASS | SKIPPED | PASS | +------------------+-------------------+--------------+------------------+----------------+--------------------+ Ubuntu 18.04 Kernel: 4.15.0-generic GCC: 7.4 FreeBSD 11.2 Kernel: 11.2 GCC: 8.3 openSUSE Leap 15 Kernel: 4.12.14 GCC: 7.4.1 Fedora 31 Kernel: 5.3.16 GCC: 9.2.1 CentOS 8 Kernel: 4.18.0.el8_0 GCC: 8.2 https://lab.dpdk.org/results/dashboard/patchsets/9072/ UNH-IOL DPDK Community Lab To manage your email subscriptions visit: https://lab.dpdk.org/results/dashboard/preferences/subscriptions/
[-- Attachment #1: Type: text/plain, Size: 1167 bytes --] Test-Label: iol-nxp-Performance Test-Status: SUCCESS http://dpdk.org/patch/64247 _Performance Testing PASS_ Submitter: Stephen Hemminger <stephen@networkplumber.org> Date: Monday, January 06 2020 19:18:37 DPDK git baseline: Repo:dpdk Branch: master CommitID:10060dba6455461088d24e03d3cfeba639d53022 64247 --> performance testing pass Test environment and result as below: Ubuntu 18.04 Kernel: 4.14.122 GCC: 7.3.0 NIC: NXP LS2088A 10000 Mbps Target: x86_64-native-linuxapp-gcc Fail/Total: 0/2 Detail performance results: +------------+---------+-------------------------------------+ | frame_size | txd/rxd | throughput difference from expected | +============+=========+=====================================+ | 64 | 512 | 0.383 | +------------+---------+-------------------------------------+ | 64 | 2048 | -0.105 | +------------+---------+-------------------------------------+ https://lab.dpdk.org/results/dashboard/patchsets/9072/ UNH-IOL DPDK Community Lab To manage your email subscriptions visit: https://lab.dpdk.org/results/dashboard/preferences/subscriptions/
[-- Attachment #1: Type: text/plain, Size: 3911 bytes --] Test-Label: iol-mellanox-Performance Test-Status: SUCCESS http://dpdk.org/patch/64247 _Performance Testing PASS_ Submitter: Stephen Hemminger <stephen@networkplumber.org> Date: Monday, January 06 2020 19:18:37 DPDK git baseline: Repo:dpdk Branch: master CommitID:10060dba6455461088d24e03d3cfeba639d53022 64247 --> performance testing pass Test environment and result as below: Ubuntu 18.04 Kernel: 4.15.0-generic GCC: 7.4 NIC: Mellanox ConnectX-5 100000 Mbps Target: x86_64-native-linuxapp-gcc Fail/Total: 0/6 Detail performance results: +------------+---------+-------------------------------------+ | frame_size | txd/rxd | throughput difference from expected | +============+=========+=====================================+ | 64 | 256 | 0.198 | +------------+---------+-------------------------------------+ | 128 | 256 | -0.005 | +------------+---------+-------------------------------------+ | 256 | 256 | 0.107 | +------------+---------+-------------------------------------+ | 512 | 256 | 0.027 | +------------+---------+-------------------------------------+ | 1024 | 256 | 0.033 | +------------+---------+-------------------------------------+ | 1518 | 256 | -0.010 | +------------+---------+-------------------------------------+ Ubuntu 18.04 Kernel: 4.15.0-generic GCC: 7.4 NIC: Mellanox ConnectX-4 Lx 25000 Mbps Target: x86_64-native-linuxapp-gcc Fail/Total: 0/6 Detail performance results: +------------+---------+-------------------------------------+ | frame_size | txd/rxd | throughput difference from expected | +============+=========+=====================================+ | 64 | 256 | 0.403 | +------------+---------+-------------------------------------+ | 128 | 256 | -0.068 | +------------+---------+-------------------------------------+ | 256 | 256 | -0.032 | +------------+---------+-------------------------------------+ | 512 | 256 | -0.008 | +------------+---------+-------------------------------------+ | 1024 | 256 | 0.001 | +------------+---------+-------------------------------------+ | 1518 | 256 | -0.001 | +------------+---------+-------------------------------------+ Ubuntu 18.04 Kernel: 4.15.0-generic GCC: 7.4 NIC: Mellanox ConnectX-4 Lx 40000 Mbps Target: x86_64-native-linuxapp-gcc Fail/Total: 0/6 Detail performance results: +------------+---------+-------------------------------------+ | frame_size | txd/rxd | throughput difference from expected | +============+=========+=====================================+ | 64 | 256 | 0.128 | +------------+---------+-------------------------------------+ | 128 | 256 | -0.038 | +------------+---------+-------------------------------------+ | 256 | 256 | -0.089 | +------------+---------+-------------------------------------+ | 512 | 256 | 0.011 | +------------+---------+-------------------------------------+ | 1024 | 256 | 0.005 | +------------+---------+-------------------------------------+ | 1518 | 256 | 0.010 | +------------+---------+-------------------------------------+ https://lab.dpdk.org/results/dashboard/patchsets/9072/ UNH-IOL DPDK Community Lab To manage your email subscriptions visit: https://lab.dpdk.org/results/dashboard/preferences/subscriptions/