[-- Attachment #1: Type: text/plain, Size: 1988 bytes --] Test-Label: iol-intel-Performance Test-Status: SUCCESS http://dpdk.org/patch/64257 _Performance Testing PASS_ Submitter: Yunjian Wang <wangyunjian@huawei.com> Date: Tuesday, January 07 2020 03:25:48 DPDK git baseline: Repo:dpdk Branch: master CommitID:10060dba6455461088d24e03d3cfeba639d53022 64257 --> performance testing pass Test environment and result as below: Ubuntu 18.04 Kernel: 4.15.0-generic GCC: 7.4 NIC: Intel Corporation Ethernet Converged Network Adapter 82599ES 10000 Mbps Target: x86_64-native-linuxapp-gcc Fail/Total: 0/3 Detail performance results: +------------+---------+-------------------------------------+ | frame_size | txd/rxd | throughput difference from expected | +============+=========+=====================================+ | 64 | 128 | 0.207 | +------------+---------+-------------------------------------+ | 64 | 512 | -0.314 | +------------+---------+-------------------------------------+ | 64 | 2048 | 0.093 | +------------+---------+-------------------------------------+ Ubuntu 18.04 Kernel: 4.15.0-generic GCC: 7.4 NIC: Intel Corporation Ethernet Converged Network Adapter XL710-QDA2 40000 Mbps Target: x86_64-native-linuxapp-gcc Fail/Total: 0/2 Detail performance results: +------------+---------+-------------------------------------+ | frame_size | txd/rxd | throughput difference from expected | +============+=========+=====================================+ | 64 | 512 | 0.346 | +------------+---------+-------------------------------------+ | 64 | 2048 | 0.239 | +------------+---------+-------------------------------------+ https://lab.dpdk.org/results/dashboard/patchsets/9075/ UNH-IOL DPDK Community Lab To manage your email subscriptions visit: https://lab.dpdk.org/results/dashboard/preferences/subscriptions/
[-- Attachment #1: Type: text/plain, Size: 2219 bytes --] Test-Label: iol-testing Test-Status: SUCCESS http://dpdk.org/patch/64257 _Testing PASS_ Submitter: Yunjian Wang <wangyunjian@huawei.com> Date: Tuesday, January 07 2020 03:25:48 DPDK git baseline: Repo:dpdk Branch: master CommitID:10060dba6455461088d24e03d3cfeba639d53022 64257 --> testing pass Test environment and result as below: +------------------+--------------+------------------+--------------------+----------------+-------------------+ | Environment | dpdk_compile | dpdk_compile_ovs | dpdk_meson_compile | dpdk_unit_test | dpdk_compile_spdk | +==================+==============+==================+====================+================+===================+ | FreeBSD 11.2 | PASS | SKIPPED | PASS | SKIPPED | PASS | +------------------+--------------+------------------+--------------------+----------------+-------------------+ | Ubuntu 18.04 | PASS | PASS | PASS | PASS | PASS | +------------------+--------------+------------------+--------------------+----------------+-------------------+ | openSUSE Leap 15 | PASS | PASS | PASS | SKIPPED | SKIPPED | +------------------+--------------+------------------+--------------------+----------------+-------------------+ | Fedora 31 | PASS | PASS | PASS | SKIPPED | SKIPPED | +------------------+--------------+------------------+--------------------+----------------+-------------------+ | CentOS 8 | PASS | PASS | PASS | SKIPPED | SKIPPED | +------------------+--------------+------------------+--------------------+----------------+-------------------+ FreeBSD 11.2 Kernel: 11.2 GCC: 8.3 Ubuntu 18.04 Kernel: 4.15.0-generic GCC: 7.4 openSUSE Leap 15 Kernel: 4.12.14 GCC: 7.4.1 Fedora 31 Kernel: 5.3.16 GCC: 9.2.1 CentOS 8 Kernel: 4.18.0.el8_0 GCC: 8.2 https://lab.dpdk.org/results/dashboard/patchsets/9075/ UNH-IOL DPDK Community Lab To manage your email subscriptions visit: https://lab.dpdk.org/results/dashboard/preferences/subscriptions/
[-- Attachment #1: Type: text/plain, Size: 3903 bytes --] Test-Label: iol-mellanox-Performance Test-Status: SUCCESS http://dpdk.org/patch/64257 _Performance Testing PASS_ Submitter: Yunjian Wang <wangyunjian@huawei.com> Date: Tuesday, January 07 2020 03:25:48 DPDK git baseline: Repo:dpdk Branch: master CommitID:10060dba6455461088d24e03d3cfeba639d53022 64257 --> performance testing pass Test environment and result as below: Ubuntu 18.04 Kernel: 4.15.0-generic GCC: 7.4 NIC: Mellanox ConnectX-4 Lx 25000 Mbps Target: x86_64-native-linuxapp-gcc Fail/Total: 0/6 Detail performance results: +------------+---------+-------------------------------------+ | frame_size | txd/rxd | throughput difference from expected | +============+=========+=====================================+ | 64 | 256 | -0.032 | +------------+---------+-------------------------------------+ | 128 | 256 | -0.154 | +------------+---------+-------------------------------------+ | 256 | 256 | -0.002 | +------------+---------+-------------------------------------+ | 512 | 256 | -0.003 | +------------+---------+-------------------------------------+ | 1024 | 256 | 0.018 | +------------+---------+-------------------------------------+ | 1518 | 256 | 0.006 | +------------+---------+-------------------------------------+ Ubuntu 18.04 Kernel: 4.15.0-generic GCC: 7.4 NIC: Mellanox ConnectX-5 100000 Mbps Target: x86_64-native-linuxapp-gcc Fail/Total: 0/6 Detail performance results: +------------+---------+-------------------------------------+ | frame_size | txd/rxd | throughput difference from expected | +============+=========+=====================================+ | 64 | 256 | 0.003 | +------------+---------+-------------------------------------+ | 128 | 256 | 0.085 | +------------+---------+-------------------------------------+ | 256 | 256 | -0.017 | +------------+---------+-------------------------------------+ | 512 | 256 | -0.030 | +------------+---------+-------------------------------------+ | 1024 | 256 | 0.022 | +------------+---------+-------------------------------------+ | 1518 | 256 | 0.023 | +------------+---------+-------------------------------------+ Ubuntu 18.04 Kernel: 4.15.0-generic GCC: 7.4 NIC: Mellanox ConnectX-4 Lx 40000 Mbps Target: x86_64-native-linuxapp-gcc Fail/Total: 0/6 Detail performance results: +------------+---------+-------------------------------------+ | frame_size | txd/rxd | throughput difference from expected | +============+=========+=====================================+ | 64 | 256 | 0.325 | +------------+---------+-------------------------------------+ | 128 | 256 | -0.035 | +------------+---------+-------------------------------------+ | 256 | 256 | -0.062 | +------------+---------+-------------------------------------+ | 512 | 256 | -0.004 | +------------+---------+-------------------------------------+ | 1024 | 256 | -0.008 | +------------+---------+-------------------------------------+ | 1518 | 256 | 0.001 | +------------+---------+-------------------------------------+ https://lab.dpdk.org/results/dashboard/patchsets/9075/ UNH-IOL DPDK Community Lab To manage your email subscriptions visit: https://lab.dpdk.org/results/dashboard/preferences/subscriptions/
[-- Attachment #1: Type: text/plain, Size: 1159 bytes --] Test-Label: iol-nxp-Performance Test-Status: SUCCESS http://dpdk.org/patch/64257 _Performance Testing PASS_ Submitter: Yunjian Wang <wangyunjian@huawei.com> Date: Tuesday, January 07 2020 03:25:48 DPDK git baseline: Repo:dpdk Branch: master CommitID:10060dba6455461088d24e03d3cfeba639d53022 64257 --> performance testing pass Test environment and result as below: Ubuntu 18.04 Kernel: 4.14.122 GCC: 7.3.0 NIC: NXP LS2088A 10000 Mbps Target: x86_64-native-linuxapp-gcc Fail/Total: 0/2 Detail performance results: +------------+---------+-------------------------------------+ | frame_size | txd/rxd | throughput difference from expected | +============+=========+=====================================+ | 64 | 512 | 0.413 | +------------+---------+-------------------------------------+ | 64 | 2048 | -0.140 | +------------+---------+-------------------------------------+ https://lab.dpdk.org/results/dashboard/patchsets/9075/ UNH-IOL DPDK Community Lab To manage your email subscriptions visit: https://lab.dpdk.org/results/dashboard/preferences/subscriptions/