Test-Label: checkpatch Test-Status: SUCCESS http://dpdk.org/patch/64633 _coding style OK_
[-- Attachment #1: Type: text/plain, Size: 2035 bytes --] Test-Label: iol-intel-Performance Test-Status: SUCCESS http://dpdk.org/patch/64633 _Performance Testing PASS_ Submitter: Kiran Kumar Kokkilagadda <kirankumark@marvell.com> Date: Tuesday, January 14 2020 09:26:22 DPDK git baseline: Repo:dpdk Branch: master CommitID:a02b9406a8769247737b55dbfa50b6b5f896d946 64633 --> performance testing pass Test environment and result as below: Ubuntu 18.04 Kernel: 4.15.0-generic GCC: 7.4 NIC: Intel Corporation Ethernet Converged Network Adapter 82599ES 10000 Mbps Target: x86_64-native-linuxapp-gcc Fail/Total: 0/3 Detail performance results: +------------+---------+-------------------------------------+ | frame_size | txd/rxd | throughput difference from expected | +============+=========+=====================================+ | 64 | 128 | -0.147 | +------------+---------+-------------------------------------+ | 64 | 512 | -0.167 | +------------+---------+-------------------------------------+ | 64 | 2048 | 0.017 | +------------+---------+-------------------------------------+ Ubuntu 18.04 Kernel: 4.15.0-generic GCC: 7.4 NIC: Intel Corporation Ethernet Converged Network Adapter XL710-QDA2 40000 Mbps Target: x86_64-native-linuxapp-gcc Fail/Total: 0/2 Detail performance results: +------------+---------+-------------------------------------+ | frame_size | txd/rxd | throughput difference from expected | +============+=========+=====================================+ | 64 | 512 | 0.003 | +------------+---------+-------------------------------------+ | 64 | 2048 | -0.247 | +------------+---------+-------------------------------------+ To view detailed results, visit: https://lab.dpdk.org/results/dashboard/patchsets/9182/ UNH-IOL DPDK Community Lab To manage your email subscriptions, visit: https://lab.dpdk.org/results/dashboard/preferences/subscriptions/
[-- Attachment #1: Type: text/plain, Size: 2533 bytes --] Test-Label: iol-testing Test-Status: SUCCESS http://dpdk.org/patch/64633 _Testing PASS_ Submitter: Kiran Kumar Kokkilagadda <kirankumark@marvell.com> Date: Tuesday, January 14 2020 09:26:22 DPDK git baseline: Repo:dpdk Branch: master CommitID:a02b9406a8769247737b55dbfa50b6b5f896d946 64633 --> testing pass Test environment and result as below: +------------------+-------------------+--------------+------------------+----------------+--------------------+ | Environment | dpdk_compile_spdk | dpdk_compile | dpdk_compile_ovs | dpdk_unit_test | dpdk_meson_compile | +==================+===================+==============+==================+================+====================+ | FreeBSD 11.2 | PASS | PASS | SKIPPED | SKIPPED | PASS | +------------------+-------------------+--------------+------------------+----------------+--------------------+ | Ubuntu 18.04 | PASS | PASS | PASS | PASS | PASS | +------------------+-------------------+--------------+------------------+----------------+--------------------+ | openSUSE Leap 15 | SKIPPED | PASS | PASS | SKIPPED | PASS | +------------------+-------------------+--------------+------------------+----------------+--------------------+ | Arch Linux | SKIPPED | PASS | PASS | SKIPPED | PASS | +------------------+-------------------+--------------+------------------+----------------+--------------------+ | Fedora 31 | SKIPPED | PASS | PASS | SKIPPED | PASS | +------------------+-------------------+--------------+------------------+----------------+--------------------+ | CentOS 8 | SKIPPED | PASS | PASS | SKIPPED | PASS | +------------------+-------------------+--------------+------------------+----------------+--------------------+ FreeBSD 11.2 Kernel: 11.2 GCC: 8.3 Ubuntu 18.04 Kernel: 4.15.0-generic GCC: 7.4 openSUSE Leap 15 Kernel: 4.12.14 GCC: 7.4.1 Arch Linux Kernel: latest GCC: latest Fedora 31 Kernel: 5.3.16 GCC: 9.2.1 CentOS 8 Kernel: 4.18.0.el8_0 GCC: 8.2 To view detailed results, visit: https://lab.dpdk.org/results/dashboard/patchsets/9182/ UNH-IOL DPDK Community Lab To manage your email subscriptions, visit: https://lab.dpdk.org/results/dashboard/preferences/subscriptions/
[-- Attachment #1: Type: text/plain, Size: 1206 bytes --] Test-Label: iol-nxp-Performance Test-Status: SUCCESS http://dpdk.org/patch/64633 _Performance Testing PASS_ Submitter: Kiran Kumar Kokkilagadda <kirankumark@marvell.com> Date: Tuesday, January 14 2020 09:26:22 DPDK git baseline: Repo:dpdk Branch: master CommitID:a02b9406a8769247737b55dbfa50b6b5f896d946 64633 --> performance testing pass Test environment and result as below: Ubuntu 18.04 Kernel: 4.14.122 GCC: 7.3.0 NIC: NXP LS2088A 10000 Mbps Target: x86_64-native-linuxapp-gcc Fail/Total: 0/2 Detail performance results: +------------+---------+-------------------------------------+ | frame_size | txd/rxd | throughput difference from expected | +============+=========+=====================================+ | 64 | 512 | -0.223 | +------------+---------+-------------------------------------+ | 64 | 2048 | -0.212 | +------------+---------+-------------------------------------+ To view detailed results, visit: https://lab.dpdk.org/results/dashboard/patchsets/9182/ UNH-IOL DPDK Community Lab To manage your email subscriptions, visit: https://lab.dpdk.org/results/dashboard/preferences/subscriptions/
[-- Attachment #1: Type: text/plain, Size: 3950 bytes --] Test-Label: iol-mellanox-Performance Test-Status: SUCCESS http://dpdk.org/patch/64633 _Performance Testing PASS_ Submitter: Kiran Kumar Kokkilagadda <kirankumark@marvell.com> Date: Tuesday, January 14 2020 09:26:22 DPDK git baseline: Repo:dpdk Branch: master CommitID:a02b9406a8769247737b55dbfa50b6b5f896d946 64633 --> performance testing pass Test environment and result as below: Ubuntu 18.04 Kernel: 4.15.0-generic GCC: 7.4 NIC: Mellanox ConnectX-5 100000 Mbps Target: x86_64-native-linuxapp-gcc Fail/Total: 0/6 Detail performance results: +------------+---------+-------------------------------------+ | frame_size | txd/rxd | throughput difference from expected | +============+=========+=====================================+ | 64 | 256 | -0.088 | +------------+---------+-------------------------------------+ | 128 | 256 | -0.101 | +------------+---------+-------------------------------------+ | 256 | 256 | -0.007 | +------------+---------+-------------------------------------+ | 512 | 256 | 0.107 | +------------+---------+-------------------------------------+ | 1024 | 256 | -0.084 | +------------+---------+-------------------------------------+ | 1518 | 256 | 0.008 | +------------+---------+-------------------------------------+ Ubuntu 18.04 Kernel: 4.15.0-generic GCC: 7.4 NIC: Mellanox ConnectX-4 Lx 25000 Mbps Target: x86_64-native-linuxapp-gcc Fail/Total: 0/6 Detail performance results: +------------+---------+-------------------------------------+ | frame_size | txd/rxd | throughput difference from expected | +============+=========+=====================================+ | 64 | 256 | -0.362 | +------------+---------+-------------------------------------+ | 128 | 256 | 0.379 | +------------+---------+-------------------------------------+ | 256 | 256 | -0.068 | +------------+---------+-------------------------------------+ | 512 | 256 | 0.032 | +------------+---------+-------------------------------------+ | 1024 | 256 | -0.001 | +------------+---------+-------------------------------------+ | 1518 | 256 | -0.002 | +------------+---------+-------------------------------------+ Ubuntu 18.04 Kernel: 4.15.0-generic GCC: 7.4 NIC: Mellanox ConnectX-4 Lx 40000 Mbps Target: x86_64-native-linuxapp-gcc Fail/Total: 0/6 Detail performance results: +------------+---------+-------------------------------------+ | frame_size | txd/rxd | throughput difference from expected | +============+=========+=====================================+ | 64 | 256 | -0.068 | +------------+---------+-------------------------------------+ | 128 | 256 | 0.019 | +------------+---------+-------------------------------------+ | 256 | 256 | 0.062 | +------------+---------+-------------------------------------+ | 512 | 256 | 0.013 | +------------+---------+-------------------------------------+ | 1024 | 256 | -0.025 | +------------+---------+-------------------------------------+ | 1518 | 256 | -0.016 | +------------+---------+-------------------------------------+ To view detailed results, visit: https://lab.dpdk.org/results/dashboard/patchsets/9182/ UNH-IOL DPDK Community Lab To manage your email subscriptions, visit: https://lab.dpdk.org/results/dashboard/preferences/subscriptions/