Test-Label: checkpatch Test-Status: SUCCESS http://dpdk.org/patch/64644 _coding style OK_
[-- Attachment #1: Type: text/plain, Size: 2523 bytes --] Test-Label: iol-testing Test-Status: SUCCESS http://dpdk.org/patch/64644 _Testing PASS_ Submitter: Artur Trybula <arturx.trybula@intel.com> Date: Tuesday, January 14 2020 11:56:56 DPDK git baseline: Repo:dpdk Branch: master CommitID:31bb45bcfdf5d67737eab17747b383775c9c36ae 64644 --> testing pass Test environment and result as below: +------------------+-------------------+--------------+------------------+----------------+--------------------+ | Environment | dpdk_compile_spdk | dpdk_compile | dpdk_compile_ovs | dpdk_unit_test | dpdk_meson_compile | +==================+===================+==============+==================+================+====================+ | Ubuntu 18.04 | PASS | PASS | PASS | PASS | PASS | +------------------+-------------------+--------------+------------------+----------------+--------------------+ | FreeBSD 11.2 | PASS | PASS | SKIPPED | SKIPPED | PASS | +------------------+-------------------+--------------+------------------+----------------+--------------------+ | Arch Linux | SKIPPED | PASS | PASS | SKIPPED | PASS | +------------------+-------------------+--------------+------------------+----------------+--------------------+ | openSUSE Leap 15 | SKIPPED | PASS | PASS | SKIPPED | PASS | +------------------+-------------------+--------------+------------------+----------------+--------------------+ | Fedora 31 | SKIPPED | PASS | PASS | SKIPPED | PASS | +------------------+-------------------+--------------+------------------+----------------+--------------------+ | CentOS 8 | SKIPPED | PASS | PASS | SKIPPED | PASS | +------------------+-------------------+--------------+------------------+----------------+--------------------+ Ubuntu 18.04 Kernel: 4.15.0-generic GCC: 7.4 FreeBSD 11.2 Kernel: 11.2 GCC: 8.3 Arch Linux Kernel: latest GCC: latest openSUSE Leap 15 Kernel: 4.12.14 GCC: 7.4.1 Fedora 31 Kernel: 5.3.16 GCC: 9.2.1 CentOS 8 Kernel: 4.18.0.el8_0 GCC: 8.2 To view detailed results, visit: https://lab.dpdk.org/results/dashboard/patchsets/9188/ UNH-IOL DPDK Community Lab To manage your email subscriptions, visit: https://lab.dpdk.org/results/dashboard/preferences/subscriptions/
From: robot@bytheb.org Test-Label: travis-robot Test-Status: SUCCESS http://dpdk.org/patch/64644 _Travis build: passed_ Build URL: https://travis-ci.com/ovsrobot/dpdk/builds/144322504
[-- Attachment #1: Type: text/plain, Size: 1196 bytes --] Test-Label: iol-nxp-Performance Test-Status: SUCCESS http://dpdk.org/patch/64644 _Performance Testing PASS_ Submitter: Artur Trybula <arturx.trybula@intel.com> Date: Tuesday, January 14 2020 11:56:56 DPDK git baseline: Repo:dpdk Branch: master CommitID:31bb45bcfdf5d67737eab17747b383775c9c36ae 64644 --> performance testing pass Test environment and result as below: Ubuntu 18.04 Kernel: 4.14.122 GCC: 7.3.0 NIC: NXP LS2088A 10000 Mbps Target: x86_64-native-linuxapp-gcc Fail/Total: 0/2 Detail performance results: +------------+---------+-------------------------------------+ | frame_size | txd/rxd | throughput difference from expected | +============+=========+=====================================+ | 64 | 512 | 0.123 | +------------+---------+-------------------------------------+ | 64 | 2048 | 0.161 | +------------+---------+-------------------------------------+ To view detailed results, visit: https://lab.dpdk.org/results/dashboard/patchsets/9188/ UNH-IOL DPDK Community Lab To manage your email subscriptions, visit: https://lab.dpdk.org/results/dashboard/preferences/subscriptions/
[-- Attachment #1: Type: text/plain, Size: 1254 bytes --] Test-Label: iol-intel-Performance Test-Status: SUCCESS http://dpdk.org/patch/64644 _Performance Testing PASS_ Submitter: Artur Trybula <arturx.trybula@intel.com> Date: Tuesday, January 14 2020 11:56:56 DPDK git baseline: Repo:dpdk Branch: master CommitID:31bb45bcfdf5d67737eab17747b383775c9c36ae 64644 --> performance testing pass Test environment and result as below: Ubuntu 18.04 Kernel: 4.15.0-generic GCC: 7.4 NIC: Intel Corporation Ethernet Converged Network Adapter XL710-QDA2 40000 Mbps Target: x86_64-native-linuxapp-gcc Fail/Total: 0/2 Detail performance results: +------------+---------+-------------------------------------+ | frame_size | txd/rxd | throughput difference from expected | +============+=========+=====================================+ | 64 | 512 | 0.084 | +------------+---------+-------------------------------------+ | 64 | 2048 | -0.004 | +------------+---------+-------------------------------------+ To view detailed results, visit: https://lab.dpdk.org/results/dashboard/patchsets/9188/ UNH-IOL DPDK Community Lab To manage your email subscriptions, visit: https://lab.dpdk.org/results/dashboard/preferences/subscriptions/
[-- Attachment #1: Type: text/plain, Size: 3940 bytes --] Test-Label: iol-mellanox-Performance Test-Status: SUCCESS http://dpdk.org/patch/64644 _Performance Testing PASS_ Submitter: Artur Trybula <arturx.trybula@intel.com> Date: Tuesday, January 14 2020 11:56:56 DPDK git baseline: Repo:dpdk Branch: master CommitID:31bb45bcfdf5d67737eab17747b383775c9c36ae 64644 --> performance testing pass Test environment and result as below: Ubuntu 18.04 Kernel: 4.15.0-generic GCC: 7.4 NIC: Mellanox ConnectX-5 100000 Mbps Target: x86_64-native-linuxapp-gcc Fail/Total: 0/6 Detail performance results: +------------+---------+-------------------------------------+ | frame_size | txd/rxd | throughput difference from expected | +============+=========+=====================================+ | 64 | 256 | 0.180 | +------------+---------+-------------------------------------+ | 128 | 256 | 0.186 | +------------+---------+-------------------------------------+ | 256 | 256 | -0.004 | +------------+---------+-------------------------------------+ | 512 | 256 | -0.044 | +------------+---------+-------------------------------------+ | 1024 | 256 | 0.030 | +------------+---------+-------------------------------------+ | 1518 | 256 | 0.011 | +------------+---------+-------------------------------------+ Ubuntu 18.04 Kernel: 4.15.0-generic GCC: 7.4 NIC: Mellanox ConnectX-4 Lx 25000 Mbps Target: x86_64-native-linuxapp-gcc Fail/Total: 0/6 Detail performance results: +------------+---------+-------------------------------------+ | frame_size | txd/rxd | throughput difference from expected | +============+=========+=====================================+ | 64 | 256 | -0.191 | +------------+---------+-------------------------------------+ | 128 | 256 | -0.195 | +------------+---------+-------------------------------------+ | 256 | 256 | 0.018 | +------------+---------+-------------------------------------+ | 512 | 256 | -0.003 | +------------+---------+-------------------------------------+ | 1024 | 256 | 0.004 | +------------+---------+-------------------------------------+ | 1518 | 256 | 0.001 | +------------+---------+-------------------------------------+ Ubuntu 18.04 Kernel: 4.15.0-generic GCC: 7.4 NIC: Mellanox ConnectX-4 Lx 40000 Mbps Target: x86_64-native-linuxapp-gcc Fail/Total: 0/6 Detail performance results: +------------+---------+-------------------------------------+ | frame_size | txd/rxd | throughput difference from expected | +============+=========+=====================================+ | 64 | 256 | -0.283 | +------------+---------+-------------------------------------+ | 128 | 256 | -0.157 | +------------+---------+-------------------------------------+ | 256 | 256 | 0.061 | +------------+---------+-------------------------------------+ | 512 | 256 | -0.003 | +------------+---------+-------------------------------------+ | 1024 | 256 | -0.005 | +------------+---------+-------------------------------------+ | 1518 | 256 | 0.010 | +------------+---------+-------------------------------------+ To view detailed results, visit: https://lab.dpdk.org/results/dashboard/patchsets/9188/ UNH-IOL DPDK Community Lab To manage your email subscriptions, visit: https://lab.dpdk.org/results/dashboard/preferences/subscriptions/