automatic DPDK test reports
 help / color / Atom feed
* [dpdk-test-report] |SUCCESS| pw64635 [PATCH] maintainers: set git tree for packet framework and QoS
@ 2020-01-14 12:46 dpdklab
  0 siblings, 0 replies; 4+ messages in thread
From: dpdklab @ 2020-01-14 12:46 UTC (permalink / raw)
  To: Ruoshan Shi, Test Report; +Cc: dpdk-test-reports

[-- Attachment #1: Type: text/plain, Size: 1198 bytes --]

Test-Label: iol-nxp-Performance
Test-Status: SUCCESS
http://dpdk.org/patch/64635

_Performance Testing PASS_

Submitter: David Marchand <david.marchand@redhat.com>
Date: Tuesday, January 14 2020 10:05:59 
DPDK git baseline: Repo:dpdk
  Branch: master
  CommitID:a02b9406a8769247737b55dbfa50b6b5f896d946

64635 --> performance testing pass

Test environment and result as below:

Ubuntu 18.04
Kernel: 4.14.122
GCC: 7.3.0
NIC: NXP LS2088A 10000 Mbps
Target: x86_64-native-linuxapp-gcc
Fail/Total: 0/2

Detail performance results: 
+------------+---------+-------------------------------------+
| frame_size | txd/rxd | throughput difference from expected |
+============+=========+=====================================+
| 64         | 512     | 0.101                               |
+------------+---------+-------------------------------------+
| 64         | 2048    | -0.045                              |
+------------+---------+-------------------------------------+

To view detailed results, visit:
https://lab.dpdk.org/results/dashboard/patchsets/9184/

UNH-IOL DPDK Community Lab

To manage your email subscriptions, visit: 
https://lab.dpdk.org/results/dashboard/preferences/subscriptions/

^ permalink raw reply	[flat|nested] 4+ messages in thread

* [dpdk-test-report] |SUCCESS| pw64635 [PATCH] maintainers: set git tree for packet framework and QoS
@ 2020-01-14 13:07 dpdklab
  0 siblings, 0 replies; 4+ messages in thread
From: dpdklab @ 2020-01-14 13:07 UTC (permalink / raw)
  To: Test Report; +Cc: dpdk-test-reports

[-- Attachment #1: Type: text/plain, Size: 1379 bytes --]

Test-Label: iol-intel-Performance
Test-Status: SUCCESS
http://dpdk.org/patch/64635

_Performance Testing PASS_

Submitter: David Marchand <david.marchand@redhat.com>
Date: Tuesday, January 14 2020 10:05:59 
DPDK git baseline: Repo:dpdk
  Branch: master
  CommitID:a02b9406a8769247737b55dbfa50b6b5f896d946

64635 --> performance testing pass

Test environment and result as below:

Ubuntu 18.04
Kernel: 4.15.0-generic
GCC: 7.4
NIC: Intel Corporation Ethernet Converged Network Adapter 82599ES 10000 Mbps
Target: x86_64-native-linuxapp-gcc
Fail/Total: 0/3

Detail performance results: 
+------------+---------+-------------------------------------+
| frame_size | txd/rxd | throughput difference from expected |
+============+=========+=====================================+
| 64         | 128     | -0.036                              |
+------------+---------+-------------------------------------+
| 64         | 512     | -0.143                              |
+------------+---------+-------------------------------------+
| 64         | 2048    | 0.050                               |
+------------+---------+-------------------------------------+

To view detailed results, visit:
https://lab.dpdk.org/results/dashboard/patchsets/9184/

UNH-IOL DPDK Community Lab

To manage your email subscriptions, visit: 
https://lab.dpdk.org/results/dashboard/preferences/subscriptions/

^ permalink raw reply	[flat|nested] 4+ messages in thread

* [dpdk-test-report] |SUCCESS| pw64635 [PATCH] maintainers: set git tree for packet framework and QoS
@ 2020-01-14 12:46 dpdklab
  0 siblings, 0 replies; 4+ messages in thread
From: dpdklab @ 2020-01-14 12:46 UTC (permalink / raw)
  To: Ali Alnubani, Test Report; +Cc: dpdk-test-reports

[-- Attachment #1: Type: text/plain, Size: 3942 bytes --]

Test-Label: iol-mellanox-Performance
Test-Status: SUCCESS
http://dpdk.org/patch/64635

_Performance Testing PASS_

Submitter: David Marchand <david.marchand@redhat.com>
Date: Tuesday, January 14 2020 10:05:59 
DPDK git baseline: Repo:dpdk
  Branch: master
  CommitID:a02b9406a8769247737b55dbfa50b6b5f896d946

64635 --> performance testing pass

Test environment and result as below:

Ubuntu 18.04
Kernel: 4.15.0-generic
GCC: 7.4
NIC: Mellanox ConnectX-4 Lx 40000 Mbps
Target: x86_64-native-linuxapp-gcc
Fail/Total: 0/6

Detail performance results: 
+------------+---------+-------------------------------------+
| frame_size | txd/rxd | throughput difference from expected |
+============+=========+=====================================+
| 64         | 256     | 0.266                               |
+------------+---------+-------------------------------------+
| 128        | 256     | 0.011                               |
+------------+---------+-------------------------------------+
| 256        | 256     | 0.091                               |
+------------+---------+-------------------------------------+
| 512        | 256     | -0.006                              |
+------------+---------+-------------------------------------+
| 1024       | 256     | -0.022                              |
+------------+---------+-------------------------------------+
| 1518       | 256     | -0.002                              |
+------------+---------+-------------------------------------+

Ubuntu 18.04
Kernel: 4.15.0-generic
GCC: 7.4
NIC: Mellanox ConnectX-4 Lx 25000 Mbps
Target: x86_64-native-linuxapp-gcc
Fail/Total: 0/6

Detail performance results: 
+------------+---------+-------------------------------------+
| frame_size | txd/rxd | throughput difference from expected |
+============+=========+=====================================+
| 64         | 256     | -0.054                              |
+------------+---------+-------------------------------------+
| 128        | 256     | 0.263                               |
+------------+---------+-------------------------------------+
| 256        | 256     | -0.051                              |
+------------+---------+-------------------------------------+
| 512        | 256     | 0.015                               |
+------------+---------+-------------------------------------+
| 1024       | 256     | -0.008                              |
+------------+---------+-------------------------------------+
| 1518       | 256     | 0.012                               |
+------------+---------+-------------------------------------+

Ubuntu 18.04
Kernel: 4.15.0-generic
GCC: 7.4
NIC: Mellanox ConnectX-5 100000 Mbps
Target: x86_64-native-linuxapp-gcc
Fail/Total: 0/6

Detail performance results: 
+------------+---------+-------------------------------------+
| frame_size | txd/rxd | throughput difference from expected |
+============+=========+=====================================+
| 64         | 256     | -0.528                              |
+------------+---------+-------------------------------------+
| 128        | 256     | 0.017                               |
+------------+---------+-------------------------------------+
| 256        | 256     | 0.071                               |
+------------+---------+-------------------------------------+
| 512        | 256     | 0.037                               |
+------------+---------+-------------------------------------+
| 1024       | 256     | -0.012                              |
+------------+---------+-------------------------------------+
| 1518       | 256     | 0.048                               |
+------------+---------+-------------------------------------+

To view detailed results, visit:
https://lab.dpdk.org/results/dashboard/patchsets/9184/

UNH-IOL DPDK Community Lab

To manage your email subscriptions, visit: 
https://lab.dpdk.org/results/dashboard/preferences/subscriptions/

^ permalink raw reply	[flat|nested] 4+ messages in thread

* [dpdk-test-report] |SUCCESS| pw64635 [PATCH] maintainers: set git tree for packet framework and QoS
@ 2020-01-14 10:59 dpdklab
  0 siblings, 0 replies; 4+ messages in thread
From: dpdklab @ 2020-01-14 10:59 UTC (permalink / raw)
  To: Test Report; +Cc: dpdk-test-reports

[-- Attachment #1: Type: text/plain, Size: 2525 bytes --]

Test-Label: iol-testing
Test-Status: SUCCESS
http://dpdk.org/patch/64635

_Testing PASS_

Submitter: David Marchand <david.marchand@redhat.com>
Date: Tuesday, January 14 2020 10:05:59 
DPDK git baseline: Repo:dpdk
  Branch: master
  CommitID:a02b9406a8769247737b55dbfa50b6b5f896d946

64635 --> testing pass

Test environment and result as below:

+------------------+-------------------+--------------+------------------+----------------+--------------------+
|   Environment    | dpdk_compile_spdk | dpdk_compile | dpdk_compile_ovs | dpdk_unit_test | dpdk_meson_compile |
+==================+===================+==============+==================+================+====================+
| Ubuntu 18.04     | PASS              | PASS         | PASS             | PASS           | PASS               |
+------------------+-------------------+--------------+------------------+----------------+--------------------+
| FreeBSD 11.2     | PASS              | PASS         | SKIPPED          | SKIPPED        | PASS               |
+------------------+-------------------+--------------+------------------+----------------+--------------------+
| openSUSE Leap 15 | SKIPPED           | PASS         | PASS             | SKIPPED        | PASS               |
+------------------+-------------------+--------------+------------------+----------------+--------------------+
| Fedora 31        | SKIPPED           | PASS         | PASS             | SKIPPED        | PASS               |
+------------------+-------------------+--------------+------------------+----------------+--------------------+
| CentOS 8         | SKIPPED           | PASS         | PASS             | SKIPPED        | PASS               |
+------------------+-------------------+--------------+------------------+----------------+--------------------+
| Arch Linux       | SKIPPED           | PASS         | PASS             | SKIPPED        | PASS               |
+------------------+-------------------+--------------+------------------+----------------+--------------------+

Ubuntu 18.04
	Kernel: 4.15.0-generic
	GCC: 7.4

FreeBSD 11.2
	Kernel: 11.2
	GCC: 8.3

openSUSE Leap 15
	Kernel: 4.12.14
	GCC: 7.4.1

Fedora 31
	Kernel: 5.3.16
	GCC: 9.2.1

CentOS 8
	Kernel: 4.18.0.el8_0
	GCC: 8.2

Arch Linux
	Kernel: latest
	GCC: latest

To view detailed results, visit:
https://lab.dpdk.org/results/dashboard/patchsets/9184/

UNH-IOL DPDK Community Lab

To manage your email subscriptions, visit: 
https://lab.dpdk.org/results/dashboard/preferences/subscriptions/

^ permalink raw reply	[flat|nested] 4+ messages in thread

end of thread, back to index

Thread overview: 4+ messages (download: mbox.gz / follow: Atom feed)
-- links below jump to the message on this page --
2020-01-14 12:46 [dpdk-test-report] |SUCCESS| pw64635 [PATCH] maintainers: set git tree for packet framework and QoS dpdklab
  -- strict thread matches above, loose matches on Subject: below --
2020-01-14 13:07 dpdklab
2020-01-14 12:46 dpdklab
2020-01-14 10:59 dpdklab

automatic DPDK test reports

Archives are clonable:
	git clone --mirror http://inbox.dpdk.org/test-report/0 test-report/git/0.git

	# If you have public-inbox 1.1+ installed, you may
	# initialize and index your mirror using the following commands:
	public-inbox-init -V2 test-report test-report/ http://inbox.dpdk.org/test-report \
		test-report@dpdk.org
	public-inbox-index test-report


Newsgroup available over NNTP:
	nntp://inbox.dpdk.org/inbox.dpdk.test-report


AGPL code for this site: git clone https://public-inbox.org/ public-inbox