automatic DPDK test reports
 help / color / Atom feed
* [dpdk-test-report] |SUCCESS| pw64616 [PATCH] [v3] net/i40e: fix multi-queue Rx interrupt for VF
@ 2020-01-14 13:54 dpdklab
  0 siblings, 0 replies; 5+ messages in thread
From: dpdklab @ 2020-01-14 13:54 UTC (permalink / raw)
  To: Test Report; +Cc: dpdk-test-reports

[-- Attachment #1: Type: text/plain, Size: 1388 bytes --]

Test-Label: iol-intel-Performance
Test-Status: SUCCESS
http://dpdk.org/patch/64616

_Performance Testing PASS_

Submitter: Lunyuan Cui <lunyuanx.cui@intel.com>
Date: Tuesday, January 14 2020 06:25:49 
DPDK git baseline: Repo:dpdk-next-net-intel
  Branch: master
  CommitID:238c5b39007f76e5c86e361641e1f312321c7fe6

64616 --> performance testing pass

Test environment and result as below:

Ubuntu 18.04
Kernel: 4.15.0-generic
GCC: 7.4
NIC: Intel Corporation Ethernet Converged Network Adapter 82599ES 10000 Mbps
Target: x86_64-native-linuxapp-gcc
Fail/Total: 0/3

Detail performance results: 
+------------+---------+-------------------------------------+
| frame_size | txd/rxd | throughput difference from expected |
+============+=========+=====================================+
| 64         | 128     | -0.090                              |
+------------+---------+-------------------------------------+
| 64         | 512     | -0.418                              |
+------------+---------+-------------------------------------+
| 64         | 2048    | -0.108                              |
+------------+---------+-------------------------------------+

To view detailed results, visit:
https://lab.dpdk.org/results/dashboard/patchsets/9174/

UNH-IOL DPDK Community Lab

To manage your email subscriptions, visit: 
https://lab.dpdk.org/results/dashboard/preferences/subscriptions/

^ permalink raw reply	[flat|nested] 5+ messages in thread

* [dpdk-test-report] |SUCCESS| pw64616 [PATCH] [v3] net/i40e: fix multi-queue Rx interrupt for VF
@ 2020-01-14  8:20 dpdklab
  0 siblings, 0 replies; 5+ messages in thread
From: dpdklab @ 2020-01-14  8:20 UTC (permalink / raw)
  To: Ruoshan Shi, Test Report; +Cc: dpdk-test-reports

[-- Attachment #1: Type: text/plain, Size: 1207 bytes --]

Test-Label: iol-nxp-Performance
Test-Status: SUCCESS
http://dpdk.org/patch/64616

_Performance Testing PASS_

Submitter: Lunyuan Cui <lunyuanx.cui@intel.com>
Date: Tuesday, January 14 2020 06:25:49 
DPDK git baseline: Repo:dpdk-next-net-intel
  Branch: master
  CommitID:238c5b39007f76e5c86e361641e1f312321c7fe6

64616 --> performance testing pass

Test environment and result as below:

Ubuntu 18.04
Kernel: 4.14.122
GCC: 7.3.0
NIC: NXP LS2088A 10000 Mbps
Target: x86_64-native-linuxapp-gcc
Fail/Total: 0/2

Detail performance results: 
+------------+---------+-------------------------------------+
| frame_size | txd/rxd | throughput difference from expected |
+============+=========+=====================================+
| 64         | 512     | -0.096                              |
+------------+---------+-------------------------------------+
| 64         | 2048    | -0.081                              |
+------------+---------+-------------------------------------+

To view detailed results, visit:
https://lab.dpdk.org/results/dashboard/patchsets/9174/

UNH-IOL DPDK Community Lab

To manage your email subscriptions, visit: 
https://lab.dpdk.org/results/dashboard/preferences/subscriptions/

^ permalink raw reply	[flat|nested] 5+ messages in thread

* [dpdk-test-report] |SUCCESS| pw64616 [PATCH] [v3] net/i40e: fix multi-queue Rx interrupt for VF
@ 2020-01-14  8:20 dpdklab
  0 siblings, 0 replies; 5+ messages in thread
From: dpdklab @ 2020-01-14  8:20 UTC (permalink / raw)
  To: Ali Alnubani, Test Report; +Cc: dpdk-test-reports

[-- Attachment #1: Type: text/plain, Size: 3951 bytes --]

Test-Label: iol-mellanox-Performance
Test-Status: SUCCESS
http://dpdk.org/patch/64616

_Performance Testing PASS_

Submitter: Lunyuan Cui <lunyuanx.cui@intel.com>
Date: Tuesday, January 14 2020 06:25:49 
DPDK git baseline: Repo:dpdk-next-net-intel
  Branch: master
  CommitID:238c5b39007f76e5c86e361641e1f312321c7fe6

64616 --> performance testing pass

Test environment and result as below:

Ubuntu 18.04
Kernel: 4.15.0-generic
GCC: 7.4
NIC: Mellanox ConnectX-5 100000 Mbps
Target: x86_64-native-linuxapp-gcc
Fail/Total: 0/6

Detail performance results: 
+------------+---------+-------------------------------------+
| frame_size | txd/rxd | throughput difference from expected |
+============+=========+=====================================+
| 64         | 256     | 0.050                               |
+------------+---------+-------------------------------------+
| 128        | 256     | 0.109                               |
+------------+---------+-------------------------------------+
| 256        | 256     | -0.130                              |
+------------+---------+-------------------------------------+
| 512        | 256     | 0.010                               |
+------------+---------+-------------------------------------+
| 1024       | 256     | 0.004                               |
+------------+---------+-------------------------------------+
| 1518       | 256     | 0.029                               |
+------------+---------+-------------------------------------+

Ubuntu 18.04
Kernel: 4.15.0-generic
GCC: 7.4
NIC: Mellanox ConnectX-4 Lx 25000 Mbps
Target: x86_64-native-linuxapp-gcc
Fail/Total: 0/6

Detail performance results: 
+------------+---------+-------------------------------------+
| frame_size | txd/rxd | throughput difference from expected |
+============+=========+=====================================+
| 64         | 256     | -0.444                              |
+------------+---------+-------------------------------------+
| 128        | 256     | 0.137                               |
+------------+---------+-------------------------------------+
| 256        | 256     | -0.037                              |
+------------+---------+-------------------------------------+
| 512        | 256     | -0.005                              |
+------------+---------+-------------------------------------+
| 1024       | 256     | 0.004                               |
+------------+---------+-------------------------------------+
| 1518       | 256     | 0.002                               |
+------------+---------+-------------------------------------+

Ubuntu 18.04
Kernel: 4.15.0-generic
GCC: 7.4
NIC: Mellanox ConnectX-4 Lx 40000 Mbps
Target: x86_64-native-linuxapp-gcc
Fail/Total: 0/6

Detail performance results: 
+------------+---------+-------------------------------------+
| frame_size | txd/rxd | throughput difference from expected |
+============+=========+=====================================+
| 64         | 256     | 0.175                               |
+------------+---------+-------------------------------------+
| 128        | 256     | -0.002                              |
+------------+---------+-------------------------------------+
| 256        | 256     | 0.065                               |
+------------+---------+-------------------------------------+
| 512        | 256     | -0.011                              |
+------------+---------+-------------------------------------+
| 1024       | 256     | -0.022                              |
+------------+---------+-------------------------------------+
| 1518       | 256     | -0.019                              |
+------------+---------+-------------------------------------+

To view detailed results, visit:
https://lab.dpdk.org/results/dashboard/patchsets/9174/

UNH-IOL DPDK Community Lab

To manage your email subscriptions, visit: 
https://lab.dpdk.org/results/dashboard/preferences/subscriptions/

^ permalink raw reply	[flat|nested] 5+ messages in thread

* [dpdk-test-report] |SUCCESS| pw64616 [PATCH] [v3] net/i40e: fix multi-queue Rx interrupt for VF
@ 2020-01-14  7:02 dpdklab
  0 siblings, 0 replies; 5+ messages in thread
From: dpdklab @ 2020-01-14  7:02 UTC (permalink / raw)
  To: Test Report; +Cc: dpdk-test-reports

[-- Attachment #1: Type: text/plain, Size: 2534 bytes --]

Test-Label: iol-testing
Test-Status: SUCCESS
http://dpdk.org/patch/64616

_Testing PASS_

Submitter: Lunyuan Cui <lunyuanx.cui@intel.com>
Date: Tuesday, January 14 2020 06:25:49 
DPDK git baseline: Repo:dpdk-next-net-intel
  Branch: master
  CommitID:238c5b39007f76e5c86e361641e1f312321c7fe6

64616 --> testing pass

Test environment and result as below:

+------------------+-------------------+--------------+------------------+----------------+--------------------+
|   Environment    | dpdk_compile_spdk | dpdk_compile | dpdk_compile_ovs | dpdk_unit_test | dpdk_meson_compile |
+==================+===================+==============+==================+================+====================+
| Ubuntu 18.04     | PASS              | PASS         | PASS             | PASS           | PASS               |
+------------------+-------------------+--------------+------------------+----------------+--------------------+
| FreeBSD 11.2     | PASS              | PASS         | SKIPPED          | SKIPPED        | PASS               |
+------------------+-------------------+--------------+------------------+----------------+--------------------+
| openSUSE Leap 15 | SKIPPED           | PASS         | PASS             | SKIPPED        | PASS               |
+------------------+-------------------+--------------+------------------+----------------+--------------------+
| Arch Linux       | SKIPPED           | PASS         | PASS             | SKIPPED        | PASS               |
+------------------+-------------------+--------------+------------------+----------------+--------------------+
| Fedora 31        | SKIPPED           | PASS         | PASS             | SKIPPED        | PASS               |
+------------------+-------------------+--------------+------------------+----------------+--------------------+
| CentOS 8         | SKIPPED           | PASS         | PASS             | SKIPPED        | PASS               |
+------------------+-------------------+--------------+------------------+----------------+--------------------+

Ubuntu 18.04
	Kernel: 4.15.0-generic
	GCC: 7.4

FreeBSD 11.2
	Kernel: 11.2
	GCC: 8.3

openSUSE Leap 15
	Kernel: 4.12.14
	GCC: 7.4.1

Arch Linux
	Kernel: latest
	GCC: latest

Fedora 31
	Kernel: 5.3.16
	GCC: 9.2.1

CentOS 8
	Kernel: 4.18.0.el8_0
	GCC: 8.2

To view detailed results, visit:
https://lab.dpdk.org/results/dashboard/patchsets/9174/

UNH-IOL DPDK Community Lab

To manage your email subscriptions, visit: 
https://lab.dpdk.org/results/dashboard/preferences/subscriptions/

^ permalink raw reply	[flat|nested] 5+ messages in thread

* [dpdk-test-report] |SUCCESS| pw64616 [PATCH v3] net/i40e: fix multi-queue Rx interrupt for VF
       [not found] <20200114062549.29970-1-lunyuanx.cui@intel.com>
@ 2020-01-14  6:36 ` " checkpatch
  0 siblings, 0 replies; 5+ messages in thread
From: checkpatch @ 2020-01-14  6:36 UTC (permalink / raw)
  To: test-report

Test-Label: checkpatch
Test-Status: SUCCESS
http://dpdk.org/patch/64616

_coding style OK_



^ permalink raw reply	[flat|nested] 5+ messages in thread

end of thread, back to index

Thread overview: 5+ messages (download: mbox.gz / follow: Atom feed)
-- links below jump to the message on this page --
2020-01-14 13:54 [dpdk-test-report] |SUCCESS| pw64616 [PATCH] [v3] net/i40e: fix multi-queue Rx interrupt for VF dpdklab
  -- strict thread matches above, loose matches on Subject: below --
2020-01-14  8:20 dpdklab
2020-01-14  8:20 dpdklab
2020-01-14  7:02 dpdklab
     [not found] <20200114062549.29970-1-lunyuanx.cui@intel.com>
2020-01-14  6:36 ` [dpdk-test-report] |SUCCESS| pw64616 [PATCH v3] " checkpatch

automatic DPDK test reports

Archives are clonable:
	git clone --mirror http://inbox.dpdk.org/test-report/0 test-report/git/0.git

	# If you have public-inbox 1.1+ installed, you may
	# initialize and index your mirror using the following commands:
	public-inbox-init -V2 test-report test-report/ http://inbox.dpdk.org/test-report \
		test-report@dpdk.org
	public-inbox-index test-report


Newsgroup available over NNTP:
	nntp://inbox.dpdk.org/inbox.dpdk.test-report


AGPL code for this site: git clone https://public-inbox.org/ public-inbox