automatic DPDK test reports
 help / color / Atom feed
* [dpdk-test-report] |SUCCESS| pw64678 [PATCH] net/ixgbe: fix build for gcc 4.8.5
@ 2020-01-14 22:40 " dpdklab
  0 siblings, 0 replies; 6+ messages in thread
From: dpdklab @ 2020-01-14 22:40 UTC (permalink / raw)
  To: Test Report; +Cc: dpdk-test-reports

[-- Attachment #1: Type: text/plain, Size: 2022 bytes --]

Test-Label: iol-intel-Performance
Test-Status: SUCCESS
http://dpdk.org/patch/64678

_Performance Testing PASS_

Submitter: Ferruh Yigit <ferruh.yigit@intel.com>
Date: Tuesday, January 14 2020 17:52:47 
DPDK git baseline: Repo:dpdk
  Branch: master
  CommitID:a02b9406a8769247737b55dbfa50b6b5f896d946

64678 --> performance testing pass

Test environment and result as below:

Ubuntu 18.04
Kernel: 4.15.0-generic
GCC: 7.4
NIC: Intel Corporation Ethernet Converged Network Adapter 82599ES 10000 Mbps
Target: x86_64-native-linuxapp-gcc
Fail/Total: 0/3

Detail performance results: 
+------------+---------+-------------------------------------+
| frame_size | txd/rxd | throughput difference from expected |
+============+=========+=====================================+
| 64         | 128     | 0.043                               |
+------------+---------+-------------------------------------+
| 64         | 512     | 0.444                               |
+------------+---------+-------------------------------------+
| 64         | 2048    | 0.166                               |
+------------+---------+-------------------------------------+

Ubuntu 18.04
Kernel: 4.15.0-generic
GCC: 7.4
NIC: Intel Corporation Ethernet Converged Network Adapter XL710-QDA2 40000 Mbps
Target: x86_64-native-linuxapp-gcc
Fail/Total: 0/2

Detail performance results: 
+------------+---------+-------------------------------------+
| frame_size | txd/rxd | throughput difference from expected |
+============+=========+=====================================+
| 64         | 512     | -0.250                              |
+------------+---------+-------------------------------------+
| 64         | 2048    | -0.175                              |
+------------+---------+-------------------------------------+

To view detailed results, visit:
https://lab.dpdk.org/results/dashboard/patchsets/9195/

UNH-IOL DPDK Community Lab

To manage your email subscriptions, visit: 
https://lab.dpdk.org/results/dashboard/preferences/subscriptions/

^ permalink raw reply	[flat|nested] 6+ messages in thread
* [dpdk-test-report] |SUCCESS| pw64678 [PATCH] net/ixgbe: fix build for gcc 4.8.5
@ 2020-01-14 22:47 dpdklab
  0 siblings, 0 replies; 6+ messages in thread
From: dpdklab @ 2020-01-14 22:47 UTC (permalink / raw)
  To: Test Report; +Cc: dpdk-test-reports

[-- Attachment #1: Type: text/plain, Size: 2520 bytes --]

Test-Label: iol-testing
Test-Status: SUCCESS
http://dpdk.org/patch/64678

_Testing PASS_

Submitter: Ferruh Yigit <ferruh.yigit@intel.com>
Date: Tuesday, January 14 2020 17:52:47 
DPDK git baseline: Repo:dpdk
  Branch: master
  CommitID:a02b9406a8769247737b55dbfa50b6b5f896d946

64678 --> testing pass

Test environment and result as below:

+------------------+-------------------+--------------------+--------------+------------------+----------------+
|   Environment    | dpdk_compile_spdk | dpdk_meson_compile | dpdk_compile | dpdk_compile_ovs | dpdk_unit_test |
+==================+===================+====================+==============+==================+================+
| FreeBSD 11.2     | PASS              | PASS               | PASS         | SKIPPED          | SKIPPED        |
+------------------+-------------------+--------------------+--------------+------------------+----------------+
| Ubuntu 18.04     | PASS              | PASS               | PASS         | PASS             | PASS           |
+------------------+-------------------+--------------------+--------------+------------------+----------------+
| openSUSE Leap 15 | SKIPPED           | PASS               | PASS         | PASS             | SKIPPED        |
+------------------+-------------------+--------------------+--------------+------------------+----------------+
| Fedora 31        | SKIPPED           | PASS               | PASS         | PASS             | SKIPPED        |
+------------------+-------------------+--------------------+--------------+------------------+----------------+
| CentOS 8         | SKIPPED           | PASS               | PASS         | PASS             | SKIPPED        |
+------------------+-------------------+--------------------+--------------+------------------+----------------+
| Arch Linux       | SKIPPED           | PASS               | PASS         | PASS             | SKIPPED        |
+------------------+-------------------+--------------------+--------------+------------------+----------------+

FreeBSD 11.2
	Kernel: 11.2
	GCC: 8.3

Ubuntu 18.04
	Kernel: 4.15.0-generic
	GCC: 7.4

openSUSE Leap 15
	Kernel: 4.12.14
	GCC: 7.4.1

Fedora 31
	Kernel: 5.3.16
	GCC: 9.2.1

CentOS 8
	Kernel: 4.18.0.el8_0
	GCC: 8.2

Arch Linux
	Kernel: latest
	GCC: latest

To view detailed results, visit:
https://lab.dpdk.org/results/dashboard/patchsets/9195/

UNH-IOL DPDK Community Lab

To manage your email subscriptions, visit: 
https://lab.dpdk.org/results/dashboard/preferences/subscriptions/

^ permalink raw reply	[flat|nested] 6+ messages in thread
* [dpdk-test-report] |SUCCESS| pw64678 [PATCH] net/ixgbe: fix build for gcc 4.8.5
@ 2020-01-15  0:08 dpdklab
  0 siblings, 0 replies; 6+ messages in thread
From: dpdklab @ 2020-01-15  0:08 UTC (permalink / raw)
  To: Ali Alnubani, Test Report; +Cc: dpdk-test-reports

[-- Attachment #1: Type: text/plain, Size: 3937 bytes --]

Test-Label: iol-mellanox-Performance
Test-Status: SUCCESS
http://dpdk.org/patch/64678

_Performance Testing PASS_

Submitter: Ferruh Yigit <ferruh.yigit@intel.com>
Date: Tuesday, January 14 2020 17:52:47 
DPDK git baseline: Repo:dpdk
  Branch: master
  CommitID:a02b9406a8769247737b55dbfa50b6b5f896d946

64678 --> performance testing pass

Test environment and result as below:

Ubuntu 18.04
Kernel: 4.15.0-generic
GCC: 7.4
NIC: Mellanox ConnectX-5 100000 Mbps
Target: x86_64-native-linuxapp-gcc
Fail/Total: 0/6

Detail performance results: 
+------------+---------+-------------------------------------+
| frame_size | txd/rxd | throughput difference from expected |
+============+=========+=====================================+
| 64         | 256     | -0.234                              |
+------------+---------+-------------------------------------+
| 128        | 256     | -0.165                              |
+------------+---------+-------------------------------------+
| 256        | 256     | -0.090                              |
+------------+---------+-------------------------------------+
| 512        | 256     | -0.008                              |
+------------+---------+-------------------------------------+
| 1024       | 256     | -0.122                              |
+------------+---------+-------------------------------------+
| 1518       | 256     | 0.028                               |
+------------+---------+-------------------------------------+

Ubuntu 18.04
Kernel: 4.15.0-generic
GCC: 7.4
NIC: Mellanox ConnectX-4 Lx 25000 Mbps
Target: x86_64-native-linuxapp-gcc
Fail/Total: 0/6

Detail performance results: 
+------------+---------+-------------------------------------+
| frame_size | txd/rxd | throughput difference from expected |
+============+=========+=====================================+
| 64         | 256     | -0.355                              |
+------------+---------+-------------------------------------+
| 128        | 256     | 0.130                               |
+------------+---------+-------------------------------------+
| 256        | 256     | -0.047                              |
+------------+---------+-------------------------------------+
| 512        | 256     | 0.013                               |
+------------+---------+-------------------------------------+
| 1024       | 256     | -0.012                              |
+------------+---------+-------------------------------------+
| 1518       | 256     | 0.008                               |
+------------+---------+-------------------------------------+

Ubuntu 18.04
Kernel: 4.15.0-generic
GCC: 7.4
NIC: Mellanox ConnectX-4 Lx 40000 Mbps
Target: x86_64-native-linuxapp-gcc
Fail/Total: 0/6

Detail performance results: 
+------------+---------+-------------------------------------+
| frame_size | txd/rxd | throughput difference from expected |
+============+=========+=====================================+
| 64         | 256     | 0.323                               |
+------------+---------+-------------------------------------+
| 128        | 256     | -0.040                              |
+------------+---------+-------------------------------------+
| 256        | 256     | -0.079                              |
+------------+---------+-------------------------------------+
| 512        | 256     | -0.007                              |
+------------+---------+-------------------------------------+
| 1024       | 256     | -0.023                              |
+------------+---------+-------------------------------------+
| 1518       | 256     | -0.019                              |
+------------+---------+-------------------------------------+

To view detailed results, visit:
https://lab.dpdk.org/results/dashboard/patchsets/9195/

UNH-IOL DPDK Community Lab

To manage your email subscriptions, visit: 
https://lab.dpdk.org/results/dashboard/preferences/subscriptions/

^ permalink raw reply	[flat|nested] 6+ messages in thread
* [dpdk-test-report] |SUCCESS| pw64678 [PATCH] net/ixgbe: fix build for gcc 4.8.5
@ 2020-01-15  0:08 dpdklab
  0 siblings, 0 replies; 6+ messages in thread
From: dpdklab @ 2020-01-15  0:08 UTC (permalink / raw)
  To: Ruoshan Shi, Test Report; +Cc: dpdk-test-reports

[-- Attachment #1: Type: text/plain, Size: 1193 bytes --]

Test-Label: iol-nxp-Performance
Test-Status: SUCCESS
http://dpdk.org/patch/64678

_Performance Testing PASS_

Submitter: Ferruh Yigit <ferruh.yigit@intel.com>
Date: Tuesday, January 14 2020 17:52:47 
DPDK git baseline: Repo:dpdk
  Branch: master
  CommitID:a02b9406a8769247737b55dbfa50b6b5f896d946

64678 --> performance testing pass

Test environment and result as below:

Ubuntu 18.04
Kernel: 4.14.122
GCC: 7.3.0
NIC: NXP LS2088A 10000 Mbps
Target: x86_64-native-linuxapp-gcc
Fail/Total: 0/2

Detail performance results: 
+------------+---------+-------------------------------------+
| frame_size | txd/rxd | throughput difference from expected |
+============+=========+=====================================+
| 64         | 512     | 0.136                               |
+------------+---------+-------------------------------------+
| 64         | 2048    | -0.565                              |
+------------+---------+-------------------------------------+

To view detailed results, visit:
https://lab.dpdk.org/results/dashboard/patchsets/9195/

UNH-IOL DPDK Community Lab

To manage your email subscriptions, visit: 
https://lab.dpdk.org/results/dashboard/preferences/subscriptions/

^ permalink raw reply	[flat|nested] 6+ messages in thread

end of thread, back to index

Thread overview: 6+ messages (download: mbox.gz / follow: Atom feed)
-- links below jump to the message on this page --
     [not found] <20200114175247.2930261-1-ferruh.yigit@intel.com>
2020-01-14 17:53 ` [dpdk-test-report] |SUCCESS| pw64678 [PATCH] net/ixgbe: fix build for gcc 4.8.5 checkpatch
2020-01-15  5:58 ` [dpdk-test-report] |SUCCESS| pw64678 " 0-day Robot
2020-01-14 22:40 [dpdk-test-report] |SUCCESS| pw64678 [PATCH] " dpdklab
2020-01-14 22:47 dpdklab
2020-01-15  0:08 dpdklab
2020-01-15  0:08 dpdklab

automatic DPDK test reports

Archives are clonable:
	git clone --mirror http://inbox.dpdk.org/test-report/0 test-report/git/0.git

	# If you have public-inbox 1.1+ installed, you may
	# initialize and index your mirror using the following commands:
	public-inbox-init -V2 test-report test-report/ http://inbox.dpdk.org/test-report \
		test-report@dpdk.org
	public-inbox-index test-report


Newsgroup available over NNTP:
	nntp://inbox.dpdk.org/inbox.dpdk.test-report


AGPL code for this site: git clone https://public-inbox.org/ public-inbox