automatic DPDK test reports
 help / color / Atom feed
* [dpdk-test-report] |SUCCESS| [GIT MASTER] 10cbce8e41427ab6ae7fc6f9b15029e2ee38e6db
@ 2020-01-14 19:33 dpdklab
  0 siblings, 0 replies; 5+ messages in thread
From: dpdklab @ 2020-01-14 19:33 UTC (permalink / raw)
  To: Test Report; +Cc: dpdk-test-reports

[-- Attachment #1: Type: text/plain, Size: 1806 bytes --]

_Performance Testing PASS_

Branch: dpdk-next-net

10cbce8e41427ab6ae7fc6f9b15029e2ee38e6db --> performance testing pass

Test environment and result as below:

Ubuntu 18.04
Kernel: 4.15.0-generic
GCC: 7.4
NIC: Intel Corporation Ethernet Converged Network Adapter XL710-QDA2 40000 Mbps
Target: x86_64-native-linuxapp-gcc
Fail/Total: 0/2

Detail performance results: 
+------------+---------+-------------------------------------+
| frame_size | txd/rxd | throughput difference from expected |
+============+=========+=====================================+
| 64         | 512     | -0.406                              |
+------------+---------+-------------------------------------+
| 64         | 2048    | -0.124                              |
+------------+---------+-------------------------------------+

Ubuntu 18.04
Kernel: 4.15.0-generic
GCC: 7.4
NIC: Intel Corporation Ethernet Converged Network Adapter 82599ES 10000 Mbps
Target: x86_64-native-linuxapp-gcc
Fail/Total: 0/3

Detail performance results: 
+------------+---------+-------------------------------------+
| frame_size | txd/rxd | throughput difference from expected |
+============+=========+=====================================+
| 64         | 128     | 0.033                               |
+------------+---------+-------------------------------------+
| 64         | 512     | -0.046                              |
+------------+---------+-------------------------------------+
| 64         | 2048    | 0.268                               |
+------------+---------+-------------------------------------+

To view detailed results, visit:
https://lab.dpdk.org/results/dashboard/tarballs/7747/

UNH-IOL DPDK Community Lab

To manage your email subscriptions, visit: 
https://lab.dpdk.org/results/dashboard/preferences/subscriptions/

^ permalink raw reply	[flat|nested] 5+ messages in thread

* [dpdk-test-report] |SUCCESS| [GIT MASTER] 10cbce8e41427ab6ae7fc6f9b15029e2ee38e6db
@ 2020-01-14 19:53 dpdklab
  0 siblings, 0 replies; 5+ messages in thread
From: dpdklab @ 2020-01-14 19:53 UTC (permalink / raw)
  To: Ruoshan Shi, Test Report; +Cc: dpdk-test-reports

[-- Attachment #1: Type: text/plain, Size: 979 bytes --]

_Performance Testing PASS_

Branch: dpdk-next-net

10cbce8e41427ab6ae7fc6f9b15029e2ee38e6db --> performance testing pass

Test environment and result as below:

Ubuntu 18.04
Kernel: 4.14.122
GCC: 7.3.0
NIC: NXP LS2088A 10000 Mbps
Target: x86_64-native-linuxapp-gcc
Fail/Total: 0/2

Detail performance results: 
+------------+---------+-------------------------------------+
| frame_size | txd/rxd | throughput difference from expected |
+============+=========+=====================================+
| 64         | 512     | -0.196                              |
+------------+---------+-------------------------------------+
| 64         | 2048    | -0.170                              |
+------------+---------+-------------------------------------+

To view detailed results, visit:
https://lab.dpdk.org/results/dashboard/tarballs/7747/

UNH-IOL DPDK Community Lab

To manage your email subscriptions, visit: 
https://lab.dpdk.org/results/dashboard/preferences/subscriptions/

^ permalink raw reply	[flat|nested] 5+ messages in thread

* [dpdk-test-report] |SUCCESS| [GIT MASTER] 10cbce8e41427ab6ae7fc6f9b15029e2ee38e6db
@ 2020-01-14 19:53 dpdklab
  0 siblings, 0 replies; 5+ messages in thread
From: dpdklab @ 2020-01-14 19:53 UTC (permalink / raw)
  To: Ali Alnubani, Test Report; +Cc: dpdk-test-reports

[-- Attachment #1: Type: text/plain, Size: 2609 bytes --]

_Performance Testing PASS_

Branch: dpdk-next-net

10cbce8e41427ab6ae7fc6f9b15029e2ee38e6db --> performance testing pass

Test environment and result as below:

Ubuntu 18.04
Kernel: 4.15.0-generic
GCC: 7.4
NIC: Mellanox ConnectX-4 Lx 25000 Mbps
Target: x86_64-native-linuxapp-gcc
Fail/Total: 0/6

Detail performance results: 
+------------+---------+-------------------------------------+
| frame_size | txd/rxd | throughput difference from expected |
+============+=========+=====================================+
| 64         | 256     | -0.484                              |
+------------+---------+-------------------------------------+
| 128        | 256     | 0.242                               |
+------------+---------+-------------------------------------+
| 256        | 256     | -0.044                              |
+------------+---------+-------------------------------------+
| 512        | 256     | 0.006                               |
+------------+---------+-------------------------------------+
| 1024       | 256     | -0.013                              |
+------------+---------+-------------------------------------+
| 1518       | 256     | 0.001                               |
+------------+---------+-------------------------------------+

Ubuntu 18.04
Kernel: 4.15.0-generic
GCC: 7.4
NIC: Mellanox ConnectX-4 Lx 40000 Mbps
Target: x86_64-native-linuxapp-gcc
Fail/Total: 0/6

Detail performance results: 
+------------+---------+-------------------------------------+
| frame_size | txd/rxd | throughput difference from expected |
+============+=========+=====================================+
| 64         | 256     | 0.350                               |
+------------+---------+-------------------------------------+
| 128        | 256     | 0.037                               |
+------------+---------+-------------------------------------+
| 256        | 256     | 0.108                               |
+------------+---------+-------------------------------------+
| 512        | 256     | 0.037                               |
+------------+---------+-------------------------------------+
| 1024       | 256     | -0.005                              |
+------------+---------+-------------------------------------+
| 1518       | 256     | -0.013                              |
+------------+---------+-------------------------------------+

To view detailed results, visit:
https://lab.dpdk.org/results/dashboard/tarballs/7747/

UNH-IOL DPDK Community Lab

To manage your email subscriptions, visit: 
https://lab.dpdk.org/results/dashboard/preferences/subscriptions/

^ permalink raw reply	[flat|nested] 5+ messages in thread

* [dpdk-test-report] |SUCCESS| [GIT MASTER] 10cbce8e41427ab6ae7fc6f9b15029e2ee38e6db
@ 2020-01-14 19:34 dpdklab
  0 siblings, 0 replies; 5+ messages in thread
From: dpdklab @ 2020-01-14 19:34 UTC (permalink / raw)
  To: Test Report; +Cc: dpdk-test-reports

[-- Attachment #1: Type: text/plain, Size: 2314 bytes --]

_Testing PASS_

Branch: dpdk-next-net

10cbce8e41427ab6ae7fc6f9b15029e2ee38e6db --> testing pass

Test environment and result as below:

+------------------+-------------------+--------------+----------------+------------------+--------------------+
|   Environment    | dpdk_compile_spdk | dpdk_compile | dpdk_unit_test | dpdk_compile_ovs | dpdk_meson_compile |
+==================+===================+==============+================+==================+====================+
| Ubuntu 18.04     | PASS              | PASS         | PASS           | PASS             | PASS               |
+------------------+-------------------+--------------+----------------+------------------+--------------------+
| FreeBSD 11.2     | PASS              | PASS         | SKIPPED        | SKIPPED          | PASS               |
+------------------+-------------------+--------------+----------------+------------------+--------------------+
| openSUSE Leap 15 | SKIPPED           | PASS         | SKIPPED        | PASS             | PASS               |
+------------------+-------------------+--------------+----------------+------------------+--------------------+
| Fedora 31        | SKIPPED           | PASS         | SKIPPED        | PASS             | PASS               |
+------------------+-------------------+--------------+----------------+------------------+--------------------+
| CentOS 8         | SKIPPED           | PASS         | SKIPPED        | PASS             | PASS               |
+------------------+-------------------+--------------+----------------+------------------+--------------------+
| Arch Linux       | SKIPPED           | PASS         | SKIPPED        | PASS             | PASS               |
+------------------+-------------------+--------------+----------------+------------------+--------------------+

Ubuntu 18.04
	Kernel: 4.15.0-generic
	GCC: 7.4

FreeBSD 11.2
	Kernel: 11.2
	GCC: 8.3

openSUSE Leap 15
	Kernel: 4.12.14
	GCC: 7.4.1

Fedora 31
	Kernel: 5.3.16
	GCC: 9.2.1

CentOS 8
	Kernel: 4.18.0.el8_0
	GCC: 8.2

Arch Linux
	Kernel: latest
	GCC: latest

To view detailed results, visit:
https://lab.dpdk.org/results/dashboard/tarballs/7747/

UNH-IOL DPDK Community Lab

To manage your email subscriptions, visit: 
https://lab.dpdk.org/results/dashboard/preferences/subscriptions/

^ permalink raw reply	[flat|nested] 5+ messages in thread

* [dpdk-test-report] |SUCCESS| [GIT MASTER] 10cbce8e41427ab6ae7fc6f9b15029e2ee38e6db
@ 2020-01-14 19:33 dpdklab
  0 siblings, 0 replies; 5+ messages in thread
From: dpdklab @ 2020-01-14 19:33 UTC (permalink / raw)
  To: Ali Alnubani, Test Report; +Cc: dpdk-test-reports

[-- Attachment #1: Type: text/plain, Size: 1496 bytes --]

_Performance Testing PASS_

Branch: dpdk-next-net

10cbce8e41427ab6ae7fc6f9b15029e2ee38e6db --> performance testing pass

Test environment and result as below:

Ubuntu 18.04
Kernel: 4.15.0-generic
GCC: 7.4
NIC: Mellanox ConnectX-5 100000 Mbps
Target: x86_64-native-linuxapp-gcc
Fail/Total: 0/6

Detail performance results: 
+------------+---------+-------------------------------------+
| frame_size | txd/rxd | throughput difference from expected |
+============+=========+=====================================+
| 64         | 256     | 0.149                               |
+------------+---------+-------------------------------------+
| 128        | 256     | -0.075                              |
+------------+---------+-------------------------------------+
| 256        | 256     | -0.035                              |
+------------+---------+-------------------------------------+
| 512        | 256     | 0.187                               |
+------------+---------+-------------------------------------+
| 1024       | 256     | 0.033                               |
+------------+---------+-------------------------------------+
| 1518       | 256     | 0.034                               |
+------------+---------+-------------------------------------+

To view detailed results, visit:
https://lab.dpdk.org/results/dashboard/tarballs/7747/

UNH-IOL DPDK Community Lab

To manage your email subscriptions, visit: 
https://lab.dpdk.org/results/dashboard/preferences/subscriptions/

^ permalink raw reply	[flat|nested] 5+ messages in thread

end of thread, back to index

Thread overview: 5+ messages (download: mbox.gz / follow: Atom feed)
-- links below jump to the message on this page --
2020-01-14 19:33 [dpdk-test-report] |SUCCESS| [GIT MASTER] 10cbce8e41427ab6ae7fc6f9b15029e2ee38e6db dpdklab
  -- strict thread matches above, loose matches on Subject: below --
2020-01-14 19:53 dpdklab
2020-01-14 19:53 dpdklab
2020-01-14 19:34 dpdklab
2020-01-14 19:33 dpdklab

automatic DPDK test reports

Archives are clonable:
	git clone --mirror http://inbox.dpdk.org/test-report/0 test-report/git/0.git

	# If you have public-inbox 1.1+ installed, you may
	# initialize and index your mirror using the following commands:
	public-inbox-init -V2 test-report test-report/ http://inbox.dpdk.org/test-report \
		test-report@dpdk.org
	public-inbox-index test-report


Newsgroup available over NNTP:
	nntp://inbox.dpdk.org/inbox.dpdk.test-report


AGPL code for this site: git clone https://public-inbox.org/ public-inbox