[-- Attachment #1: Type: text/plain, Size: 1811 bytes --] _Performance Testing PASS_ Branch: dpdk-next-net-brcm 78644f95c45f372b27d0ddd0fdc15f25663ae57b --> performance testing pass Test environment and result as below: Ubuntu 18.04 Kernel: 4.15.0-generic GCC: 7.4 NIC: Intel Corporation Ethernet Converged Network Adapter XL710-QDA2 40000 Mbps Target: x86_64-native-linuxapp-gcc Fail/Total: 0/2 Detail performance results: +------------+---------+-------------------------------------+ | frame_size | txd/rxd | throughput difference from expected | +============+=========+=====================================+ | 64 | 512 | 0.258 | +------------+---------+-------------------------------------+ | 64 | 2048 | -0.159 | +------------+---------+-------------------------------------+ Ubuntu 18.04 Kernel: 4.15.0-generic GCC: 7.4 NIC: Intel Corporation Ethernet Converged Network Adapter 82599ES 10000 Mbps Target: x86_64-native-linuxapp-gcc Fail/Total: 0/3 Detail performance results: +------------+---------+-------------------------------------+ | frame_size | txd/rxd | throughput difference from expected | +============+=========+=====================================+ | 64 | 128 | -0.142 | +------------+---------+-------------------------------------+ | 64 | 512 | 0.306 | +------------+---------+-------------------------------------+ | 64 | 2048 | 0.246 | +------------+---------+-------------------------------------+ To view detailed results, visit: https://lab.dpdk.org/results/dashboard/tarballs/7748/ UNH-IOL DPDK Community Lab To manage your email subscriptions, visit: https://lab.dpdk.org/results/dashboard/preferences/subscriptions/
[-- Attachment #1: Type: text/plain, Size: 1501 bytes --] _Performance Testing PASS_ Branch: dpdk-next-net-brcm 78644f95c45f372b27d0ddd0fdc15f25663ae57b --> performance testing pass Test environment and result as below: Ubuntu 18.04 Kernel: 4.15.0-generic GCC: 7.4 NIC: Mellanox ConnectX-5 100000 Mbps Target: x86_64-native-linuxapp-gcc Fail/Total: 0/6 Detail performance results: +------------+---------+-------------------------------------+ | frame_size | txd/rxd | throughput difference from expected | +============+=========+=====================================+ | 64 | 256 | -0.222 | +------------+---------+-------------------------------------+ | 128 | 256 | 0.107 | +------------+---------+-------------------------------------+ | 256 | 256 | -0.086 | +------------+---------+-------------------------------------+ | 512 | 256 | 0.010 | +------------+---------+-------------------------------------+ | 1024 | 256 | -0.001 | +------------+---------+-------------------------------------+ | 1518 | 256 | 0.028 | +------------+---------+-------------------------------------+ To view detailed results, visit: https://lab.dpdk.org/results/dashboard/tarballs/7748/ UNH-IOL DPDK Community Lab To manage your email subscriptions, visit: https://lab.dpdk.org/results/dashboard/preferences/subscriptions/
[-- Attachment #1: Type: text/plain, Size: 2319 bytes --] _Testing PASS_ Branch: dpdk-next-net-brcm 78644f95c45f372b27d0ddd0fdc15f25663ae57b --> testing pass Test environment and result as below: +------------------+-------------------+--------------+------------------+----------------+--------------------+ | Environment | dpdk_compile_spdk | dpdk_compile | dpdk_compile_ovs | dpdk_unit_test | dpdk_meson_compile | +==================+===================+==============+==================+================+====================+ | FreeBSD 11.2 | PASS | PASS | SKIPPED | SKIPPED | PASS | +------------------+-------------------+--------------+------------------+----------------+--------------------+ | Ubuntu 18.04 | PASS | PASS | PASS | PASS | PASS | +------------------+-------------------+--------------+------------------+----------------+--------------------+ | openSUSE Leap 15 | SKIPPED | PASS | PASS | SKIPPED | PASS | +------------------+-------------------+--------------+------------------+----------------+--------------------+ | Arch Linux | SKIPPED | PASS | PASS | SKIPPED | PASS | +------------------+-------------------+--------------+------------------+----------------+--------------------+ | Fedora 31 | SKIPPED | PASS | PASS | SKIPPED | PASS | +------------------+-------------------+--------------+------------------+----------------+--------------------+ | CentOS 8 | SKIPPED | PASS | PASS | SKIPPED | PASS | +------------------+-------------------+--------------+------------------+----------------+--------------------+ FreeBSD 11.2 Kernel: 11.2 GCC: 8.3 Ubuntu 18.04 Kernel: 4.15.0-generic GCC: 7.4 openSUSE Leap 15 Kernel: 4.12.14 GCC: 7.4.1 Arch Linux Kernel: latest GCC: latest Fedora 31 Kernel: 5.3.16 GCC: 9.2.1 CentOS 8 Kernel: 4.18.0.el8_0 GCC: 8.2 To view detailed results, visit: https://lab.dpdk.org/results/dashboard/tarballs/7748/ UNH-IOL DPDK Community Lab To manage your email subscriptions, visit: https://lab.dpdk.org/results/dashboard/preferences/subscriptions/
[-- Attachment #1: Type: text/plain, Size: 2614 bytes --] _Performance Testing PASS_ Branch: dpdk-next-net-brcm 78644f95c45f372b27d0ddd0fdc15f25663ae57b --> performance testing pass Test environment and result as below: Ubuntu 18.04 Kernel: 4.15.0-generic GCC: 7.4 NIC: Mellanox ConnectX-4 Lx 25000 Mbps Target: x86_64-native-linuxapp-gcc Fail/Total: 0/6 Detail performance results: +------------+---------+-------------------------------------+ | frame_size | txd/rxd | throughput difference from expected | +============+=========+=====================================+ | 64 | 256 | -0.432 | +------------+---------+-------------------------------------+ | 128 | 256 | 0.216 | +------------+---------+-------------------------------------+ | 256 | 256 | -0.040 | +------------+---------+-------------------------------------+ | 512 | 256 | -0.003 | +------------+---------+-------------------------------------+ | 1024 | 256 | 0 | +------------+---------+-------------------------------------+ | 1518 | 256 | -0.001 | +------------+---------+-------------------------------------+ Ubuntu 18.04 Kernel: 4.15.0-generic GCC: 7.4 NIC: Mellanox ConnectX-4 Lx 40000 Mbps Target: x86_64-native-linuxapp-gcc Fail/Total: 0/6 Detail performance results: +------------+---------+-------------------------------------+ | frame_size | txd/rxd | throughput difference from expected | +============+=========+=====================================+ | 64 | 256 | 0.362 | +------------+---------+-------------------------------------+ | 128 | 256 | -0.033 | +------------+---------+-------------------------------------+ | 256 | 256 | 0.067 | +------------+---------+-------------------------------------+ | 512 | 256 | -0.009 | +------------+---------+-------------------------------------+ | 1024 | 256 | -0.025 | +------------+---------+-------------------------------------+ | 1518 | 256 | -0.013 | +------------+---------+-------------------------------------+ To view detailed results, visit: https://lab.dpdk.org/results/dashboard/tarballs/7748/ UNH-IOL DPDK Community Lab To manage your email subscriptions, visit: https://lab.dpdk.org/results/dashboard/preferences/subscriptions/
[-- Attachment #1: Type: text/plain, Size: 984 bytes --] _Performance Testing PASS_ Branch: dpdk-next-net-brcm 78644f95c45f372b27d0ddd0fdc15f25663ae57b --> performance testing pass Test environment and result as below: Ubuntu 18.04 Kernel: 4.14.122 GCC: 7.3.0 NIC: NXP LS2088A 10000 Mbps Target: x86_64-native-linuxapp-gcc Fail/Total: 0/2 Detail performance results: +------------+---------+-------------------------------------+ | frame_size | txd/rxd | throughput difference from expected | +============+=========+=====================================+ | 64 | 512 | -0.145 | +------------+---------+-------------------------------------+ | 64 | 2048 | -0.192 | +------------+---------+-------------------------------------+ To view detailed results, visit: https://lab.dpdk.org/results/dashboard/tarballs/7748/ UNH-IOL DPDK Community Lab To manage your email subscriptions, visit: https://lab.dpdk.org/results/dashboard/preferences/subscriptions/