automatic DPDK test reports
 help / color / mirror / Atom feed
From: dpdklab@iol.unh.edu
To: Test Report <test-report@dpdk.org>
Cc: dpdk-test-reports@iol.unh.edu
Subject: [dpdk-test-report] |SUCCESS| [GIT MASTER] 31bb45bcfdf5d67737eab17747b383775c9c36ae
Date: Tue, 14 Jan 2020 18:23:59 -0500 (EST)
Message-ID: <20200114232359.86C577855@noxus.dpdklab.iol.unh.edu> (raw)

[-- Attachment #1: Type: text/plain, Size: 2305 bytes --]

_Testing PASS_

Branch: dpdk

31bb45bcfdf5d67737eab17747b383775c9c36ae --> testing pass

Test environment and result as below:

+------------------+----------------+-------------------+------------------+--------------------+--------------+
|   Environment    | dpdk_unit_test | dpdk_compile_spdk | dpdk_compile_ovs | dpdk_meson_compile | dpdk_compile |
+==================+================+===================+==================+====================+==============+
| Ubuntu 18.04     | PASS           | PASS              | PASS             | PASS               | PASS         |
+------------------+----------------+-------------------+------------------+--------------------+--------------+
| FreeBSD 11.2     | SKIPPED        | PASS              | SKIPPED          | PASS               | PASS         |
+------------------+----------------+-------------------+------------------+--------------------+--------------+
| openSUSE Leap 15 | SKIPPED        | SKIPPED           | PASS             | PASS               | PASS         |
+------------------+----------------+-------------------+------------------+--------------------+--------------+
| Arch Linux       | SKIPPED        | SKIPPED           | PASS             | PASS               | PASS         |
+------------------+----------------+-------------------+------------------+--------------------+--------------+
| Fedora 31        | SKIPPED        | SKIPPED           | PASS             | PASS               | PASS         |
+------------------+----------------+-------------------+------------------+--------------------+--------------+
| CentOS 8         | SKIPPED        | SKIPPED           | PASS             | PASS               | PASS         |
+------------------+----------------+-------------------+------------------+--------------------+--------------+

Ubuntu 18.04
	Kernel: 4.15.0-generic
	GCC: 7.4

FreeBSD 11.2
	Kernel: 11.2
	GCC: 8.3

openSUSE Leap 15
	Kernel: 4.12.14
	GCC: 7.4.1

Arch Linux
	Kernel: latest
	GCC: latest

Fedora 31
	Kernel: 5.3.16
	GCC: 9.2.1

CentOS 8
	Kernel: 4.18.0.el8_0
	GCC: 8.2

To view detailed results, visit:
https://lab.dpdk.org/results/dashboard/tarballs/7754/

UNH-IOL DPDK Community Lab

To manage your email subscriptions, visit: 
https://lab.dpdk.org/results/dashboard/preferences/subscriptions/

             reply	other threads:[~2020-01-14 23:24 UTC|newest]

Thread overview: 4+ messages / expand[flat|nested]  mbox.gz  Atom feed  top
2020-01-14 23:23 dpdklab [this message]
  -- strict thread matches above, loose matches on Subject: below --
2020-01-15  1:29 dpdklab
2020-01-15  1:29 dpdklab
2020-01-14 23:10 dpdklab

Reply instructions:

You may reply publicly to this message via plain-text email
using any one of the following methods:

* Save the following mbox file, import it into your mail client,
  and reply-to-all from there: mbox

  Avoid top-posting and favor interleaved quoting:
  https://en.wikipedia.org/wiki/Posting_style#Interleaved_style

* Reply using the --to, --cc, and --in-reply-to
  switches of git-send-email(1):

  git send-email \
    --in-reply-to=20200114232359.86C577855@noxus.dpdklab.iol.unh.edu \
    --to=dpdklab@iol.unh.edu \
    --cc=dpdk-test-reports@iol.unh.edu \
    --cc=test-report@dpdk.org \
    /path/to/YOUR_REPLY

  https://kernel.org/pub/software/scm/git/docs/git-send-email.html

* If your mail client supports setting the In-Reply-To header
  via mailto: links, try the mailto: link

automatic DPDK test reports

This inbox may be cloned and mirrored by anyone:

	git clone --mirror http://inbox.dpdk.org/test-report/0 test-report/git/0.git

	# If you have public-inbox 1.1+ installed, you may
	# initialize and index your mirror using the following commands:
	public-inbox-init -V2 test-report test-report/ http://inbox.dpdk.org/test-report \
		test-report@dpdk.org
	public-inbox-index test-report

Example config snippet for mirrors.
Newsgroup available over NNTP:
	nntp://inbox.dpdk.org/inbox.dpdk.test-report


AGPL code for this site: git clone https://public-inbox.org/public-inbox.git