automatic DPDK test reports
 help / color / Atom feed
* [dpdk-test-report] |SUCCESS| [GIT MASTER] 31bb45bcfdf5d67737eab17747b383775c9c36ae
@ 2020-01-15  1:29 dpdklab
  0 siblings, 0 replies; 4+ messages in thread
From: dpdklab @ 2020-01-15  1:29 UTC (permalink / raw)
  To: Ruoshan Shi, Test Report; +Cc: dpdk-test-reports

[-- Attachment #1: Type: text/plain, Size: 970 bytes --]

_Performance Testing PASS_

Branch: dpdk

31bb45bcfdf5d67737eab17747b383775c9c36ae --> performance testing pass

Test environment and result as below:

Ubuntu 18.04
Kernel: 4.14.122
GCC: 7.3.0
NIC: NXP LS2088A 10000 Mbps
Target: x86_64-native-linuxapp-gcc
Fail/Total: 0/2

Detail performance results: 
+------------+---------+-------------------------------------+
| frame_size | txd/rxd | throughput difference from expected |
+============+=========+=====================================+
| 64         | 512     | 0.041                               |
+------------+---------+-------------------------------------+
| 64         | 2048    | -0.100                              |
+------------+---------+-------------------------------------+

To view detailed results, visit:
https://lab.dpdk.org/results/dashboard/tarballs/7754/

UNH-IOL DPDK Community Lab

To manage your email subscriptions, visit: 
https://lab.dpdk.org/results/dashboard/preferences/subscriptions/

^ permalink raw reply	[flat|nested] 4+ messages in thread
* [dpdk-test-report] |SUCCESS| [GIT MASTER] 31bb45bcfdf5d67737eab17747b383775c9c36ae
@ 2020-01-15  1:29 dpdklab
  0 siblings, 0 replies; 4+ messages in thread
From: dpdklab @ 2020-01-15  1:29 UTC (permalink / raw)
  To: Ali Alnubani, Test Report; +Cc: dpdk-test-reports

[-- Attachment #1: Type: text/plain, Size: 3709 bytes --]

_Performance Testing PASS_

Branch: dpdk

31bb45bcfdf5d67737eab17747b383775c9c36ae --> performance testing pass

Test environment and result as below:

Ubuntu 18.04
Kernel: 4.15.0-generic
GCC: 7.4
NIC: Mellanox ConnectX-4 Lx 25000 Mbps
Target: x86_64-native-linuxapp-gcc
Fail/Total: 0/6

Detail performance results: 
+------------+---------+-------------------------------------+
| frame_size | txd/rxd | throughput difference from expected |
+============+=========+=====================================+
| 64         | 256     | -0.198                              |
+------------+---------+-------------------------------------+
| 128        | 256     | 0.147                               |
+------------+---------+-------------------------------------+
| 256        | 256     | -0.050                              |
+------------+---------+-------------------------------------+
| 512        | 256     | 0.003                               |
+------------+---------+-------------------------------------+
| 1024       | 256     | -0.010                              |
+------------+---------+-------------------------------------+
| 1518       | 256     | -0.003                              |
+------------+---------+-------------------------------------+

Ubuntu 18.04
Kernel: 4.15.0-generic
GCC: 7.4
NIC: Mellanox ConnectX-5 100000 Mbps
Target: x86_64-native-linuxapp-gcc
Fail/Total: 0/6

Detail performance results: 
+------------+---------+-------------------------------------+
| frame_size | txd/rxd | throughput difference from expected |
+============+=========+=====================================+
| 64         | 256     | 0.042                               |
+------------+---------+-------------------------------------+
| 128        | 256     | -0.085                              |
+------------+---------+-------------------------------------+
| 256        | 256     | -0.084                              |
+------------+---------+-------------------------------------+
| 512        | 256     | 0.045                               |
+------------+---------+-------------------------------------+
| 1024       | 256     | -0.008                              |
+------------+---------+-------------------------------------+
| 1518       | 256     | 0.029                               |
+------------+---------+-------------------------------------+

Ubuntu 18.04
Kernel: 4.15.0-generic
GCC: 7.4
NIC: Mellanox ConnectX-4 Lx 40000 Mbps
Target: x86_64-native-linuxapp-gcc
Fail/Total: 0/6

Detail performance results: 
+------------+---------+-------------------------------------+
| frame_size | txd/rxd | throughput difference from expected |
+============+=========+=====================================+
| 64         | 256     | 0.515                               |
+------------+---------+-------------------------------------+
| 128        | 256     | 0.080                               |
+------------+---------+-------------------------------------+
| 256        | 256     | 0.073                               |
+------------+---------+-------------------------------------+
| 512        | 256     | -0.016                              |
+------------+---------+-------------------------------------+
| 1024       | 256     | -0.020                              |
+------------+---------+-------------------------------------+
| 1518       | 256     | -0.019                              |
+------------+---------+-------------------------------------+

To view detailed results, visit:
https://lab.dpdk.org/results/dashboard/tarballs/7754/

UNH-IOL DPDK Community Lab

To manage your email subscriptions, visit: 
https://lab.dpdk.org/results/dashboard/preferences/subscriptions/

^ permalink raw reply	[flat|nested] 4+ messages in thread
* [dpdk-test-report] |SUCCESS| [GIT MASTER] 31bb45bcfdf5d67737eab17747b383775c9c36ae
@ 2020-01-14 23:23 dpdklab
  0 siblings, 0 replies; 4+ messages in thread
From: dpdklab @ 2020-01-14 23:23 UTC (permalink / raw)
  To: Test Report; +Cc: dpdk-test-reports

[-- Attachment #1: Type: text/plain, Size: 2305 bytes --]

_Testing PASS_

Branch: dpdk

31bb45bcfdf5d67737eab17747b383775c9c36ae --> testing pass

Test environment and result as below:

+------------------+----------------+-------------------+------------------+--------------------+--------------+
|   Environment    | dpdk_unit_test | dpdk_compile_spdk | dpdk_compile_ovs | dpdk_meson_compile | dpdk_compile |
+==================+================+===================+==================+====================+==============+
| Ubuntu 18.04     | PASS           | PASS              | PASS             | PASS               | PASS         |
+------------------+----------------+-------------------+------------------+--------------------+--------------+
| FreeBSD 11.2     | SKIPPED        | PASS              | SKIPPED          | PASS               | PASS         |
+------------------+----------------+-------------------+------------------+--------------------+--------------+
| openSUSE Leap 15 | SKIPPED        | SKIPPED           | PASS             | PASS               | PASS         |
+------------------+----------------+-------------------+------------------+--------------------+--------------+
| Arch Linux       | SKIPPED        | SKIPPED           | PASS             | PASS               | PASS         |
+------------------+----------------+-------------------+------------------+--------------------+--------------+
| Fedora 31        | SKIPPED        | SKIPPED           | PASS             | PASS               | PASS         |
+------------------+----------------+-------------------+------------------+--------------------+--------------+
| CentOS 8         | SKIPPED        | SKIPPED           | PASS             | PASS               | PASS         |
+------------------+----------------+-------------------+------------------+--------------------+--------------+

Ubuntu 18.04
	Kernel: 4.15.0-generic
	GCC: 7.4

FreeBSD 11.2
	Kernel: 11.2
	GCC: 8.3

openSUSE Leap 15
	Kernel: 4.12.14
	GCC: 7.4.1

Arch Linux
	Kernel: latest
	GCC: latest

Fedora 31
	Kernel: 5.3.16
	GCC: 9.2.1

CentOS 8
	Kernel: 4.18.0.el8_0
	GCC: 8.2

To view detailed results, visit:
https://lab.dpdk.org/results/dashboard/tarballs/7754/

UNH-IOL DPDK Community Lab

To manage your email subscriptions, visit: 
https://lab.dpdk.org/results/dashboard/preferences/subscriptions/

^ permalink raw reply	[flat|nested] 4+ messages in thread
* [dpdk-test-report] |SUCCESS| [GIT MASTER] 31bb45bcfdf5d67737eab17747b383775c9c36ae
@ 2020-01-14 23:10 dpdklab
  0 siblings, 0 replies; 4+ messages in thread
From: dpdklab @ 2020-01-14 23:10 UTC (permalink / raw)
  To: Test Report; +Cc: dpdk-test-reports

[-- Attachment #1: Type: text/plain, Size: 1797 bytes --]

_Performance Testing PASS_

Branch: dpdk

31bb45bcfdf5d67737eab17747b383775c9c36ae --> performance testing pass

Test environment and result as below:

Ubuntu 18.04
Kernel: 4.15.0-generic
GCC: 7.4
NIC: Intel Corporation Ethernet Converged Network Adapter 82599ES 10000 Mbps
Target: x86_64-native-linuxapp-gcc
Fail/Total: 0/3

Detail performance results: 
+------------+---------+-------------------------------------+
| frame_size | txd/rxd | throughput difference from expected |
+============+=========+=====================================+
| 64         | 128     | 0.094                               |
+------------+---------+-------------------------------------+
| 64         | 512     | 0.375                               |
+------------+---------+-------------------------------------+
| 64         | 2048    | -0.013                              |
+------------+---------+-------------------------------------+

Ubuntu 18.04
Kernel: 4.15.0-generic
GCC: 7.4
NIC: Intel Corporation Ethernet Converged Network Adapter XL710-QDA2 40000 Mbps
Target: x86_64-native-linuxapp-gcc
Fail/Total: 0/2

Detail performance results: 
+------------+---------+-------------------------------------+
| frame_size | txd/rxd | throughput difference from expected |
+============+=========+=====================================+
| 64         | 512     | -0.036                              |
+------------+---------+-------------------------------------+
| 64         | 2048    | 0.027                               |
+------------+---------+-------------------------------------+

To view detailed results, visit:
https://lab.dpdk.org/results/dashboard/tarballs/7754/

UNH-IOL DPDK Community Lab

To manage your email subscriptions, visit: 
https://lab.dpdk.org/results/dashboard/preferences/subscriptions/

^ permalink raw reply	[flat|nested] 4+ messages in thread

end of thread, back to index

Thread overview: 4+ messages (download: mbox.gz / follow: Atom feed)
-- links below jump to the message on this page --
2020-01-15  1:29 [dpdk-test-report] |SUCCESS| [GIT MASTER] 31bb45bcfdf5d67737eab17747b383775c9c36ae dpdklab
  -- strict thread matches above, loose matches on Subject: below --
2020-01-15  1:29 dpdklab
2020-01-14 23:23 dpdklab
2020-01-14 23:10 dpdklab

automatic DPDK test reports

Archives are clonable:
	git clone --mirror http://inbox.dpdk.org/test-report/0 test-report/git/0.git

	# If you have public-inbox 1.1+ installed, you may
	# initialize and index your mirror using the following commands:
	public-inbox-init -V2 test-report test-report/ http://inbox.dpdk.org/test-report \
		test-report@dpdk.org
	public-inbox-index test-report


Newsgroup available over NNTP:
	nntp://inbox.dpdk.org/inbox.dpdk.test-report


AGPL code for this site: git clone https://public-inbox.org/ public-inbox