automatic DPDK test reports
 help / color / Atom feed
* [dpdk-test-report] |SUCCESS| pw64638-64642 [PATCH] [1/5] net/ixgbe: remove ixgbe vector config flag
@ 2020-01-15  1:47 dpdklab
  0 siblings, 0 replies; 4+ messages in thread
From: dpdklab @ 2020-01-15  1:47 UTC (permalink / raw)
  To: Test Report; +Cc: dpdk-test-reports

[-- Attachment #1: Type: text/plain, Size: 2528 bytes --]

Test-Label: iol-testing
Test-Status: SUCCESS
http://dpdk.org/patch/64638

_Testing PASS_

Submitter: Reshma Pattan <reshma.pattan@intel.com>
Date: Tuesday, January 14 2020 11:29:41 
DPDK git baseline: Repo:dpdk
  Branch: master
  CommitID:31bb45bcfdf5d67737eab17747b383775c9c36ae

64638-64642 --> testing pass

Test environment and result as below:

+------------------+-------------------+------------------+----------------+--------------+--------------------+
|   Environment    | dpdk_compile_spdk | dpdk_compile_ovs | dpdk_unit_test | dpdk_compile | dpdk_meson_compile |
+==================+===================+==================+================+==============+====================+
| Ubuntu 18.04     | PASS              | PASS             | PASS           | PASS         | PASS               |
+------------------+-------------------+------------------+----------------+--------------+--------------------+
| FreeBSD 11.2     | PASS              | SKIPPED          | SKIPPED        | PASS         | PASS               |
+------------------+-------------------+------------------+----------------+--------------+--------------------+
| openSUSE Leap 15 | SKIPPED           | PASS             | SKIPPED        | PASS         | PASS               |
+------------------+-------------------+------------------+----------------+--------------+--------------------+
| Arch Linux       | SKIPPED           | PASS             | SKIPPED        | PASS         | PASS               |
+------------------+-------------------+------------------+----------------+--------------+--------------------+
| Fedora 31        | SKIPPED           | PASS             | SKIPPED        | PASS         | PASS               |
+------------------+-------------------+------------------+----------------+--------------+--------------------+
| CentOS 8         | SKIPPED           | PASS             | SKIPPED        | PASS         | PASS               |
+------------------+-------------------+------------------+----------------+--------------+--------------------+

Ubuntu 18.04
	Kernel: 4.15.0-generic
	GCC: 7.4

FreeBSD 11.2
	Kernel: 11.2
	GCC: 8.3

openSUSE Leap 15
	Kernel: 4.12.14
	GCC: 7.4.1

Arch Linux
	Kernel: latest
	GCC: latest

Fedora 31
	Kernel: 5.3.16
	GCC: 9.2.1

CentOS 8
	Kernel: 4.18.0.el8_0
	GCC: 8.2

To view detailed results, visit:
https://lab.dpdk.org/results/dashboard/patchsets/9186/

UNH-IOL DPDK Community Lab

To manage your email subscriptions, visit: 
https://lab.dpdk.org/results/dashboard/preferences/subscriptions/

^ permalink raw reply	[flat|nested] 4+ messages in thread

* [dpdk-test-report] |SUCCESS| pw64638-64642 [PATCH] [1/5] net/ixgbe: remove ixgbe vector config flag
@ 2020-01-15  6:03 dpdklab
  0 siblings, 0 replies; 4+ messages in thread
From: dpdklab @ 2020-01-15  6:03 UTC (permalink / raw)
  To: Ali Alnubani, Test Report; +Cc: dpdk-test-reports

[-- Attachment #1: Type: text/plain, Size: 3945 bytes --]

Test-Label: iol-mellanox-Performance
Test-Status: SUCCESS
http://dpdk.org/patch/64638

_Performance Testing PASS_

Submitter: Reshma Pattan <reshma.pattan@intel.com>
Date: Tuesday, January 14 2020 11:29:41 
DPDK git baseline: Repo:dpdk
  Branch: master
  CommitID:31bb45bcfdf5d67737eab17747b383775c9c36ae

64638-64642 --> performance testing pass

Test environment and result as below:

Ubuntu 18.04
Kernel: 4.15.0-generic
GCC: 7.4
NIC: Mellanox ConnectX-5 100000 Mbps
Target: x86_64-native-linuxapp-gcc
Fail/Total: 0/6

Detail performance results: 
+------------+---------+-------------------------------------+
| frame_size | txd/rxd | throughput difference from expected |
+============+=========+=====================================+
| 64         | 256     | 0.100                               |
+------------+---------+-------------------------------------+
| 128        | 256     | 0.078                               |
+------------+---------+-------------------------------------+
| 256        | 256     | 0.023                               |
+------------+---------+-------------------------------------+
| 512        | 256     | 0.018                               |
+------------+---------+-------------------------------------+
| 1024       | 256     | 0.018                               |
+------------+---------+-------------------------------------+
| 1518       | 256     | -0.021                              |
+------------+---------+-------------------------------------+

Ubuntu 18.04
Kernel: 4.15.0-generic
GCC: 7.4
NIC: Mellanox ConnectX-4 Lx 40000 Mbps
Target: x86_64-native-linuxapp-gcc
Fail/Total: 0/6

Detail performance results: 
+------------+---------+-------------------------------------+
| frame_size | txd/rxd | throughput difference from expected |
+============+=========+=====================================+
| 64         | 256     | -0.069                              |
+------------+---------+-------------------------------------+
| 128        | 256     | -0.033                              |
+------------+---------+-------------------------------------+
| 256        | 256     | -0.052                              |
+------------+---------+-------------------------------------+
| 512        | 256     | 0.006                               |
+------------+---------+-------------------------------------+
| 1024       | 256     | 0.007                               |
+------------+---------+-------------------------------------+
| 1518       | 256     | 0.015                               |
+------------+---------+-------------------------------------+

Ubuntu 18.04
Kernel: 4.15.0-generic
GCC: 7.4
NIC: Mellanox ConnectX-4 Lx 25000 Mbps
Target: x86_64-native-linuxapp-gcc
Fail/Total: 0/6

Detail performance results: 
+------------+---------+-------------------------------------+
| frame_size | txd/rxd | throughput difference from expected |
+============+=========+=====================================+
| 64         | 256     | -0.147                              |
+------------+---------+-------------------------------------+
| 128        | 256     | 0.177                               |
+------------+---------+-------------------------------------+
| 256        | 256     | 0                                   |
+------------+---------+-------------------------------------+
| 512        | 256     | -0.004                              |
+------------+---------+-------------------------------------+
| 1024       | 256     | 0.005                               |
+------------+---------+-------------------------------------+
| 1518       | 256     | 0                                   |
+------------+---------+-------------------------------------+

To view detailed results, visit:
https://lab.dpdk.org/results/dashboard/patchsets/9186/

UNH-IOL DPDK Community Lab

To manage your email subscriptions, visit: 
https://lab.dpdk.org/results/dashboard/preferences/subscriptions/

^ permalink raw reply	[flat|nested] 4+ messages in thread

* [dpdk-test-report] |SUCCESS| pw64638-64642 [PATCH] [1/5] net/ixgbe: remove ixgbe vector config flag
@ 2020-01-15  6:03 dpdklab
  0 siblings, 0 replies; 4+ messages in thread
From: dpdklab @ 2020-01-15  6:03 UTC (permalink / raw)
  To: Ruoshan Shi, Test Report; +Cc: dpdk-test-reports

[-- Attachment #1: Type: text/plain, Size: 1201 bytes --]

Test-Label: iol-nxp-Performance
Test-Status: SUCCESS
http://dpdk.org/patch/64638

_Performance Testing PASS_

Submitter: Reshma Pattan <reshma.pattan@intel.com>
Date: Tuesday, January 14 2020 11:29:41 
DPDK git baseline: Repo:dpdk
  Branch: master
  CommitID:31bb45bcfdf5d67737eab17747b383775c9c36ae

64638-64642 --> performance testing pass

Test environment and result as below:

Ubuntu 18.04
Kernel: 4.14.122
GCC: 7.3.0
NIC: NXP LS2088A 10000 Mbps
Target: x86_64-native-linuxapp-gcc
Fail/Total: 0/2

Detail performance results: 
+------------+---------+-------------------------------------+
| frame_size | txd/rxd | throughput difference from expected |
+============+=========+=====================================+
| 64         | 512     | 0.083                               |
+------------+---------+-------------------------------------+
| 64         | 2048    | 0.156                               |
+------------+---------+-------------------------------------+

To view detailed results, visit:
https://lab.dpdk.org/results/dashboard/patchsets/9186/

UNH-IOL DPDK Community Lab

To manage your email subscriptions, visit: 
https://lab.dpdk.org/results/dashboard/preferences/subscriptions/

^ permalink raw reply	[flat|nested] 4+ messages in thread

* [dpdk-test-report] |SUCCESS| pw64638-64642 [PATCH] [1/5] net/ixgbe: remove ixgbe vector config flag
@ 2020-01-15  0:44 dpdklab
  0 siblings, 0 replies; 4+ messages in thread
From: dpdklab @ 2020-01-15  0:44 UTC (permalink / raw)
  To: Test Report; +Cc: dpdk-test-reports

[-- Attachment #1: Type: text/plain, Size: 2030 bytes --]

Test-Label: iol-intel-Performance
Test-Status: SUCCESS
http://dpdk.org/patch/64638

_Performance Testing PASS_

Submitter: Reshma Pattan <reshma.pattan@intel.com>
Date: Tuesday, January 14 2020 11:29:41 
DPDK git baseline: Repo:dpdk
  Branch: master
  CommitID:31bb45bcfdf5d67737eab17747b383775c9c36ae

64638-64642 --> performance testing pass

Test environment and result as below:

Ubuntu 18.04
Kernel: 4.15.0-generic
GCC: 7.4
NIC: Intel Corporation Ethernet Converged Network Adapter 82599ES 10000 Mbps
Target: x86_64-native-linuxapp-gcc
Fail/Total: 0/3

Detail performance results: 
+------------+---------+-------------------------------------+
| frame_size | txd/rxd | throughput difference from expected |
+============+=========+=====================================+
| 64         | 128     | 0.018                               |
+------------+---------+-------------------------------------+
| 64         | 512     | -0.159                              |
+------------+---------+-------------------------------------+
| 64         | 2048    | 0.087                               |
+------------+---------+-------------------------------------+

Ubuntu 18.04
Kernel: 4.15.0-generic
GCC: 7.4
NIC: Intel Corporation Ethernet Converged Network Adapter XL710-QDA2 40000 Mbps
Target: x86_64-native-linuxapp-gcc
Fail/Total: 0/2

Detail performance results: 
+------------+---------+-------------------------------------+
| frame_size | txd/rxd | throughput difference from expected |
+============+=========+=====================================+
| 64         | 512     | -0.126                              |
+------------+---------+-------------------------------------+
| 64         | 2048    | -0.111                              |
+------------+---------+-------------------------------------+

To view detailed results, visit:
https://lab.dpdk.org/results/dashboard/patchsets/9186/

UNH-IOL DPDK Community Lab

To manage your email subscriptions, visit: 
https://lab.dpdk.org/results/dashboard/preferences/subscriptions/

^ permalink raw reply	[flat|nested] 4+ messages in thread

end of thread, back to index

Thread overview: 4+ messages (download: mbox.gz / follow: Atom feed)
-- links below jump to the message on this page --
2020-01-15  1:47 [dpdk-test-report] |SUCCESS| pw64638-64642 [PATCH] [1/5] net/ixgbe: remove ixgbe vector config flag dpdklab
  -- strict thread matches above, loose matches on Subject: below --
2020-01-15  6:03 dpdklab
2020-01-15  6:03 dpdklab
2020-01-15  0:44 dpdklab

automatic DPDK test reports

Archives are clonable:
	git clone --mirror http://inbox.dpdk.org/test-report/0 test-report/git/0.git

	# If you have public-inbox 1.1+ installed, you may
	# initialize and index your mirror using the following commands:
	public-inbox-init -V2 test-report test-report/ http://inbox.dpdk.org/test-report \
		test-report@dpdk.org
	public-inbox-index test-report


Newsgroup available over NNTP:
	nntp://inbox.dpdk.org/inbox.dpdk.test-report


AGPL code for this site: git clone https://public-inbox.org/ public-inbox