[-- Attachment #1: Type: text/plain, Size: 2041 bytes --] Test-Label: iol-intel-Performance Test-Status: SUCCESS http://dpdk.org/patch/64650 _Performance Testing PASS_ Submitter: Haiyue Wang <haiyue.wang@intel.com> Date: Tuesday, January 14 2020 12:01:27 DPDK git baseline: Repo:dpdk-next-net-intel Branch: master CommitID:238c5b39007f76e5c86e361641e1f312321c7fe6 64650-64648 --> performance testing pass Test environment and result as below: Ubuntu 18.04 Kernel: 4.15.0-generic GCC: 7.4 NIC: Intel Corporation Ethernet Converged Network Adapter 82599ES 10000 Mbps Target: x86_64-native-linuxapp-gcc Fail/Total: 0/3 Detail performance results: +------------+---------+-------------------------------------+ | frame_size | txd/rxd | throughput difference from expected | +============+=========+=====================================+ | 64 | 128 | -0.256 | +------------+---------+-------------------------------------+ | 64 | 512 | -0.203 | +------------+---------+-------------------------------------+ | 64 | 2048 | 0.027 | +------------+---------+-------------------------------------+ Ubuntu 18.04 Kernel: 4.15.0-generic GCC: 7.4 NIC: Intel Corporation Ethernet Converged Network Adapter XL710-QDA2 40000 Mbps Target: x86_64-native-linuxapp-gcc Fail/Total: 0/2 Detail performance results: +------------+---------+-------------------------------------+ | frame_size | txd/rxd | throughput difference from expected | +============+=========+=====================================+ | 64 | 512 | -0.388 | +------------+---------+-------------------------------------+ | 64 | 2048 | -0.571 | +------------+---------+-------------------------------------+ To view detailed results, visit: https://lab.dpdk.org/results/dashboard/patchsets/9190/ UNH-IOL DPDK Community Lab To manage your email subscriptions, visit: https://lab.dpdk.org/results/dashboard/preferences/subscriptions/
[-- Attachment #1: Type: text/plain, Size: 2539 bytes --] Test-Label: iol-testing Test-Status: SUCCESS http://dpdk.org/patch/64650 _Testing PASS_ Submitter: Haiyue Wang <haiyue.wang@intel.com> Date: Tuesday, January 14 2020 12:01:27 DPDK git baseline: Repo:dpdk-next-net-intel Branch: master CommitID:238c5b39007f76e5c86e361641e1f312321c7fe6 64650-64648 --> testing pass Test environment and result as below: +------------------+-------------------+--------------------+--------------+------------------+----------------+ | Environment | dpdk_compile_spdk | dpdk_meson_compile | dpdk_compile | dpdk_compile_ovs | dpdk_unit_test | +==================+===================+====================+==============+==================+================+ | Ubuntu 18.04 | PASS | PASS | PASS | PASS | PASS | +------------------+-------------------+--------------------+--------------+------------------+----------------+ | FreeBSD 11.2 | PASS | PASS | PASS | SKIPPED | SKIPPED | +------------------+-------------------+--------------------+--------------+------------------+----------------+ | openSUSE Leap 15 | SKIPPED | PASS | PASS | PASS | SKIPPED | +------------------+-------------------+--------------------+--------------+------------------+----------------+ | Arch Linux | SKIPPED | PASS | PASS | PASS | SKIPPED | +------------------+-------------------+--------------------+--------------+------------------+----------------+ | Fedora 31 | SKIPPED | PASS | PASS | PASS | SKIPPED | +------------------+-------------------+--------------------+--------------+------------------+----------------+ | CentOS 8 | SKIPPED | PASS | PASS | PASS | SKIPPED | +------------------+-------------------+--------------------+--------------+------------------+----------------+ Ubuntu 18.04 Kernel: 4.15.0-generic GCC: 7.4 FreeBSD 11.2 Kernel: 11.2 GCC: 8.3 openSUSE Leap 15 Kernel: 4.12.14 GCC: 7.4.1 Arch Linux Kernel: latest GCC: latest Fedora 31 Kernel: 5.3.16 GCC: 9.2.1 CentOS 8 Kernel: 4.18.0.el8_0 GCC: 8.2 To view detailed results, visit: https://lab.dpdk.org/results/dashboard/patchsets/9190/ UNH-IOL DPDK Community Lab To manage your email subscriptions, visit: https://lab.dpdk.org/results/dashboard/preferences/subscriptions/
[-- Attachment #1: Type: text/plain, Size: 3956 bytes --] Test-Label: iol-mellanox-Performance Test-Status: SUCCESS http://dpdk.org/patch/64650 _Performance Testing PASS_ Submitter: Haiyue Wang <haiyue.wang@intel.com> Date: Tuesday, January 14 2020 12:01:27 DPDK git baseline: Repo:dpdk-next-net-intel Branch: master CommitID:238c5b39007f76e5c86e361641e1f312321c7fe6 64650-64648 --> performance testing pass Test environment and result as below: Ubuntu 18.04 Kernel: 4.15.0-generic GCC: 7.4 NIC: Mellanox ConnectX-5 100000 Mbps Target: x86_64-native-linuxapp-gcc Fail/Total: 0/6 Detail performance results: +------------+---------+-------------------------------------+ | frame_size | txd/rxd | throughput difference from expected | +============+=========+=====================================+ | 64 | 256 | 0.155 | +------------+---------+-------------------------------------+ | 128 | 256 | 0.037 | +------------+---------+-------------------------------------+ | 256 | 256 | -0.035 | +------------+---------+-------------------------------------+ | 512 | 256 | -0.015 | +------------+---------+-------------------------------------+ | 1024 | 256 | -0.016 | +------------+---------+-------------------------------------+ | 1518 | 256 | -0.013 | +------------+---------+-------------------------------------+ Ubuntu 18.04 Kernel: 4.15.0-generic GCC: 7.4 NIC: Mellanox ConnectX-4 Lx 25000 Mbps Target: x86_64-native-linuxapp-gcc Fail/Total: 0/6 Detail performance results: +------------+---------+-------------------------------------+ | frame_size | txd/rxd | throughput difference from expected | +============+=========+=====================================+ | 64 | 256 | -0.099 | +------------+---------+-------------------------------------+ | 128 | 256 | 0.137 | +------------+---------+-------------------------------------+ | 256 | 256 | -0.008 | +------------+---------+-------------------------------------+ | 512 | 256 | -0.006 | +------------+---------+-------------------------------------+ | 1024 | 256 | 0.014 | +------------+---------+-------------------------------------+ | 1518 | 256 | 0.001 | +------------+---------+-------------------------------------+ Ubuntu 18.04 Kernel: 4.15.0-generic GCC: 7.4 NIC: Mellanox ConnectX-4 Lx 40000 Mbps Target: x86_64-native-linuxapp-gcc Fail/Total: 0/6 Detail performance results: +------------+---------+-------------------------------------+ | frame_size | txd/rxd | throughput difference from expected | +============+=========+=====================================+ | 64 | 256 | -0.387 | +------------+---------+-------------------------------------+ | 128 | 256 | -0.028 | +------------+---------+-------------------------------------+ | 256 | 256 | 0.087 | +------------+---------+-------------------------------------+ | 512 | 256 | 0.011 | +------------+---------+-------------------------------------+ | 1024 | 256 | -0.008 | +------------+---------+-------------------------------------+ | 1518 | 256 | -0.001 | +------------+---------+-------------------------------------+ To view detailed results, visit: https://lab.dpdk.org/results/dashboard/patchsets/9190/ UNH-IOL DPDK Community Lab To manage your email subscriptions, visit: https://lab.dpdk.org/results/dashboard/preferences/subscriptions/
[-- Attachment #1: Type: text/plain, Size: 1212 bytes --] Test-Label: iol-nxp-Performance Test-Status: SUCCESS http://dpdk.org/patch/64650 _Performance Testing PASS_ Submitter: Haiyue Wang <haiyue.wang@intel.com> Date: Tuesday, January 14 2020 12:01:27 DPDK git baseline: Repo:dpdk-next-net-intel Branch: master CommitID:238c5b39007f76e5c86e361641e1f312321c7fe6 64650-64648 --> performance testing pass Test environment and result as below: Ubuntu 18.04 Kernel: 4.14.122 GCC: 7.3.0 NIC: NXP LS2088A 10000 Mbps Target: x86_64-native-linuxapp-gcc Fail/Total: 0/2 Detail performance results: +------------+---------+-------------------------------------+ | frame_size | txd/rxd | throughput difference from expected | +============+=========+=====================================+ | 64 | 512 | -0.055 | +------------+---------+-------------------------------------+ | 64 | 2048 | 0.021 | +------------+---------+-------------------------------------+ To view detailed results, visit: https://lab.dpdk.org/results/dashboard/patchsets/9190/ UNH-IOL DPDK Community Lab To manage your email subscriptions, visit: https://lab.dpdk.org/results/dashboard/preferences/subscriptions/