* [dpdk-test-report] |SUCCESS| [GIT MASTER] b88632f9fdd0a8782918bb2ba07478cdae6aa010
@ 2020-01-17 5:47 dpdklab
0 siblings, 0 replies; 3+ messages in thread
From: dpdklab @ 2020-01-17 5:47 UTC (permalink / raw)
To: Ali Alnubani, Test Report; +Cc: dpdk-test-reports
[-- Attachment #1: Type: text/plain, Size: 3709 bytes --]
_Performance Testing PASS_
Branch: dpdk
b88632f9fdd0a8782918bb2ba07478cdae6aa010 --> performance testing pass
Test environment and result as below:
Ubuntu 18.04
Kernel: 4.15.0-generic
GCC: 7.4
NIC: Mellanox ConnectX-5 100000 Mbps
Target: x86_64-native-linuxapp-gcc
Fail/Total: 0/6
Detail performance results:
+------------+---------+-------------------------------------+
| frame_size | txd/rxd | throughput difference from expected |
+============+=========+=====================================+
| 64 | 256 | 0.053 |
+------------+---------+-------------------------------------+
| 128 | 256 | -0.070 |
+------------+---------+-------------------------------------+
| 256 | 256 | -0.016 |
+------------+---------+-------------------------------------+
| 512 | 256 | 0.256 |
+------------+---------+-------------------------------------+
| 1024 | 256 | -0.020 |
+------------+---------+-------------------------------------+
| 1518 | 256 | 0.004 |
+------------+---------+-------------------------------------+
Ubuntu 18.04
Kernel: 4.15.0-generic
GCC: 7.4
NIC: Mellanox ConnectX-4 Lx 25000 Mbps
Target: x86_64-native-linuxapp-gcc
Fail/Total: 0/6
Detail performance results:
+------------+---------+-------------------------------------+
| frame_size | txd/rxd | throughput difference from expected |
+============+=========+=====================================+
| 64 | 256 | 0.045 |
+------------+---------+-------------------------------------+
| 128 | 256 | 0.076 |
+------------+---------+-------------------------------------+
| 256 | 256 | -0.004 |
+------------+---------+-------------------------------------+
| 512 | 256 | 0.028 |
+------------+---------+-------------------------------------+
| 1024 | 256 | 0.015 |
+------------+---------+-------------------------------------+
| 1518 | 256 | 0.001 |
+------------+---------+-------------------------------------+
Ubuntu 18.04
Kernel: 4.15.0-generic
GCC: 7.4
NIC: Mellanox ConnectX-4 Lx 40000 Mbps
Target: x86_64-native-linuxapp-gcc
Fail/Total: 0/6
Detail performance results:
+------------+---------+-------------------------------------+
| frame_size | txd/rxd | throughput difference from expected |
+============+=========+=====================================+
| 64 | 256 | -0.066 |
+------------+---------+-------------------------------------+
| 128 | 256 | 0.234 |
+------------+---------+-------------------------------------+
| 256 | 256 | 0.090 |
+------------+---------+-------------------------------------+
| 512 | 256 | -0.012 |
+------------+---------+-------------------------------------+
| 1024 | 256 | 0.011 |
+------------+---------+-------------------------------------+
| 1518 | 256 | -0.017 |
+------------+---------+-------------------------------------+
To view detailed results, visit:
https://lab.dpdk.org/results/dashboard/tarballs/7804/
UNH-IOL DPDK Community Lab
To manage your email subscriptions, visit:
https://lab.dpdk.org/results/dashboard/preferences/subscriptions/
^ permalink raw reply [flat|nested] 3+ messages in thread
* [dpdk-test-report] |SUCCESS| [GIT MASTER] b88632f9fdd0a8782918bb2ba07478cdae6aa010
@ 2020-01-17 3:30 dpdklab
0 siblings, 0 replies; 3+ messages in thread
From: dpdklab @ 2020-01-17 3:30 UTC (permalink / raw)
To: Test Report; +Cc: dpdk-test-reports
[-- Attachment #1: Type: text/plain, Size: 2307 bytes --]
_Testing PASS_
Branch: dpdk
b88632f9fdd0a8782918bb2ba07478cdae6aa010 --> testing pass
Test environment and result as below:
+------------------+----------------+-------------------+--------------+------------------+--------------------+
| Environment | dpdk_unit_test | dpdk_compile_spdk | dpdk_compile | dpdk_compile_ovs | dpdk_meson_compile |
+==================+================+===================+==============+==================+====================+
| Ubuntu 18.04 | PASS | PASS | PASS | PASS | PASS |
+------------------+----------------+-------------------+--------------+------------------+--------------------+
| FreeBSD 11.2 | SKIPPED | PASS | PASS | SKIPPED | PASS |
+------------------+----------------+-------------------+--------------+------------------+--------------------+
| openSUSE Leap 15 | SKIPPED | SKIPPED | PASS | PASS | PASS |
+------------------+----------------+-------------------+--------------+------------------+--------------------+
| Arch Linux | SKIPPED | SKIPPED | PASS | PASS | PASS |
+------------------+----------------+-------------------+--------------+------------------+--------------------+
| Fedora 31 | SKIPPED | SKIPPED | PASS | PASS | PASS |
+------------------+----------------+-------------------+--------------+------------------+--------------------+
| CentOS 8 | SKIPPED | SKIPPED | PASS | PASS | PASS |
+------------------+----------------+-------------------+--------------+------------------+--------------------+
Ubuntu 18.04
Kernel: 4.15.0-generic
GCC: 7.4
FreeBSD 11.2
Kernel: 11.2
GCC: 8.3
openSUSE Leap 15
Kernel: 4.12.14
GCC: 7.4.1
Arch Linux
Kernel: latest
GCC: latest
Fedora 31
Kernel: 5.3.16
GCC: 9.2.1
CentOS 8
Kernel: 4.18.0.el8_0
GCC: 8.3.1
To view detailed results, visit:
https://lab.dpdk.org/results/dashboard/tarballs/7804/
UNH-IOL DPDK Community Lab
To manage your email subscriptions, visit:
https://lab.dpdk.org/results/dashboard/preferences/subscriptions/
^ permalink raw reply [flat|nested] 3+ messages in thread
* [dpdk-test-report] |SUCCESS| [GIT MASTER] b88632f9fdd0a8782918bb2ba07478cdae6aa010
@ 2020-01-16 22:58 dpdklab
0 siblings, 0 replies; 3+ messages in thread
From: dpdklab @ 2020-01-16 22:58 UTC (permalink / raw)
To: Test Report; +Cc: dpdk-test-reports
[-- Attachment #1: Type: text/plain, Size: 1797 bytes --]
_Performance Testing PASS_
Branch: dpdk
b88632f9fdd0a8782918bb2ba07478cdae6aa010 --> performance testing pass
Test environment and result as below:
Ubuntu 18.04
Kernel: 4.15.0-generic
GCC: 7.4
NIC: Intel Corporation Ethernet Converged Network Adapter 82599ES 10000 Mbps
Target: x86_64-native-linuxapp-gcc
Fail/Total: 0/3
Detail performance results:
+------------+---------+-------------------------------------+
| frame_size | txd/rxd | throughput difference from expected |
+============+=========+=====================================+
| 64 | 128 | -0.044 |
+------------+---------+-------------------------------------+
| 64 | 512 | 0.536 |
+------------+---------+-------------------------------------+
| 64 | 2048 | 0.110 |
+------------+---------+-------------------------------------+
Ubuntu 18.04
Kernel: 4.15.0-generic
GCC: 7.4
NIC: Intel Corporation Ethernet Converged Network Adapter XL710-QDA2 40000 Mbps
Target: x86_64-native-linuxapp-gcc
Fail/Total: 0/2
Detail performance results:
+------------+---------+-------------------------------------+
| frame_size | txd/rxd | throughput difference from expected |
+============+=========+=====================================+
| 64 | 512 | -0.119 |
+------------+---------+-------------------------------------+
| 64 | 2048 | 0.148 |
+------------+---------+-------------------------------------+
To view detailed results, visit:
https://lab.dpdk.org/results/dashboard/tarballs/7804/
UNH-IOL DPDK Community Lab
To manage your email subscriptions, visit:
https://lab.dpdk.org/results/dashboard/preferences/subscriptions/
^ permalink raw reply [flat|nested] 3+ messages in thread
end of thread, other threads:[~2020-01-17 5:47 UTC | newest]
Thread overview: 3+ messages (download: mbox.gz / follow: Atom feed)
-- links below jump to the message on this page --
2020-01-17 5:47 [dpdk-test-report] |SUCCESS| [GIT MASTER] b88632f9fdd0a8782918bb2ba07478cdae6aa010 dpdklab
-- strict thread matches above, loose matches on Subject: below --
2020-01-17 3:30 dpdklab
2020-01-16 22:58 dpdklab
This is a public inbox, see mirroring instructions
for how to clone and mirror all data and code used for this inbox;
as well as URLs for NNTP newsgroup(s).