* [dpdk-test-report] |SUCCESS| pw64824 [PATCH] net/ice: fix wrong GTP-U fdir profile
[not found] <20200117062033.12298-1-qi.z.zhang@intel.com>
@ 2020-01-17 6:17 ` checkpatch
2020-01-17 9:00 ` [dpdk-test-report] |SUCCESS| pw64824 " 0-day Robot
1 sibling, 0 replies; 6+ messages in thread
From: checkpatch @ 2020-01-17 6:17 UTC (permalink / raw)
To: test-report
Test-Label: checkpatch
Test-Status: SUCCESS
http://dpdk.org/patch/64824
_coding style OK_
^ permalink raw reply [flat|nested] 6+ messages in thread
* [dpdk-test-report] |SUCCESS| pw64824 net/ice: fix wrong GTP-U fdir profile
[not found] <20200117062033.12298-1-qi.z.zhang@intel.com>
2020-01-17 6:17 ` [dpdk-test-report] |SUCCESS| pw64824 [PATCH] net/ice: fix wrong GTP-U fdir profile checkpatch
@ 2020-01-17 9:00 ` 0-day Robot
1 sibling, 0 replies; 6+ messages in thread
From: 0-day Robot @ 2020-01-17 9:00 UTC (permalink / raw)
To: test-report; +Cc: robot
From: robot@bytheb.org
Test-Label: travis-robot
Test-Status: SUCCESS
http://dpdk.org/patch/64824
_Travis build: passed_
Build URL: https://travis-ci.com/ovsrobot/dpdk/builds/144889566
^ permalink raw reply [flat|nested] 6+ messages in thread
* [dpdk-test-report] |SUCCESS| pw64824 [PATCH] net/ice: fix wrong GTP-U fdir profile
@ 2020-01-17 18:54 dpdklab
0 siblings, 0 replies; 6+ messages in thread
From: dpdklab @ 2020-01-17 18:54 UTC (permalink / raw)
To: Ruoshan Shi, Test Report; +Cc: dpdk-test-reports
[-- Attachment #1: Type: text/plain, Size: 1186 bytes --]
Test-Label: iol-nxp-Performance
Test-Status: SUCCESS
http://dpdk.org/patch/64824
_Performance Testing PASS_
Submitter: Qi Zhang <qi.z.zhang@intel.com>
Date: Friday, January 17 2020 06:20:33
DPDK git baseline: Repo:dpdk
Branch: master
CommitID:b88632f9fdd0a8782918bb2ba07478cdae6aa010
64824 --> performance testing pass
Test environment and result as below:
Ubuntu 18.04
Kernel: 4.14.122
GCC: 7.3.0
NIC: NXP LS2088A 10000 Mbps
Target: x86_64-native-linuxapp-gcc
Fail/Total: 0/2
Detail performance results:
+------------+---------+-------------------------------------+
| frame_size | txd/rxd | throughput difference from expected |
+============+=========+=====================================+
| 64 | 512 | -0.121 |
+------------+---------+-------------------------------------+
| 64 | 2048 | 0.101 |
+------------+---------+-------------------------------------+
To view detailed results, visit:
https://lab.dpdk.org/results/dashboard/patchsets/9255/
UNH-IOL DPDK Community Lab
To manage your email subscriptions, visit:
https://lab.dpdk.org/results/dashboard/preferences/subscriptions/
^ permalink raw reply [flat|nested] 6+ messages in thread
* [dpdk-test-report] |SUCCESS| pw64824 [PATCH] net/ice: fix wrong GTP-U fdir profile
@ 2020-01-17 18:54 dpdklab
0 siblings, 0 replies; 6+ messages in thread
From: dpdklab @ 2020-01-17 18:54 UTC (permalink / raw)
To: Ali Alnubani, Test Report; +Cc: dpdk-test-reports
[-- Attachment #1: Type: text/plain, Size: 2819 bytes --]
Test-Label: iol-mellanox-Performance
Test-Status: SUCCESS
http://dpdk.org/patch/64824
_Performance Testing PASS_
Submitter: Qi Zhang <qi.z.zhang@intel.com>
Date: Friday, January 17 2020 06:20:33
DPDK git baseline: Repo:dpdk
Branch: master
CommitID:b88632f9fdd0a8782918bb2ba07478cdae6aa010
64824 --> performance testing pass
Test environment and result as below:
Ubuntu 18.04
Kernel: 4.15.0-generic
GCC: 7.4
NIC: Mellanox ConnectX-5 100000 Mbps
Target: x86_64-native-linuxapp-gcc
Fail/Total: 0/6
Detail performance results:
+------------+---------+-------------------------------------+
| frame_size | txd/rxd | throughput difference from expected |
+============+=========+=====================================+
| 64 | 256 | 0.327 |
+------------+---------+-------------------------------------+
| 128 | 256 | 0.131 |
+------------+---------+-------------------------------------+
| 256 | 256 | -0.010 |
+------------+---------+-------------------------------------+
| 512 | 256 | 0.184 |
+------------+---------+-------------------------------------+
| 1024 | 256 | -0.020 |
+------------+---------+-------------------------------------+
| 1518 | 256 | 0.005 |
+------------+---------+-------------------------------------+
Ubuntu 18.04
Kernel: 4.15.0-generic
GCC: 7.4
NIC: Mellanox ConnectX-4 Lx 25000 Mbps
Target: x86_64-native-linuxapp-gcc
Fail/Total: 0/6
Detail performance results:
+------------+---------+-------------------------------------+
| frame_size | txd/rxd | throughput difference from expected |
+============+=========+=====================================+
| 64 | 256 | 0.025 |
+------------+---------+-------------------------------------+
| 128 | 256 | 0.048 |
+------------+---------+-------------------------------------+
| 256 | 256 | 0.002 |
+------------+---------+-------------------------------------+
| 512 | 256 | 0.015 |
+------------+---------+-------------------------------------+
| 1024 | 256 | -0.004 |
+------------+---------+-------------------------------------+
| 1518 | 256 | 0 |
+------------+---------+-------------------------------------+
To view detailed results, visit:
https://lab.dpdk.org/results/dashboard/patchsets/9255/
UNH-IOL DPDK Community Lab
To manage your email subscriptions, visit:
https://lab.dpdk.org/results/dashboard/preferences/subscriptions/
^ permalink raw reply [flat|nested] 6+ messages in thread
* [dpdk-test-report] |SUCCESS| pw64824 [PATCH] net/ice: fix wrong GTP-U fdir profile
@ 2020-01-17 17:48 dpdklab
0 siblings, 0 replies; 6+ messages in thread
From: dpdklab @ 2020-01-17 17:48 UTC (permalink / raw)
To: Test Report; +Cc: dpdk-test-reports
[-- Attachment #1: Type: text/plain, Size: 2515 bytes --]
Test-Label: iol-testing
Test-Status: SUCCESS
http://dpdk.org/patch/64824
_Testing PASS_
Submitter: Qi Zhang <qi.z.zhang@intel.com>
Date: Friday, January 17 2020 06:20:33
DPDK git baseline: Repo:dpdk
Branch: master
CommitID:b88632f9fdd0a8782918bb2ba07478cdae6aa010
64824 --> testing pass
Test environment and result as below:
+------------------+-------------------+------------------+--------------------+----------------+--------------+
| Environment | dpdk_compile_spdk | dpdk_compile_ovs | dpdk_meson_compile | dpdk_unit_test | dpdk_compile |
+==================+===================+==================+====================+================+==============+
| Ubuntu 18.04 | PASS | PASS | PASS | PASS | PASS |
+------------------+-------------------+------------------+--------------------+----------------+--------------+
| FreeBSD 11.2 | PASS | SKIPPED | PASS | SKIPPED | PASS |
+------------------+-------------------+------------------+--------------------+----------------+--------------+
| openSUSE Leap 15 | SKIPPED | PASS | PASS | SKIPPED | PASS |
+------------------+-------------------+------------------+--------------------+----------------+--------------+
| Arch Linux | SKIPPED | PASS | PASS | SKIPPED | PASS |
+------------------+-------------------+------------------+--------------------+----------------+--------------+
| Fedora 31 | SKIPPED | PASS | PASS | SKIPPED | PASS |
+------------------+-------------------+------------------+--------------------+----------------+--------------+
| CentOS 8 | SKIPPED | PASS | PASS | SKIPPED | PASS |
+------------------+-------------------+------------------+--------------------+----------------+--------------+
Ubuntu 18.04
Kernel: 4.15.0-generic
GCC: 7.4
FreeBSD 11.2
Kernel: 11.2
GCC: 8.3
openSUSE Leap 15
Kernel: 4.12.14
GCC: 7.4.1
Arch Linux
Kernel: latest
GCC: latest
Fedora 31
Kernel: 5.3.16
GCC: 9.2.1
CentOS 8
Kernel: 4.18.0.el8_0
GCC: 8.3.1
To view detailed results, visit:
https://lab.dpdk.org/results/dashboard/patchsets/9255/
UNH-IOL DPDK Community Lab
To manage your email subscriptions, visit:
https://lab.dpdk.org/results/dashboard/preferences/subscriptions/
^ permalink raw reply [flat|nested] 6+ messages in thread
* [dpdk-test-report] |SUCCESS| pw64824 [PATCH] net/ice: fix wrong GTP-U fdir profile
@ 2020-01-17 15:15 dpdklab
0 siblings, 0 replies; 6+ messages in thread
From: dpdklab @ 2020-01-17 15:15 UTC (permalink / raw)
To: Test Report; +Cc: dpdk-test-reports
[-- Attachment #1: Type: text/plain, Size: 2015 bytes --]
Test-Label: iol-intel-Performance
Test-Status: SUCCESS
http://dpdk.org/patch/64824
_Performance Testing PASS_
Submitter: Qi Zhang <qi.z.zhang@intel.com>
Date: Friday, January 17 2020 06:20:33
DPDK git baseline: Repo:dpdk
Branch: master
CommitID:b88632f9fdd0a8782918bb2ba07478cdae6aa010
64824 --> performance testing pass
Test environment and result as below:
Ubuntu 18.04
Kernel: 4.15.0-generic
GCC: 7.4
NIC: Intel Corporation Ethernet Converged Network Adapter 82599ES 10000 Mbps
Target: x86_64-native-linuxapp-gcc
Fail/Total: 0/3
Detail performance results:
+------------+---------+-------------------------------------+
| frame_size | txd/rxd | throughput difference from expected |
+============+=========+=====================================+
| 64 | 128 | -0.041 |
+------------+---------+-------------------------------------+
| 64 | 512 | 0.691 |
+------------+---------+-------------------------------------+
| 64 | 2048 | -0.276 |
+------------+---------+-------------------------------------+
Ubuntu 18.04
Kernel: 4.15.0-generic
GCC: 7.4
NIC: Intel Corporation Ethernet Converged Network Adapter XL710-QDA2 40000 Mbps
Target: x86_64-native-linuxapp-gcc
Fail/Total: 0/2
Detail performance results:
+------------+---------+-------------------------------------+
| frame_size | txd/rxd | throughput difference from expected |
+============+=========+=====================================+
| 64 | 512 | 0.026 |
+------------+---------+-------------------------------------+
| 64 | 2048 | 0.265 |
+------------+---------+-------------------------------------+
To view detailed results, visit:
https://lab.dpdk.org/results/dashboard/patchsets/9255/
UNH-IOL DPDK Community Lab
To manage your email subscriptions, visit:
https://lab.dpdk.org/results/dashboard/preferences/subscriptions/
^ permalink raw reply [flat|nested] 6+ messages in thread
end of thread, other threads:[~2020-01-17 18:54 UTC | newest]
Thread overview: 6+ messages (download: mbox.gz / follow: Atom feed)
-- links below jump to the message on this page --
[not found] <20200117062033.12298-1-qi.z.zhang@intel.com>
2020-01-17 6:17 ` [dpdk-test-report] |SUCCESS| pw64824 [PATCH] net/ice: fix wrong GTP-U fdir profile checkpatch
2020-01-17 9:00 ` [dpdk-test-report] |SUCCESS| pw64824 " 0-day Robot
2020-01-17 15:15 [dpdk-test-report] |SUCCESS| pw64824 [PATCH] " dpdklab
2020-01-17 17:48 dpdklab
2020-01-17 18:54 dpdklab
2020-01-17 18:54 dpdklab
This is a public inbox, see mirroring instructions
for how to clone and mirror all data and code used for this inbox;
as well as URLs for NNTP newsgroup(s).