* [dpdk-test-report] |SUCCESS| pw64773 [PATCH] vhost: catch overflow causing mmap of size 0
@ 2020-01-17 14:21 dpdklab
0 siblings, 0 replies; 3+ messages in thread
From: dpdklab @ 2020-01-17 14:21 UTC (permalink / raw)
To: Test Report; +Cc: dpdk-test-reports
[-- Attachment #1: Type: text/plain, Size: 1394 bytes --]
Test-Label: iol-intel-Performance
Test-Status: SUCCESS
http://dpdk.org/patch/64773
_Performance Testing PASS_
Submitter: Maxime Coquelin <maxime.coquelin@redhat.com>
Date: Thursday, January 16 2020 10:44:27
DPDK git baseline: Repo:dpdk-next-virtio
Branch: master
CommitID:653aa0f3d3daebceadebb5a88236028c49b33ea1
64773 --> performance testing pass
Test environment and result as below:
Ubuntu 18.04
Kernel: 4.15.0-generic
GCC: 7.4
NIC: Intel Corporation Ethernet Converged Network Adapter 82599ES 10000 Mbps
Target: x86_64-native-linuxapp-gcc
Fail/Total: 0/3
Detail performance results:
+------------+---------+-------------------------------------+
| frame_size | txd/rxd | throughput difference from expected |
+============+=========+=====================================+
| 64 | 128 | 0.219 |
+------------+---------+-------------------------------------+
| 64 | 512 | -0.265 |
+------------+---------+-------------------------------------+
| 64 | 2048 | 0.178 |
+------------+---------+-------------------------------------+
To view detailed results, visit:
https://lab.dpdk.org/results/dashboard/patchsets/9227/
UNH-IOL DPDK Community Lab
To manage your email subscriptions, visit:
https://lab.dpdk.org/results/dashboard/preferences/subscriptions/
^ permalink raw reply [flat|nested] 3+ messages in thread
* [dpdk-test-report] |SUCCESS| pw64773 [PATCH] vhost: catch overflow causing mmap of size 0
@ 2020-01-16 23:51 dpdklab
0 siblings, 0 replies; 3+ messages in thread
From: dpdklab @ 2020-01-16 23:51 UTC (permalink / raw)
To: Ali Alnubani, Test Report; +Cc: dpdk-test-reports
[-- Attachment #1: Type: text/plain, Size: 3957 bytes --]
Test-Label: iol-mellanox-Performance
Test-Status: SUCCESS
http://dpdk.org/patch/64773
_Performance Testing PASS_
Submitter: Maxime Coquelin <maxime.coquelin@redhat.com>
Date: Thursday, January 16 2020 10:44:27
DPDK git baseline: Repo:dpdk-next-virtio
Branch: master
CommitID:653aa0f3d3daebceadebb5a88236028c49b33ea1
64773 --> performance testing pass
Test environment and result as below:
Ubuntu 18.04
Kernel: 4.15.0-generic
GCC: 7.4
NIC: Mellanox ConnectX-4 Lx 40000 Mbps
Target: x86_64-native-linuxapp-gcc
Fail/Total: 0/6
Detail performance results:
+------------+---------+-------------------------------------+
| frame_size | txd/rxd | throughput difference from expected |
+============+=========+=====================================+
| 64 | 256 | -0.525 |
+------------+---------+-------------------------------------+
| 128 | 256 | -0.185 |
+------------+---------+-------------------------------------+
| 256 | 256 | -0.023 |
+------------+---------+-------------------------------------+
| 512 | 256 | 0.012 |
+------------+---------+-------------------------------------+
| 1024 | 256 | -0.001 |
+------------+---------+-------------------------------------+
| 1518 | 256 | -0.009 |
+------------+---------+-------------------------------------+
Ubuntu 18.04
Kernel: 4.15.0-generic
GCC: 7.4
NIC: Mellanox ConnectX-4 Lx 25000 Mbps
Target: x86_64-native-linuxapp-gcc
Fail/Total: 0/6
Detail performance results:
+------------+---------+-------------------------------------+
| frame_size | txd/rxd | throughput difference from expected |
+============+=========+=====================================+
| 64 | 256 | 0.003 |
+------------+---------+-------------------------------------+
| 128 | 256 | 0.050 |
+------------+---------+-------------------------------------+
| 256 | 256 | 0.026 |
+------------+---------+-------------------------------------+
| 512 | 256 | -0.002 |
+------------+---------+-------------------------------------+
| 1024 | 256 | 0 |
+------------+---------+-------------------------------------+
| 1518 | 256 | 0.003 |
+------------+---------+-------------------------------------+
Ubuntu 18.04
Kernel: 4.15.0-generic
GCC: 7.4
NIC: Mellanox ConnectX-5 100000 Mbps
Target: x86_64-native-linuxapp-gcc
Fail/Total: 0/6
Detail performance results:
+------------+---------+-------------------------------------+
| frame_size | txd/rxd | throughput difference from expected |
+============+=========+=====================================+
| 64 | 256 | -0.062 |
+------------+---------+-------------------------------------+
| 128 | 256 | -0.008 |
+------------+---------+-------------------------------------+
| 256 | 256 | -0.021 |
+------------+---------+-------------------------------------+
| 512 | 256 | 0.167 |
+------------+---------+-------------------------------------+
| 1024 | 256 | 0.004 |
+------------+---------+-------------------------------------+
| 1518 | 256 | 0.004 |
+------------+---------+-------------------------------------+
To view detailed results, visit:
https://lab.dpdk.org/results/dashboard/patchsets/9227/
UNH-IOL DPDK Community Lab
To manage your email subscriptions, visit:
https://lab.dpdk.org/results/dashboard/preferences/subscriptions/
^ permalink raw reply [flat|nested] 3+ messages in thread
* [dpdk-test-report] |SUCCESS| pw64773 [PATCH] vhost: catch overflow causing mmap of size 0
@ 2020-01-16 23:19 dpdklab
0 siblings, 0 replies; 3+ messages in thread
From: dpdklab @ 2020-01-16 23:19 UTC (permalink / raw)
To: Test Report; +Cc: dpdk-test-reports
[-- Attachment #1: Type: text/plain, Size: 2272 bytes --]
Test-Label: iol-testing
Test-Status: SUCCESS
http://dpdk.org/patch/64773
_Testing PASS_
Submitter: Maxime Coquelin <maxime.coquelin@redhat.com>
Date: Thursday, January 16 2020 10:44:27
DPDK git baseline: Repo:dpdk-next-virtio
Branch: master
CommitID:653aa0f3d3daebceadebb5a88236028c49b33ea1
64773 --> testing pass
Test environment and result as below:
+------------------+-------------------+------------------+--------------+----------------+--------------------+
| Environment | dpdk_compile_spdk | dpdk_compile_ovs | dpdk_compile | dpdk_unit_test | dpdk_meson_compile |
+==================+===================+==================+==============+================+====================+
| Ubuntu 18.04 | PASS | PASS | PASS | PASS | PASS |
+------------------+-------------------+------------------+--------------+----------------+--------------------+
| FreeBSD 11.2 | PASS | SKIPPED | PASS | SKIPPED | PASS |
+------------------+-------------------+------------------+--------------+----------------+--------------------+
| openSUSE Leap 15 | SKIPPED | PASS | PASS | SKIPPED | PASS |
+------------------+-------------------+------------------+--------------+----------------+--------------------+
| Arch Linux | SKIPPED | PASS | PASS | SKIPPED | PASS |
+------------------+-------------------+------------------+--------------+----------------+--------------------+
| Fedora 31 | SKIPPED | PASS | PASS | SKIPPED | PASS |
+------------------+-------------------+------------------+--------------+----------------+--------------------+
Ubuntu 18.04
Kernel: 4.15.0-generic
GCC: 7.4
FreeBSD 11.2
Kernel: 11.2
GCC: 8.3
openSUSE Leap 15
Kernel: 4.12.14
GCC: 7.4.1
Arch Linux
Kernel: latest
GCC: latest
Fedora 31
Kernel: 5.3.16
GCC: 9.2.1
To view detailed results, visit:
https://lab.dpdk.org/results/dashboard/patchsets/9227/
UNH-IOL DPDK Community Lab
To manage your email subscriptions, visit:
https://lab.dpdk.org/results/dashboard/preferences/subscriptions/
^ permalink raw reply [flat|nested] 3+ messages in thread
end of thread, other threads:[~2020-01-17 14:21 UTC | newest]
Thread overview: 3+ messages (download: mbox.gz / follow: Atom feed)
-- links below jump to the message on this page --
2020-01-17 14:21 [dpdk-test-report] |SUCCESS| pw64773 [PATCH] vhost: catch overflow causing mmap of size 0 dpdklab
-- strict thread matches above, loose matches on Subject: below --
2020-01-16 23:51 dpdklab
2020-01-16 23:19 dpdklab
This is a public inbox, see mirroring instructions
for how to clone and mirror all data and code used for this inbox;
as well as URLs for NNTP newsgroup(s).