* [dpdk-test-report] |SUCCESS| pw64845-64847 [PATCH] [v6, 1/3] test/crypto: refactor unit tests
@ 2020-01-17 15:33 dpdklab
0 siblings, 0 replies; 2+ messages in thread
From: dpdklab @ 2020-01-17 15:33 UTC (permalink / raw)
To: Test Report; +Cc: dpdk-test-reports
[-- Attachment #1: Type: text/plain, Size: 2044 bytes --]
Test-Label: iol-intel-Performance
Test-Status: SUCCESS
http://dpdk.org/patch/64845
_Performance Testing PASS_
Submitter: Adam Dybkowski <adamx.dybkowski@intel.com>
Date: Friday, January 17 2020 14:46:49
DPDK git baseline: Repo:dpdk-next-crypto
Branch: master
CommitID:2c8efd88871742203f054eef7b23af6a69795dbd
64845-64847 --> performance testing pass
Test environment and result as below:
Ubuntu 18.04
Kernel: 4.15.0-generic
GCC: 7.4
NIC: Intel Corporation Ethernet Converged Network Adapter 82599ES 10000 Mbps
Target: x86_64-native-linuxapp-gcc
Fail/Total: 0/3
Detail performance results:
+------------+---------+-------------------------------------+
| frame_size | txd/rxd | throughput difference from expected |
+============+=========+=====================================+
| 64 | 128 | -0.011 |
+------------+---------+-------------------------------------+
| 64 | 512 | 0.044 |
+------------+---------+-------------------------------------+
| 64 | 2048 | -0.125 |
+------------+---------+-------------------------------------+
Ubuntu 18.04
Kernel: 4.15.0-generic
GCC: 7.4
NIC: Intel Corporation Ethernet Converged Network Adapter XL710-QDA2 40000 Mbps
Target: x86_64-native-linuxapp-gcc
Fail/Total: 0/2
Detail performance results:
+------------+---------+-------------------------------------+
| frame_size | txd/rxd | throughput difference from expected |
+============+=========+=====================================+
| 64 | 512 | 0.066 |
+------------+---------+-------------------------------------+
| 64 | 2048 | -0.539 |
+------------+---------+-------------------------------------+
To view detailed results, visit:
https://lab.dpdk.org/results/dashboard/patchsets/9267/
UNH-IOL DPDK Community Lab
To manage your email subscriptions, visit:
https://lab.dpdk.org/results/dashboard/preferences/subscriptions/
^ permalink raw reply [flat|nested] 2+ messages in thread
* [dpdk-test-report] |SUCCESS| pw64845-64847 [PATCH] [v6, 1/3] test/crypto: refactor unit tests
@ 2020-01-17 18:12 dpdklab
0 siblings, 0 replies; 2+ messages in thread
From: dpdklab @ 2020-01-17 18:12 UTC (permalink / raw)
To: Test Report; +Cc: dpdk-test-reports
[-- Attachment #1: Type: text/plain, Size: 2289 bytes --]
Test-Label: iol-testing
Test-Status: SUCCESS
http://dpdk.org/patch/64845
_Testing PASS_
Submitter: Adam Dybkowski <adamx.dybkowski@intel.com>
Date: Friday, January 17 2020 14:46:49
DPDK git baseline: Repo:dpdk-next-crypto
Branch: master
CommitID:2c8efd88871742203f054eef7b23af6a69795dbd
64845-64847 --> testing pass
Test environment and result as below:
+------------------+-------------------+--------------+------------------+--------------------+
| Environment | dpdk_compile_spdk | dpdk_compile | dpdk_compile_ovs | dpdk_meson_compile |
+==================+===================+==============+==================+====================+
| Ubuntu 18.04 | PASS | PASS | PASS | PASS |
+------------------+-------------------+--------------+------------------+--------------------+
| FreeBSD 11.2 | SKIPPED | PASS | SKIPPED | PASS |
+------------------+-------------------+--------------+------------------+--------------------+
| openSUSE Leap 15 | SKIPPED | PASS | PASS | PASS |
+------------------+-------------------+--------------+------------------+--------------------+
| Arch Linux | SKIPPED | PASS | PASS | PASS |
+------------------+-------------------+--------------+------------------+--------------------+
| Fedora 31 | SKIPPED | PASS | PASS | PASS |
+------------------+-------------------+--------------+------------------+--------------------+
| CentOS 8 | SKIPPED | PASS | PASS | PASS |
+------------------+-------------------+--------------+------------------+--------------------+
Ubuntu 18.04
Kernel: 4.15.0-generic
GCC: 7.4
FreeBSD 11.2
Kernel: 11.2
GCC: 8.3
openSUSE Leap 15
Kernel: 4.12.14
GCC: 7.4.1
Arch Linux
Kernel: latest
GCC: latest
Fedora 31
Kernel: 5.3.16
GCC: 9.2.1
CentOS 8
Kernel: 4.18.0.el8_0
GCC: 8.3.1
To view detailed results, visit:
https://lab.dpdk.org/results/dashboard/patchsets/9267/
UNH-IOL DPDK Community Lab
To manage your email subscriptions, visit:
https://lab.dpdk.org/results/dashboard/preferences/subscriptions/
^ permalink raw reply [flat|nested] 2+ messages in thread
end of thread, other threads:[~2020-01-17 18:12 UTC | newest]
Thread overview: 2+ messages (download: mbox.gz / follow: Atom feed)
-- links below jump to the message on this page --
2020-01-17 15:33 [dpdk-test-report] |SUCCESS| pw64845-64847 [PATCH] [v6, 1/3] test/crypto: refactor unit tests dpdklab
2020-01-17 18:12 dpdklab
This is a public inbox, see mirroring instructions
for how to clone and mirror all data and code used for this inbox;
as well as URLs for NNTP newsgroup(s).