* [dpdk-test-report] |SUCCESS| pw64829-64830 [PATCH] [1/2] doc: fix doc build when sphinx reports version to stderr
@ 2020-01-17 16:14 dpdklab
0 siblings, 0 replies; 4+ messages in thread
From: dpdklab @ 2020-01-17 16:14 UTC (permalink / raw)
To: Ali Alnubani, Test Report; +Cc: dpdk-test-reports
[-- Attachment #1: Type: text/plain, Size: 3950 bytes --]
Test-Label: iol-mellanox-Performance
Test-Status: SUCCESS
http://dpdk.org/patch/64829
_Performance Testing PASS_
Submitter: Bruce Richardson <bruce.richardson@intel.com>
Date: Friday, January 17 2020 10:48:19
DPDK git baseline: Repo:dpdk
Branch: master
CommitID:b88632f9fdd0a8782918bb2ba07478cdae6aa010
64829-64830 --> performance testing pass
Test environment and result as below:
Ubuntu 18.04
Kernel: 4.15.0-generic
GCC: 7.4
NIC: Mellanox ConnectX-4 Lx 25000 Mbps
Target: x86_64-native-linuxapp-gcc
Fail/Total: 0/6
Detail performance results:
+------------+---------+-------------------------------------+
| frame_size | txd/rxd | throughput difference from expected |
+============+=========+=====================================+
| 64 | 256 | 0.188 |
+------------+---------+-------------------------------------+
| 128 | 256 | -0.050 |
+------------+---------+-------------------------------------+
| 256 | 256 | 0.003 |
+------------+---------+-------------------------------------+
| 512 | 256 | 0.016 |
+------------+---------+-------------------------------------+
| 1024 | 256 | -0.003 |
+------------+---------+-------------------------------------+
| 1518 | 256 | 0.005 |
+------------+---------+-------------------------------------+
Ubuntu 18.04
Kernel: 4.15.0-generic
GCC: 7.4
NIC: Mellanox ConnectX-5 100000 Mbps
Target: x86_64-native-linuxapp-gcc
Fail/Total: 0/6
Detail performance results:
+------------+---------+-------------------------------------+
| frame_size | txd/rxd | throughput difference from expected |
+============+=========+=====================================+
| 64 | 256 | 0.252 |
+------------+---------+-------------------------------------+
| 128 | 256 | -0.029 |
+------------+---------+-------------------------------------+
| 256 | 256 | -0.021 |
+------------+---------+-------------------------------------+
| 512 | 256 | 0.213 |
+------------+---------+-------------------------------------+
| 1024 | 256 | -0.050 |
+------------+---------+-------------------------------------+
| 1518 | 256 | 0.007 |
+------------+---------+-------------------------------------+
Ubuntu 18.04
Kernel: 4.15.0-generic
GCC: 7.4
NIC: Mellanox ConnectX-4 Lx 40000 Mbps
Target: x86_64-native-linuxapp-gcc
Fail/Total: 0/6
Detail performance results:
+------------+---------+-------------------------------------+
| frame_size | txd/rxd | throughput difference from expected |
+============+=========+=====================================+
| 64 | 256 | 0.043 |
+------------+---------+-------------------------------------+
| 128 | 256 | 0.068 |
+------------+---------+-------------------------------------+
| 256 | 256 | 0.005 |
+------------+---------+-------------------------------------+
| 512 | 256 | 0.040 |
+------------+---------+-------------------------------------+
| 1024 | 256 | 0.017 |
+------------+---------+-------------------------------------+
| 1518 | 256 | -0.013 |
+------------+---------+-------------------------------------+
To view detailed results, visit:
https://lab.dpdk.org/results/dashboard/patchsets/9260/
UNH-IOL DPDK Community Lab
To manage your email subscriptions, visit:
https://lab.dpdk.org/results/dashboard/preferences/subscriptions/
^ permalink raw reply [flat|nested] 4+ messages in thread
* [dpdk-test-report] |SUCCESS| pw64829-64830 [PATCH] [1/2] doc: fix doc build when sphinx reports version to stderr
@ 2020-01-17 16:14 dpdklab
0 siblings, 0 replies; 4+ messages in thread
From: dpdklab @ 2020-01-17 16:14 UTC (permalink / raw)
To: Ruoshan Shi, Test Report; +Cc: dpdk-test-reports
[-- Attachment #1: Type: text/plain, Size: 1206 bytes --]
Test-Label: iol-nxp-Performance
Test-Status: SUCCESS
http://dpdk.org/patch/64829
_Performance Testing PASS_
Submitter: Bruce Richardson <bruce.richardson@intel.com>
Date: Friday, January 17 2020 10:48:19
DPDK git baseline: Repo:dpdk
Branch: master
CommitID:b88632f9fdd0a8782918bb2ba07478cdae6aa010
64829-64830 --> performance testing pass
Test environment and result as below:
Ubuntu 18.04
Kernel: 4.14.122
GCC: 7.3.0
NIC: NXP LS2088A 10000 Mbps
Target: x86_64-native-linuxapp-gcc
Fail/Total: 0/2
Detail performance results:
+------------+---------+-------------------------------------+
| frame_size | txd/rxd | throughput difference from expected |
+============+=========+=====================================+
| 64 | 512 | -0.145 |
+------------+---------+-------------------------------------+
| 64 | 2048 | -0.123 |
+------------+---------+-------------------------------------+
To view detailed results, visit:
https://lab.dpdk.org/results/dashboard/patchsets/9260/
UNH-IOL DPDK Community Lab
To manage your email subscriptions, visit:
https://lab.dpdk.org/results/dashboard/preferences/subscriptions/
^ permalink raw reply [flat|nested] 4+ messages in thread
* [dpdk-test-report] |SUCCESS| pw64829-64830 [PATCH] [1/2] doc: fix doc build when sphinx reports version to stderr
@ 2020-01-17 15:06 dpdklab
0 siblings, 0 replies; 4+ messages in thread
From: dpdklab @ 2020-01-17 15:06 UTC (permalink / raw)
To: Test Report; +Cc: dpdk-test-reports
[-- Attachment #1: Type: text/plain, Size: 2535 bytes --]
Test-Label: iol-testing
Test-Status: SUCCESS
http://dpdk.org/patch/64829
_Testing PASS_
Submitter: Bruce Richardson <bruce.richardson@intel.com>
Date: Friday, January 17 2020 10:48:19
DPDK git baseline: Repo:dpdk
Branch: master
CommitID:b88632f9fdd0a8782918bb2ba07478cdae6aa010
64829-64830 --> testing pass
Test environment and result as below:
+------------------+-------------------+----------------+------------------+--------------+--------------------+
| Environment | dpdk_compile_spdk | dpdk_unit_test | dpdk_compile_ovs | dpdk_compile | dpdk_meson_compile |
+==================+===================+================+==================+==============+====================+
| Ubuntu 18.04 | PASS | PASS | PASS | PASS | PASS |
+------------------+-------------------+----------------+------------------+--------------+--------------------+
| FreeBSD 11.2 | PASS | SKIPPED | SKIPPED | PASS | PASS |
+------------------+-------------------+----------------+------------------+--------------+--------------------+
| openSUSE Leap 15 | SKIPPED | SKIPPED | PASS | PASS | PASS |
+------------------+-------------------+----------------+------------------+--------------+--------------------+
| Arch Linux | SKIPPED | SKIPPED | PASS | PASS | PASS |
+------------------+-------------------+----------------+------------------+--------------+--------------------+
| CentOS 8 | SKIPPED | SKIPPED | PASS | PASS | PASS |
+------------------+-------------------+----------------+------------------+--------------+--------------------+
| Fedora 31 | SKIPPED | SKIPPED | PASS | PASS | PASS |
+------------------+-------------------+----------------+------------------+--------------+--------------------+
Ubuntu 18.04
Kernel: 4.15.0-generic
GCC: 7.4
FreeBSD 11.2
Kernel: 11.2
GCC: 8.3
openSUSE Leap 15
Kernel: 4.12.14
GCC: 7.4.1
Arch Linux
Kernel: latest
GCC: latest
CentOS 8
Kernel: 4.18.0.el8_0
GCC: 8.3.1
Fedora 31
Kernel: 5.3.16
GCC: 9.2.1
To view detailed results, visit:
https://lab.dpdk.org/results/dashboard/patchsets/9260/
UNH-IOL DPDK Community Lab
To manage your email subscriptions, visit:
https://lab.dpdk.org/results/dashboard/preferences/subscriptions/
^ permalink raw reply [flat|nested] 4+ messages in thread
* [dpdk-test-report] |SUCCESS| pw64829-64830 [PATCH] [1/2] doc: fix doc build when sphinx reports version to stderr
@ 2020-01-17 13:56 dpdklab
0 siblings, 0 replies; 4+ messages in thread
From: dpdklab @ 2020-01-17 13:56 UTC (permalink / raw)
To: Test Report; +Cc: dpdk-test-reports
[-- Attachment #1: Type: text/plain, Size: 2035 bytes --]
Test-Label: iol-intel-Performance
Test-Status: SUCCESS
http://dpdk.org/patch/64829
_Performance Testing PASS_
Submitter: Bruce Richardson <bruce.richardson@intel.com>
Date: Friday, January 17 2020 10:48:19
DPDK git baseline: Repo:dpdk
Branch: master
CommitID:b88632f9fdd0a8782918bb2ba07478cdae6aa010
64829-64830 --> performance testing pass
Test environment and result as below:
Ubuntu 18.04
Kernel: 4.15.0-generic
GCC: 7.4
NIC: Intel Corporation Ethernet Converged Network Adapter 82599ES 10000 Mbps
Target: x86_64-native-linuxapp-gcc
Fail/Total: 0/3
Detail performance results:
+------------+---------+-------------------------------------+
| frame_size | txd/rxd | throughput difference from expected |
+============+=========+=====================================+
| 64 | 128 | 0.152 |
+------------+---------+-------------------------------------+
| 64 | 512 | 0.120 |
+------------+---------+-------------------------------------+
| 64 | 2048 | 0.131 |
+------------+---------+-------------------------------------+
Ubuntu 18.04
Kernel: 4.15.0-generic
GCC: 7.4
NIC: Intel Corporation Ethernet Converged Network Adapter XL710-QDA2 40000 Mbps
Target: x86_64-native-linuxapp-gcc
Fail/Total: 0/2
Detail performance results:
+------------+---------+-------------------------------------+
| frame_size | txd/rxd | throughput difference from expected |
+============+=========+=====================================+
| 64 | 512 | -0.153 |
+------------+---------+-------------------------------------+
| 64 | 2048 | 0.135 |
+------------+---------+-------------------------------------+
To view detailed results, visit:
https://lab.dpdk.org/results/dashboard/patchsets/9260/
UNH-IOL DPDK Community Lab
To manage your email subscriptions, visit:
https://lab.dpdk.org/results/dashboard/preferences/subscriptions/
^ permalink raw reply [flat|nested] 4+ messages in thread
end of thread, other threads:[~2020-01-17 16:14 UTC | newest]
Thread overview: 4+ messages (download: mbox.gz / follow: Atom feed)
-- links below jump to the message on this page --
2020-01-17 16:14 [dpdk-test-report] |SUCCESS| pw64829-64830 [PATCH] [1/2] doc: fix doc build when sphinx reports version to stderr dpdklab
-- strict thread matches above, loose matches on Subject: below --
2020-01-17 16:14 dpdklab
2020-01-17 15:06 dpdklab
2020-01-17 13:56 dpdklab
This is a public inbox, see mirroring instructions
for how to clone and mirror all data and code used for this inbox;
as well as URLs for NNTP newsgroup(s).