* [dpdk-test-report] |SUCCESS| pw64827 [PATCH] [v4] net/i40e: fix multi-queue Rx interrupt for VF
@ 2020-01-17 17:33 dpdklab
0 siblings, 0 replies; 4+ messages in thread
From: dpdklab @ 2020-01-17 17:33 UTC (permalink / raw)
To: Ruoshan Shi, Test Report; +Cc: dpdk-test-reports
[-- Attachment #1: Type: text/plain, Size: 1206 bytes --]
Test-Label: iol-nxp-Performance
Test-Status: SUCCESS
http://dpdk.org/patch/64827
_Performance Testing PASS_
Submitter: Lunyuan Cui <lunyuanx.cui@intel.com>
Date: Friday, January 17 2020 08:22:58
DPDK git baseline: Repo:dpdk-next-net-intel
Branch: master
CommitID:8a6132946677d31685b9d52871142ba26f6e5045
64827 --> performance testing pass
Test environment and result as below:
Ubuntu 18.04
Kernel: 4.14.122
GCC: 7.3.0
NIC: NXP LS2088A 10000 Mbps
Target: x86_64-native-linuxapp-gcc
Fail/Total: 0/2
Detail performance results:
+------------+---------+-------------------------------------+
| frame_size | txd/rxd | throughput difference from expected |
+============+=========+=====================================+
| 64 | 512 | -0.105 |
+------------+---------+-------------------------------------+
| 64 | 2048 | 0.102 |
+------------+---------+-------------------------------------+
To view detailed results, visit:
https://lab.dpdk.org/results/dashboard/patchsets/9258/
UNH-IOL DPDK Community Lab
To manage your email subscriptions, visit:
https://lab.dpdk.org/results/dashboard/preferences/subscriptions/
^ permalink raw reply [flat|nested] 4+ messages in thread
* [dpdk-test-report] |SUCCESS| pw64827 [PATCH] [v4] net/i40e: fix multi-queue Rx interrupt for VF
@ 2020-01-17 17:33 dpdklab
0 siblings, 0 replies; 4+ messages in thread
From: dpdklab @ 2020-01-17 17:33 UTC (permalink / raw)
To: Ali Alnubani, Test Report; +Cc: dpdk-test-reports
[-- Attachment #1: Type: text/plain, Size: 3950 bytes --]
Test-Label: iol-mellanox-Performance
Test-Status: SUCCESS
http://dpdk.org/patch/64827
_Performance Testing PASS_
Submitter: Lunyuan Cui <lunyuanx.cui@intel.com>
Date: Friday, January 17 2020 08:22:58
DPDK git baseline: Repo:dpdk-next-net-intel
Branch: master
CommitID:8a6132946677d31685b9d52871142ba26f6e5045
64827 --> performance testing pass
Test environment and result as below:
Ubuntu 18.04
Kernel: 4.15.0-generic
GCC: 7.4
NIC: Mellanox ConnectX-4 Lx 25000 Mbps
Target: x86_64-native-linuxapp-gcc
Fail/Total: 0/6
Detail performance results:
+------------+---------+-------------------------------------+
| frame_size | txd/rxd | throughput difference from expected |
+============+=========+=====================================+
| 64 | 256 | -0.029 |
+------------+---------+-------------------------------------+
| 128 | 256 | -0.037 |
+------------+---------+-------------------------------------+
| 256 | 256 | 0.031 |
+------------+---------+-------------------------------------+
| 512 | 256 | -0.002 |
+------------+---------+-------------------------------------+
| 1024 | 256 | -0.019 |
+------------+---------+-------------------------------------+
| 1518 | 256 | 0.005 |
+------------+---------+-------------------------------------+
Ubuntu 18.04
Kernel: 4.15.0-generic
GCC: 7.4
NIC: Mellanox ConnectX-5 100000 Mbps
Target: x86_64-native-linuxapp-gcc
Fail/Total: 0/6
Detail performance results:
+------------+---------+-------------------------------------+
| frame_size | txd/rxd | throughput difference from expected |
+============+=========+=====================================+
| 64 | 256 | -0.227 |
+------------+---------+-------------------------------------+
| 128 | 256 | -0.030 |
+------------+---------+-------------------------------------+
| 256 | 256 | -0.078 |
+------------+---------+-------------------------------------+
| 512 | 256 | -0.102 |
+------------+---------+-------------------------------------+
| 1024 | 256 | 0.005 |
+------------+---------+-------------------------------------+
| 1518 | 256 | -0.011 |
+------------+---------+-------------------------------------+
Ubuntu 18.04
Kernel: 4.15.0-generic
GCC: 7.4
NIC: Mellanox ConnectX-4 Lx 40000 Mbps
Target: x86_64-native-linuxapp-gcc
Fail/Total: 0/6
Detail performance results:
+------------+---------+-------------------------------------+
| frame_size | txd/rxd | throughput difference from expected |
+============+=========+=====================================+
| 64 | 256 | -0.328 |
+------------+---------+-------------------------------------+
| 128 | 256 | 0.002 |
+------------+---------+-------------------------------------+
| 256 | 256 | -0.062 |
+------------+---------+-------------------------------------+
| 512 | 256 | 0.009 |
+------------+---------+-------------------------------------+
| 1024 | 256 | -0.011 |
+------------+---------+-------------------------------------+
| 1518 | 256 | 0.002 |
+------------+---------+-------------------------------------+
To view detailed results, visit:
https://lab.dpdk.org/results/dashboard/patchsets/9258/
UNH-IOL DPDK Community Lab
To manage your email subscriptions, visit:
https://lab.dpdk.org/results/dashboard/preferences/subscriptions/
^ permalink raw reply [flat|nested] 4+ messages in thread
* [dpdk-test-report] |SUCCESS| pw64827 [PATCH] [v4] net/i40e: fix multi-queue Rx interrupt for VF
@ 2020-01-17 17:10 dpdklab
0 siblings, 0 replies; 4+ messages in thread
From: dpdklab @ 2020-01-17 17:10 UTC (permalink / raw)
To: Test Report; +Cc: dpdk-test-reports
[-- Attachment #1: Type: text/plain, Size: 2265 bytes --]
Test-Label: iol-testing
Test-Status: SUCCESS
http://dpdk.org/patch/64827
_Testing PASS_
Submitter: Lunyuan Cui <lunyuanx.cui@intel.com>
Date: Friday, January 17 2020 08:22:58
DPDK git baseline: Repo:dpdk-next-net-intel
Branch: master
CommitID:8a6132946677d31685b9d52871142ba26f6e5045
64827 --> testing pass
Test environment and result as below:
+------------------+-------------------+------------------+----------------+--------------+--------------------+
| Environment | dpdk_compile_spdk | dpdk_compile_ovs | dpdk_unit_test | dpdk_compile | dpdk_meson_compile |
+==================+===================+==================+================+==============+====================+
| Ubuntu 18.04 | PASS | PASS | PASS | PASS | PASS |
+------------------+-------------------+------------------+----------------+--------------+--------------------+
| FreeBSD 11.2 | PASS | SKIPPED | SKIPPED | PASS | PASS |
+------------------+-------------------+------------------+----------------+--------------+--------------------+
| openSUSE Leap 15 | SKIPPED | PASS | SKIPPED | PASS | PASS |
+------------------+-------------------+------------------+----------------+--------------+--------------------+
| Arch Linux | SKIPPED | PASS | SKIPPED | PASS | PASS |
+------------------+-------------------+------------------+----------------+--------------+--------------------+
| Fedora 31 | SKIPPED | PASS | SKIPPED | PASS | PASS |
+------------------+-------------------+------------------+----------------+--------------+--------------------+
Ubuntu 18.04
Kernel: 4.15.0-generic
GCC: 7.4
FreeBSD 11.2
Kernel: 11.2
GCC: 8.3
openSUSE Leap 15
Kernel: 4.12.14
GCC: 7.4.1
Arch Linux
Kernel: latest
GCC: latest
Fedora 31
Kernel: 5.3.16
GCC: 9.2.1
To view detailed results, visit:
https://lab.dpdk.org/results/dashboard/patchsets/9258/
UNH-IOL DPDK Community Lab
To manage your email subscriptions, visit:
https://lab.dpdk.org/results/dashboard/preferences/subscriptions/
^ permalink raw reply [flat|nested] 4+ messages in thread
* [dpdk-test-report] |SUCCESS| pw64827 [PATCH] [v4] net/i40e: fix multi-queue Rx interrupt for VF
@ 2020-01-17 14:44 dpdklab
0 siblings, 0 replies; 4+ messages in thread
From: dpdklab @ 2020-01-17 14:44 UTC (permalink / raw)
To: Test Report; +Cc: dpdk-test-reports
[-- Attachment #1: Type: text/plain, Size: 2035 bytes --]
Test-Label: iol-intel-Performance
Test-Status: SUCCESS
http://dpdk.org/patch/64827
_Performance Testing PASS_
Submitter: Lunyuan Cui <lunyuanx.cui@intel.com>
Date: Friday, January 17 2020 08:22:58
DPDK git baseline: Repo:dpdk-next-net-intel
Branch: master
CommitID:8a6132946677d31685b9d52871142ba26f6e5045
64827 --> performance testing pass
Test environment and result as below:
Ubuntu 18.04
Kernel: 4.15.0-generic
GCC: 7.4
NIC: Intel Corporation Ethernet Converged Network Adapter XL710-QDA2 40000 Mbps
Target: x86_64-native-linuxapp-gcc
Fail/Total: 0/2
Detail performance results:
+------------+---------+-------------------------------------+
| frame_size | txd/rxd | throughput difference from expected |
+============+=========+=====================================+
| 64 | 512 | -0.084 |
+------------+---------+-------------------------------------+
| 64 | 2048 | -0.249 |
+------------+---------+-------------------------------------+
Ubuntu 18.04
Kernel: 4.15.0-generic
GCC: 7.4
NIC: Intel Corporation Ethernet Converged Network Adapter 82599ES 10000 Mbps
Target: x86_64-native-linuxapp-gcc
Fail/Total: 0/3
Detail performance results:
+------------+---------+-------------------------------------+
| frame_size | txd/rxd | throughput difference from expected |
+============+=========+=====================================+
| 64 | 128 | 0.125 |
+------------+---------+-------------------------------------+
| 64 | 512 | -0.458 |
+------------+---------+-------------------------------------+
| 64 | 2048 | 0.095 |
+------------+---------+-------------------------------------+
To view detailed results, visit:
https://lab.dpdk.org/results/dashboard/patchsets/9258/
UNH-IOL DPDK Community Lab
To manage your email subscriptions, visit:
https://lab.dpdk.org/results/dashboard/preferences/subscriptions/
^ permalink raw reply [flat|nested] 4+ messages in thread
end of thread, other threads:[~2020-01-17 17:33 UTC | newest]
Thread overview: 4+ messages (download: mbox.gz / follow: Atom feed)
-- links below jump to the message on this page --
2020-01-17 17:33 [dpdk-test-report] |SUCCESS| pw64827 [PATCH] [v4] net/i40e: fix multi-queue Rx interrupt for VF dpdklab
-- strict thread matches above, loose matches on Subject: below --
2020-01-17 17:33 dpdklab
2020-01-17 17:10 dpdklab
2020-01-17 14:44 dpdklab
This is a public inbox, see mirroring instructions
for how to clone and mirror all data and code used for this inbox;
as well as URLs for NNTP newsgroup(s).