* [dpdk-test-report] |SUCCESS| pw65124 [PATCH] app/pdump: fix build with clang
[not found] <20200126010438.30687-1-stephen@networkplumber.org>
@ 2020-01-26 1:04 ` checkpatch
2020-01-26 4:00 ` [dpdk-test-report] |SUCCESS| pw65124 " 0-day Robot
1 sibling, 0 replies; 5+ messages in thread
From: checkpatch @ 2020-01-26 1:04 UTC (permalink / raw)
To: test-report
Test-Label: checkpatch
Test-Status: SUCCESS
http://dpdk.org/patch/65124
_coding style OK_
^ permalink raw reply [flat|nested] 5+ messages in thread
* [dpdk-test-report] |SUCCESS| pw65124 app/pdump: fix build with clang
[not found] <20200126010438.30687-1-stephen@networkplumber.org>
2020-01-26 1:04 ` [dpdk-test-report] |SUCCESS| pw65124 [PATCH] app/pdump: fix build with clang checkpatch
@ 2020-01-26 4:00 ` 0-day Robot
1 sibling, 0 replies; 5+ messages in thread
From: 0-day Robot @ 2020-01-26 4:00 UTC (permalink / raw)
To: test-report; +Cc: robot
From: robot@bytheb.org
Test-Label: travis-robot
Test-Status: SUCCESS
http://dpdk.org/patch/65124
_Travis build: passed_
Build URL: https://travis-ci.com/ovsrobot/dpdk/builds/146085524
^ permalink raw reply [flat|nested] 5+ messages in thread
* [dpdk-test-report] |SUCCESS| pw65124 [PATCH] app/pdump: fix build with clang
@ 2020-01-28 0:29 dpdklab
0 siblings, 0 replies; 5+ messages in thread
From: dpdklab @ 2020-01-28 0:29 UTC (permalink / raw)
To: Ali Alnubani, Test Report; +Cc: dpdk-test-reports
[-- Attachment #1: Type: text/plain, Size: 3945 bytes --]
Test-Label: iol-mellanox-Performance
Test-Status: SUCCESS
http://dpdk.org/patch/65124
_Performance Testing PASS_
Submitter: Stephen Hemminger <stephen@networkplumber.org>
Date: Sunday, January 26 2020 01:04:38
DPDK git baseline: Repo:dpdk
Branch: master
CommitID:c465e6b94be343303303f26b95f3c2ae4969063e
65124 --> performance testing pass
Test environment and result as below:
Ubuntu 18.04
Kernel: 4.15.0-generic
GCC: 7.4
NIC: Mellanox ConnectX-5 100000 Mbps
Target: x86_64-native-linuxapp-gcc
Fail/Total: 0/6
Detail performance results:
+------------+---------+-------------------------------------+
| frame_size | txd/rxd | throughput difference from expected |
+============+=========+=====================================+
| 64 | 256 | -0.079 |
+------------+---------+-------------------------------------+
| 128 | 256 | -0.032 |
+------------+---------+-------------------------------------+
| 256 | 256 | -0.049 |
+------------+---------+-------------------------------------+
| 512 | 256 | -0.194 |
+------------+---------+-------------------------------------+
| 1024 | 256 | -0.046 |
+------------+---------+-------------------------------------+
| 1518 | 256 | -0.039 |
+------------+---------+-------------------------------------+
Ubuntu 18.04
Kernel: 4.15.0-generic
GCC: 7.4
NIC: Mellanox ConnectX-4 Lx 25000 Mbps
Target: x86_64-native-linuxapp-gcc
Fail/Total: 0/6
Detail performance results:
+------------+---------+-------------------------------------+
| frame_size | txd/rxd | throughput difference from expected |
+============+=========+=====================================+
| 64 | 256 | -0.089 |
+------------+---------+-------------------------------------+
| 128 | 256 | -0.075 |
+------------+---------+-------------------------------------+
| 256 | 256 | 0.119 |
+------------+---------+-------------------------------------+
| 512 | 256 | 0.001 |
+------------+---------+-------------------------------------+
| 1024 | 256 | -0.002 |
+------------+---------+-------------------------------------+
| 1518 | 256 | -0.005 |
+------------+---------+-------------------------------------+
Ubuntu 18.04
Kernel: 4.15.0-generic
GCC: 7.4
NIC: Mellanox ConnectX-4 Lx 40000 Mbps
Target: x86_64-native-linuxapp-gcc
Fail/Total: 0/6
Detail performance results:
+------------+---------+-------------------------------------+
| frame_size | txd/rxd | throughput difference from expected |
+============+=========+=====================================+
| 64 | 256 | 0.199 |
+------------+---------+-------------------------------------+
| 128 | 256 | 0.107 |
+------------+---------+-------------------------------------+
| 256 | 256 | 0.119 |
+------------+---------+-------------------------------------+
| 512 | 256 | 0.002 |
+------------+---------+-------------------------------------+
| 1024 | 256 | -0.005 |
+------------+---------+-------------------------------------+
| 1518 | 256 | -0.021 |
+------------+---------+-------------------------------------+
To view detailed results, visit:
https://lab.dpdk.org/results/dashboard/patchsets/9362/
UNH-IOL DPDK Community Lab
To manage your email subscriptions, visit:
https://lab.dpdk.org/results/dashboard/preferences/subscriptions/
^ permalink raw reply [flat|nested] 5+ messages in thread
* [dpdk-test-report] |SUCCESS| pw65124 [PATCH] app/pdump: fix build with clang
@ 2020-01-28 0:29 dpdklab
0 siblings, 0 replies; 5+ messages in thread
From: dpdklab @ 2020-01-28 0:29 UTC (permalink / raw)
To: Ruoshan Shi, Test Report; +Cc: dpdk-test-reports
[-- Attachment #1: Type: text/plain, Size: 1201 bytes --]
Test-Label: iol-nxp-Performance
Test-Status: SUCCESS
http://dpdk.org/patch/65124
_Performance Testing PASS_
Submitter: Stephen Hemminger <stephen@networkplumber.org>
Date: Sunday, January 26 2020 01:04:38
DPDK git baseline: Repo:dpdk
Branch: master
CommitID:c465e6b94be343303303f26b95f3c2ae4969063e
65124 --> performance testing pass
Test environment and result as below:
Ubuntu 18.04
Kernel: 4.14.122
GCC: 7.3.0
NIC: NXP LS2088A 10000 Mbps
Target: x86_64-native-linuxapp-gcc
Fail/Total: 0/2
Detail performance results:
+------------+---------+-------------------------------------+
| frame_size | txd/rxd | throughput difference from expected |
+============+=========+=====================================+
| 64 | 512 | -0.172 |
+------------+---------+-------------------------------------+
| 64 | 2048 | 0.072 |
+------------+---------+-------------------------------------+
To view detailed results, visit:
https://lab.dpdk.org/results/dashboard/patchsets/9362/
UNH-IOL DPDK Community Lab
To manage your email subscriptions, visit:
https://lab.dpdk.org/results/dashboard/preferences/subscriptions/
^ permalink raw reply [flat|nested] 5+ messages in thread
* [dpdk-test-report] |SUCCESS| pw65124 [PATCH] app/pdump: fix build with clang
@ 2020-01-27 22:58 dpdklab
0 siblings, 0 replies; 5+ messages in thread
From: dpdklab @ 2020-01-27 22:58 UTC (permalink / raw)
To: Test Report; +Cc: dpdk-test-reports
[-- Attachment #1: Type: text/plain, Size: 2530 bytes --]
Test-Label: iol-testing
Test-Status: SUCCESS
http://dpdk.org/patch/65124
_Testing PASS_
Submitter: Stephen Hemminger <stephen@networkplumber.org>
Date: Sunday, January 26 2020 01:04:38
DPDK git baseline: Repo:dpdk
Branch: master
CommitID:c465e6b94be343303303f26b95f3c2ae4969063e
65124 --> testing pass
Test environment and result as below:
+------------------+-------------------+--------------+------------------+----------------+--------------------+
| Environment | dpdk_compile_spdk | dpdk_compile | dpdk_compile_ovs | dpdk_unit_test | dpdk_meson_compile |
+==================+===================+==============+==================+================+====================+
| FreeBSD 11.2 | PASS | PASS | SKIPPED | SKIPPED | PASS |
+------------------+-------------------+--------------+------------------+----------------+--------------------+
| Ubuntu 18.04 | PASS | PASS | PASS | PASS | PASS |
+------------------+-------------------+--------------+------------------+----------------+--------------------+
| openSUSE Leap 15 | SKIPPED | PASS | PASS | SKIPPED | PASS |
+------------------+-------------------+--------------+------------------+----------------+--------------------+
| Fedora 31 | SKIPPED | PASS | PASS | SKIPPED | PASS |
+------------------+-------------------+--------------+------------------+----------------+--------------------+
| CentOS 8 | SKIPPED | PASS | PASS | SKIPPED | PASS |
+------------------+-------------------+--------------+------------------+----------------+--------------------+
| Arch Linux | SKIPPED | PASS | PASS | SKIPPED | PASS |
+------------------+-------------------+--------------+------------------+----------------+--------------------+
FreeBSD 11.2
Kernel: 11.2
GCC: 8.3
Ubuntu 18.04
Kernel: 4.15.0-generic
GCC: 7.4
openSUSE Leap 15
Kernel: 4.12.14
GCC: 7.4.1
Fedora 31
Kernel: 5.3.16
GCC: 9.2.1
CentOS 8
Kernel: 4.18.0.el8_0
GCC: 8.3.1
Arch Linux
Kernel: latest
GCC: latest
To view detailed results, visit:
https://lab.dpdk.org/results/dashboard/patchsets/9362/
UNH-IOL DPDK Community Lab
To manage your email subscriptions, visit:
https://lab.dpdk.org/results/dashboard/preferences/subscriptions/
^ permalink raw reply [flat|nested] 5+ messages in thread
end of thread, other threads:[~2020-01-28 0:29 UTC | newest]
Thread overview: 5+ messages (download: mbox.gz / follow: Atom feed)
-- links below jump to the message on this page --
[not found] <20200126010438.30687-1-stephen@networkplumber.org>
2020-01-26 1:04 ` [dpdk-test-report] |SUCCESS| pw65124 [PATCH] app/pdump: fix build with clang checkpatch
2020-01-26 4:00 ` [dpdk-test-report] |SUCCESS| pw65124 " 0-day Robot
2020-01-27 22:58 [dpdk-test-report] |SUCCESS| pw65124 [PATCH] " dpdklab
2020-01-28 0:29 dpdklab
2020-01-28 0:29 dpdklab
This is a public inbox, see mirroring instructions
for how to clone and mirror all data and code used for this inbox;
as well as URLs for NNTP newsgroup(s).