* [dpdk-test-report] |SUCCESS| pw65136 [PATCH v2 2/2] net/bnx2x: fix to sync fastpath Rx queue access
[not found] <20200126225419.23919-2-rmody@marvell.com>
@ 2020-01-26 22:55 ` checkpatch
0 siblings, 0 replies; 4+ messages in thread
From: checkpatch @ 2020-01-26 22:55 UTC (permalink / raw)
To: test-report
Test-Label: checkpatch
Test-Status: SUCCESS
http://dpdk.org/patch/65136
_coding style OK_
^ permalink raw reply [flat|nested] 4+ messages in thread
* [dpdk-test-report] |SUCCESS| pw65136 [PATCH] [v2, 2/2] net/bnx2x: fix to sync fastpath Rx queue access
@ 2020-01-27 19:39 dpdklab
0 siblings, 0 replies; 4+ messages in thread
From: dpdklab @ 2020-01-27 19:39 UTC (permalink / raw)
To: Ruoshan Shi, Test Report; +Cc: dpdk-test-reports
[-- Attachment #1: Type: text/plain, Size: 1186 bytes --]
Test-Label: iol-nxp-Performance
Test-Status: SUCCESS
http://dpdk.org/patch/65136
_Performance Testing PASS_
Submitter: Rasesh Mody <rmody@marvell.com>
Date: Sunday, January 26 2020 22:54:19
DPDK git baseline: Repo:dpdk
Branch: master
CommitID:c465e6b94be343303303f26b95f3c2ae4969063e
65136 --> performance testing pass
Test environment and result as below:
Ubuntu 18.04
Kernel: 4.14.122
GCC: 7.3.0
NIC: NXP LS2088A 10000 Mbps
Target: x86_64-native-linuxapp-gcc
Fail/Total: 0/2
Detail performance results:
+------------+---------+-------------------------------------+
| frame_size | txd/rxd | throughput difference from expected |
+============+=========+=====================================+
| 64 | 512 | -0.054 |
+------------+---------+-------------------------------------+
| 64 | 2048 | -0.013 |
+------------+---------+-------------------------------------+
To view detailed results, visit:
https://lab.dpdk.org/results/dashboard/patchsets/9369/
UNH-IOL DPDK Community Lab
To manage your email subscriptions, visit:
https://lab.dpdk.org/results/dashboard/preferences/subscriptions/
^ permalink raw reply [flat|nested] 4+ messages in thread
* [dpdk-test-report] |SUCCESS| pw65136 [PATCH] [v2, 2/2] net/bnx2x: fix to sync fastpath Rx queue access
@ 2020-01-27 19:39 dpdklab
0 siblings, 0 replies; 4+ messages in thread
From: dpdklab @ 2020-01-27 19:39 UTC (permalink / raw)
To: Ali Alnubani, Test Report; +Cc: dpdk-test-reports
[-- Attachment #1: Type: text/plain, Size: 3930 bytes --]
Test-Label: iol-mellanox-Performance
Test-Status: SUCCESS
http://dpdk.org/patch/65136
_Performance Testing PASS_
Submitter: Rasesh Mody <rmody@marvell.com>
Date: Sunday, January 26 2020 22:54:19
DPDK git baseline: Repo:dpdk
Branch: master
CommitID:c465e6b94be343303303f26b95f3c2ae4969063e
65136 --> performance testing pass
Test environment and result as below:
Ubuntu 18.04
Kernel: 4.15.0-generic
GCC: 7.4
NIC: Mellanox ConnectX-4 Lx 25000 Mbps
Target: x86_64-native-linuxapp-gcc
Fail/Total: 0/6
Detail performance results:
+------------+---------+-------------------------------------+
| frame_size | txd/rxd | throughput difference from expected |
+============+=========+=====================================+
| 64 | 256 | -0.157 |
+------------+---------+-------------------------------------+
| 128 | 256 | -0.047 |
+------------+---------+-------------------------------------+
| 256 | 256 | 0.024 |
+------------+---------+-------------------------------------+
| 512 | 256 | 0.002 |
+------------+---------+-------------------------------------+
| 1024 | 256 | -0.007 |
+------------+---------+-------------------------------------+
| 1518 | 256 | -0.006 |
+------------+---------+-------------------------------------+
Ubuntu 18.04
Kernel: 4.15.0-generic
GCC: 7.4
NIC: Mellanox ConnectX-5 100000 Mbps
Target: x86_64-native-linuxapp-gcc
Fail/Total: 0/6
Detail performance results:
+------------+---------+-------------------------------------+
| frame_size | txd/rxd | throughput difference from expected |
+============+=========+=====================================+
| 64 | 256 | -0.092 |
+------------+---------+-------------------------------------+
| 128 | 256 | -0.170 |
+------------+---------+-------------------------------------+
| 256 | 256 | 0.004 |
+------------+---------+-------------------------------------+
| 512 | 256 | -0.167 |
+------------+---------+-------------------------------------+
| 1024 | 256 | -0.032 |
+------------+---------+-------------------------------------+
| 1518 | 256 | -0.019 |
+------------+---------+-------------------------------------+
Ubuntu 18.04
Kernel: 4.15.0-generic
GCC: 7.4
NIC: Mellanox ConnectX-4 Lx 40000 Mbps
Target: x86_64-native-linuxapp-gcc
Fail/Total: 0/6
Detail performance results:
+------------+---------+-------------------------------------+
| frame_size | txd/rxd | throughput difference from expected |
+============+=========+=====================================+
| 64 | 256 | -0.163 |
+------------+---------+-------------------------------------+
| 128 | 256 | 0.233 |
+------------+---------+-------------------------------------+
| 256 | 256 | 0.110 |
+------------+---------+-------------------------------------+
| 512 | 256 | -0.009 |
+------------+---------+-------------------------------------+
| 1024 | 256 | -0.007 |
+------------+---------+-------------------------------------+
| 1518 | 256 | -0.014 |
+------------+---------+-------------------------------------+
To view detailed results, visit:
https://lab.dpdk.org/results/dashboard/patchsets/9369/
UNH-IOL DPDK Community Lab
To manage your email subscriptions, visit:
https://lab.dpdk.org/results/dashboard/preferences/subscriptions/
^ permalink raw reply [flat|nested] 4+ messages in thread
* [dpdk-test-report] |SUCCESS| pw65136 [PATCH] [v2, 2/2] net/bnx2x: fix to sync fastpath Rx queue access
@ 2020-01-27 18:27 dpdklab
0 siblings, 0 replies; 4+ messages in thread
From: dpdklab @ 2020-01-27 18:27 UTC (permalink / raw)
To: Test Report; +Cc: dpdk-test-reports
[-- Attachment #1: Type: text/plain, Size: 2245 bytes --]
Test-Label: iol-testing
Test-Status: SUCCESS
http://dpdk.org/patch/65136
_Testing PASS_
Submitter: Rasesh Mody <rmody@marvell.com>
Date: Sunday, January 26 2020 22:54:19
DPDK git baseline: Repo:dpdk
Branch: master
CommitID:c465e6b94be343303303f26b95f3c2ae4969063e
65136 --> testing pass
Test environment and result as below:
+------------------+-------------------+--------------------+--------------+------------------+----------------+
| Environment | dpdk_compile_spdk | dpdk_meson_compile | dpdk_compile | dpdk_compile_ovs | dpdk_unit_test |
+==================+===================+====================+==============+==================+================+
| FreeBSD 11.2 | PASS | PASS | PASS | SKIPPED | SKIPPED |
+------------------+-------------------+--------------------+--------------+------------------+----------------+
| Ubuntu 18.04 | PASS | PASS | PASS | PASS | PASS |
+------------------+-------------------+--------------------+--------------+------------------+----------------+
| Arch Linux | SKIPPED | PASS | PASS | PASS | SKIPPED |
+------------------+-------------------+--------------------+--------------+------------------+----------------+
| openSUSE Leap 15 | SKIPPED | PASS | PASS | PASS | SKIPPED |
+------------------+-------------------+--------------------+--------------+------------------+----------------+
| Fedora 31 | SKIPPED | PASS | PASS | PASS | SKIPPED |
+------------------+-------------------+--------------------+--------------+------------------+----------------+
FreeBSD 11.2
Kernel: 11.2
GCC: 8.3
Ubuntu 18.04
Kernel: 4.15.0-generic
GCC: 7.4
Arch Linux
Kernel: latest
GCC: latest
openSUSE Leap 15
Kernel: 4.12.14
GCC: 7.4.1
Fedora 31
Kernel: 5.3.16
GCC: 9.2.1
To view detailed results, visit:
https://lab.dpdk.org/results/dashboard/patchsets/9369/
UNH-IOL DPDK Community Lab
To manage your email subscriptions, visit:
https://lab.dpdk.org/results/dashboard/preferences/subscriptions/
^ permalink raw reply [flat|nested] 4+ messages in thread
end of thread, other threads:[~2020-01-27 19:39 UTC | newest]
Thread overview: 4+ messages (download: mbox.gz / follow: Atom feed)
-- links below jump to the message on this page --
[not found] <20200126225419.23919-2-rmody@marvell.com>
2020-01-26 22:55 ` [dpdk-test-report] |SUCCESS| pw65136 [PATCH v2 2/2] net/bnx2x: fix to sync fastpath Rx queue access checkpatch
2020-01-27 18:27 [dpdk-test-report] |SUCCESS| pw65136 [PATCH] [v2, " dpdklab
2020-01-27 19:39 dpdklab
2020-01-27 19:39 dpdklab
This is a public inbox, see mirroring instructions
for how to clone and mirror all data and code used for this inbox;
as well as URLs for NNTP newsgroup(s).