* [dpdk-test-report] |SUCCESS| pw65133 [PATCH] [v2] net/ixgbevf: prevent duplicate default mac filter entries
@ 2020-01-27 21:43 dpdklab
0 siblings, 0 replies; 4+ messages in thread
From: dpdklab @ 2020-01-27 21:43 UTC (permalink / raw)
To: Ruoshan Shi, Test Report; +Cc: dpdk-test-reports
[-- Attachment #1: Type: text/plain, Size: 1187 bytes --]
Test-Label: iol-nxp-Performance
Test-Status: SUCCESS
http://dpdk.org/patch/65133
_Performance Testing PASS_
Submitter: David Harton <dharton@cisco.com>
Date: Sunday, January 26 2020 17:32:49
DPDK git baseline: Repo:dpdk
Branch: master
CommitID:c465e6b94be343303303f26b95f3c2ae4969063e
65133 --> performance testing pass
Test environment and result as below:
Ubuntu 18.04
Kernel: 4.14.122
GCC: 7.3.0
NIC: NXP LS2088A 10000 Mbps
Target: x86_64-native-linuxapp-gcc
Fail/Total: 0/2
Detail performance results:
+------------+---------+-------------------------------------+
| frame_size | txd/rxd | throughput difference from expected |
+============+=========+=====================================+
| 64 | 512 | -0.045 |
+------------+---------+-------------------------------------+
| 64 | 2048 | -0.029 |
+------------+---------+-------------------------------------+
To view detailed results, visit:
https://lab.dpdk.org/results/dashboard/patchsets/9366/
UNH-IOL DPDK Community Lab
To manage your email subscriptions, visit:
https://lab.dpdk.org/results/dashboard/preferences/subscriptions/
^ permalink raw reply [flat|nested] 4+ messages in thread
* [dpdk-test-report] |SUCCESS| pw65133 [PATCH] [v2] net/ixgbevf: prevent duplicate default mac filter entries
@ 2020-01-27 21:43 dpdklab
0 siblings, 0 replies; 4+ messages in thread
From: dpdklab @ 2020-01-27 21:43 UTC (permalink / raw)
To: Ali Alnubani, Test Report; +Cc: dpdk-test-reports
[-- Attachment #1: Type: text/plain, Size: 3931 bytes --]
Test-Label: iol-mellanox-Performance
Test-Status: SUCCESS
http://dpdk.org/patch/65133
_Performance Testing PASS_
Submitter: David Harton <dharton@cisco.com>
Date: Sunday, January 26 2020 17:32:49
DPDK git baseline: Repo:dpdk
Branch: master
CommitID:c465e6b94be343303303f26b95f3c2ae4969063e
65133 --> performance testing pass
Test environment and result as below:
Ubuntu 18.04
Kernel: 4.15.0-generic
GCC: 7.4
NIC: Mellanox ConnectX-4 Lx 25000 Mbps
Target: x86_64-native-linuxapp-gcc
Fail/Total: 0/6
Detail performance results:
+------------+---------+-------------------------------------+
| frame_size | txd/rxd | throughput difference from expected |
+============+=========+=====================================+
| 64 | 256 | -0.096 |
+------------+---------+-------------------------------------+
| 128 | 256 | -0.109 |
+------------+---------+-------------------------------------+
| 256 | 256 | -0.003 |
+------------+---------+-------------------------------------+
| 512 | 256 | -0.008 |
+------------+---------+-------------------------------------+
| 1024 | 256 | -0.008 |
+------------+---------+-------------------------------------+
| 1518 | 256 | -0.011 |
+------------+---------+-------------------------------------+
Ubuntu 18.04
Kernel: 4.15.0-generic
GCC: 7.4
NIC: Mellanox ConnectX-5 100000 Mbps
Target: x86_64-native-linuxapp-gcc
Fail/Total: 0/6
Detail performance results:
+------------+---------+-------------------------------------+
| frame_size | txd/rxd | throughput difference from expected |
+============+=========+=====================================+
| 64 | 256 | -0.034 |
+------------+---------+-------------------------------------+
| 128 | 256 | 0.039 |
+------------+---------+-------------------------------------+
| 256 | 256 | -0.014 |
+------------+---------+-------------------------------------+
| 512 | 256 | -0.159 |
+------------+---------+-------------------------------------+
| 1024 | 256 | -0.023 |
+------------+---------+-------------------------------------+
| 1518 | 256 | -0.037 |
+------------+---------+-------------------------------------+
Ubuntu 18.04
Kernel: 4.15.0-generic
GCC: 7.4
NIC: Mellanox ConnectX-4 Lx 40000 Mbps
Target: x86_64-native-linuxapp-gcc
Fail/Total: 0/6
Detail performance results:
+------------+---------+-------------------------------------+
| frame_size | txd/rxd | throughput difference from expected |
+============+=========+=====================================+
| 64 | 256 | -0.478 |
+------------+---------+-------------------------------------+
| 128 | 256 | -0.120 |
+------------+---------+-------------------------------------+
| 256 | 256 | 0.073 |
+------------+---------+-------------------------------------+
| 512 | 256 | -0.027 |
+------------+---------+-------------------------------------+
| 1024 | 256 | -0.003 |
+------------+---------+-------------------------------------+
| 1518 | 256 | -0.014 |
+------------+---------+-------------------------------------+
To view detailed results, visit:
https://lab.dpdk.org/results/dashboard/patchsets/9366/
UNH-IOL DPDK Community Lab
To manage your email subscriptions, visit:
https://lab.dpdk.org/results/dashboard/preferences/subscriptions/
^ permalink raw reply [flat|nested] 4+ messages in thread
* [dpdk-test-report] |SUCCESS| pw65133 [PATCH] [v2] net/ixgbevf: prevent duplicate default mac filter entries
@ 2020-01-27 20:52 dpdklab
0 siblings, 0 replies; 4+ messages in thread
From: dpdklab @ 2020-01-27 20:52 UTC (permalink / raw)
To: Test Report; +Cc: dpdk-test-reports
[-- Attachment #1: Type: text/plain, Size: 2516 bytes --]
Test-Label: iol-testing
Test-Status: SUCCESS
http://dpdk.org/patch/65133
_Testing PASS_
Submitter: David Harton <dharton@cisco.com>
Date: Sunday, January 26 2020 17:32:49
DPDK git baseline: Repo:dpdk
Branch: master
CommitID:c465e6b94be343303303f26b95f3c2ae4969063e
65133 --> testing pass
Test environment and result as below:
+------------------+-------------------+------------------+----------------+--------------+--------------------+
| Environment | dpdk_compile_spdk | dpdk_compile_ovs | dpdk_unit_test | dpdk_compile | dpdk_meson_compile |
+==================+===================+==================+================+==============+====================+
| FreeBSD 11.2 | PASS | SKIPPED | SKIPPED | PASS | PASS |
+------------------+-------------------+------------------+----------------+--------------+--------------------+
| Ubuntu 18.04 | PASS | PASS | PASS | PASS | PASS |
+------------------+-------------------+------------------+----------------+--------------+--------------------+
| openSUSE Leap 15 | SKIPPED | PASS | SKIPPED | PASS | PASS |
+------------------+-------------------+------------------+----------------+--------------+--------------------+
| Arch Linux | SKIPPED | PASS | SKIPPED | PASS | PASS |
+------------------+-------------------+------------------+----------------+--------------+--------------------+
| Fedora 31 | SKIPPED | PASS | SKIPPED | PASS | PASS |
+------------------+-------------------+------------------+----------------+--------------+--------------------+
| CentOS 8 | SKIPPED | PASS | SKIPPED | PASS | PASS |
+------------------+-------------------+------------------+----------------+--------------+--------------------+
FreeBSD 11.2
Kernel: 11.2
GCC: 8.3
Ubuntu 18.04
Kernel: 4.15.0-generic
GCC: 7.4
openSUSE Leap 15
Kernel: 4.12.14
GCC: 7.4.1
Arch Linux
Kernel: latest
GCC: latest
Fedora 31
Kernel: 5.3.16
GCC: 9.2.1
CentOS 8
Kernel: 4.18.0.el8_0
GCC: 8.3.1
To view detailed results, visit:
https://lab.dpdk.org/results/dashboard/patchsets/9366/
UNH-IOL DPDK Community Lab
To manage your email subscriptions, visit:
https://lab.dpdk.org/results/dashboard/preferences/subscriptions/
^ permalink raw reply [flat|nested] 4+ messages in thread
* [dpdk-test-report] |SUCCESS| pw65133 [PATCH v2] net/ixgbevf: prevent duplicate default mac filter entries
[not found] <20200126173249.27722-1-dharton@cisco.com>
@ 2020-01-26 17:33 ` checkpatch
0 siblings, 0 replies; 4+ messages in thread
From: checkpatch @ 2020-01-26 17:33 UTC (permalink / raw)
To: test-report
Test-Label: checkpatch
Test-Status: SUCCESS
http://dpdk.org/patch/65133
_coding style OK_
^ permalink raw reply [flat|nested] 4+ messages in thread
end of thread, other threads:[~2020-01-27 21:43 UTC | newest]
Thread overview: 4+ messages (download: mbox.gz / follow: Atom feed)
-- links below jump to the message on this page --
2020-01-27 21:43 [dpdk-test-report] |SUCCESS| pw65133 [PATCH] [v2] net/ixgbevf: prevent duplicate default mac filter entries dpdklab
-- strict thread matches above, loose matches on Subject: below --
2020-01-27 21:43 dpdklab
2020-01-27 20:52 dpdklab
[not found] <20200126173249.27722-1-dharton@cisco.com>
2020-01-26 17:33 ` [dpdk-test-report] |SUCCESS| pw65133 [PATCH v2] " checkpatch
This is a public inbox, see mirroring instructions
for how to clone and mirror all data and code used for this inbox;
as well as URLs for NNTP newsgroup(s).