* [dpdk-test-report] |SUCCESS| pw65169-65179 [PATCH] [v6, 01/11] examples/l3fwd: add framework for event device
@ 2020-01-28 6:55 dpdklab
0 siblings, 0 replies; 3+ messages in thread
From: dpdklab @ 2020-01-28 6:55 UTC (permalink / raw)
To: Ruoshan Shi, Test Report; +Cc: dpdk-test-reports
[-- Attachment #1: Type: text/plain, Size: 1216 bytes --]
Test-Label: iol-nxp-Performance
Test-Status: SUCCESS
http://dpdk.org/patch/65169
_Performance Testing PASS_
Submitter: Pavan Nikhilesh Bhagavatula <pbhagavatula@marvell.com>
Date: Tuesday, January 28 2020 05:34:55
DPDK git baseline: Repo:dpdk
Branch: master
CommitID:c465e6b94be343303303f26b95f3c2ae4969063e
65169-65179 --> performance testing pass
Test environment and result as below:
Ubuntu 18.04
Kernel: 4.14.122
GCC: 7.3.0
NIC: NXP LS2088A 10000 Mbps
Target: x86_64-native-linuxapp-gcc
Fail/Total: 0/2
Detail performance results:
+------------+---------+-------------------------------------+
| frame_size | txd/rxd | throughput difference from expected |
+============+=========+=====================================+
| 64 | 512 | -0.108 |
+------------+---------+-------------------------------------+
| 64 | 2048 | 0.041 |
+------------+---------+-------------------------------------+
To view detailed results, visit:
https://lab.dpdk.org/results/dashboard/patchsets/9381/
UNH-IOL DPDK Community Lab
To manage your email subscriptions, visit:
https://lab.dpdk.org/results/dashboard/preferences/subscriptions/
^ permalink raw reply [flat|nested] 3+ messages in thread
* [dpdk-test-report] |SUCCESS| pw65169-65179 [PATCH] [v6, 01/11] examples/l3fwd: add framework for event device
@ 2020-01-28 7:16 dpdklab
0 siblings, 0 replies; 3+ messages in thread
From: dpdklab @ 2020-01-28 7:16 UTC (permalink / raw)
To: Test Report; +Cc: dpdk-test-reports
[-- Attachment #1: Type: text/plain, Size: 2275 bytes --]
Test-Label: iol-testing
Test-Status: SUCCESS
http://dpdk.org/patch/65169
_Testing PASS_
Submitter: Pavan Nikhilesh Bhagavatula <pbhagavatula@marvell.com>
Date: Tuesday, January 28 2020 05:34:55
DPDK git baseline: Repo:dpdk
Branch: master
CommitID:c465e6b94be343303303f26b95f3c2ae4969063e
65169-65179 --> testing pass
Test environment and result as below:
+------------------+-------------------+------------------+--------------+----------------+--------------------+
| Environment | dpdk_compile_spdk | dpdk_compile_ovs | dpdk_compile | dpdk_unit_test | dpdk_meson_compile |
+==================+===================+==================+==============+================+====================+
| FreeBSD 11.2 | PASS | SKIPPED | PASS | SKIPPED | PASS |
+------------------+-------------------+------------------+--------------+----------------+--------------------+
| Ubuntu 18.04 | PASS | PASS | PASS | PASS | PASS |
+------------------+-------------------+------------------+--------------+----------------+--------------------+
| openSUSE Leap 15 | SKIPPED | PASS | PASS | SKIPPED | PASS |
+------------------+-------------------+------------------+--------------+----------------+--------------------+
| Arch Linux | SKIPPED | PASS | PASS | SKIPPED | PASS |
+------------------+-------------------+------------------+--------------+----------------+--------------------+
| Fedora 31 | SKIPPED | PASS | PASS | SKIPPED | PASS |
+------------------+-------------------+------------------+--------------+----------------+--------------------+
FreeBSD 11.2
Kernel: 11.2
GCC: 8.3
Ubuntu 18.04
Kernel: 4.15.0-generic
GCC: 7.4
openSUSE Leap 15
Kernel: 4.12.14
GCC: 7.4.1
Arch Linux
Kernel: latest
GCC: latest
Fedora 31
Kernel: 5.3.16
GCC: 9.2.1
To view detailed results, visit:
https://lab.dpdk.org/results/dashboard/patchsets/9381/
UNH-IOL DPDK Community Lab
To manage your email subscriptions, visit:
https://lab.dpdk.org/results/dashboard/preferences/subscriptions/
^ permalink raw reply [flat|nested] 3+ messages in thread
* [dpdk-test-report] |SUCCESS| pw65169-65179 [PATCH] [v6, 01/11] examples/l3fwd: add framework for event device
@ 2020-01-28 6:55 dpdklab
0 siblings, 0 replies; 3+ messages in thread
From: dpdklab @ 2020-01-28 6:55 UTC (permalink / raw)
To: Ali Alnubani, Test Report; +Cc: dpdk-test-reports
[-- Attachment #1: Type: text/plain, Size: 3960 bytes --]
Test-Label: iol-mellanox-Performance
Test-Status: SUCCESS
http://dpdk.org/patch/65169
_Performance Testing PASS_
Submitter: Pavan Nikhilesh Bhagavatula <pbhagavatula@marvell.com>
Date: Tuesday, January 28 2020 05:34:55
DPDK git baseline: Repo:dpdk
Branch: master
CommitID:c465e6b94be343303303f26b95f3c2ae4969063e
65169-65179 --> performance testing pass
Test environment and result as below:
Ubuntu 18.04
Kernel: 4.15.0-generic
GCC: 7.4
NIC: Mellanox ConnectX-5 100000 Mbps
Target: x86_64-native-linuxapp-gcc
Fail/Total: 0/6
Detail performance results:
+------------+---------+-------------------------------------+
| frame_size | txd/rxd | throughput difference from expected |
+============+=========+=====================================+
| 64 | 256 | -0.133 |
+------------+---------+-------------------------------------+
| 128 | 256 | 0.082 |
+------------+---------+-------------------------------------+
| 256 | 256 | 0.028 |
+------------+---------+-------------------------------------+
| 512 | 256 | -0.282 |
+------------+---------+-------------------------------------+
| 1024 | 256 | 0.043 |
+------------+---------+-------------------------------------+
| 1518 | 256 | -0.010 |
+------------+---------+-------------------------------------+
Ubuntu 18.04
Kernel: 4.15.0-generic
GCC: 7.4
NIC: Mellanox ConnectX-4 Lx 25000 Mbps
Target: x86_64-native-linuxapp-gcc
Fail/Total: 0/6
Detail performance results:
+------------+---------+-------------------------------------+
| frame_size | txd/rxd | throughput difference from expected |
+============+=========+=====================================+
| 64 | 256 | 0.004 |
+------------+---------+-------------------------------------+
| 128 | 256 | -0.140 |
+------------+---------+-------------------------------------+
| 256 | 256 | -0.102 |
+------------+---------+-------------------------------------+
| 512 | 256 | 0.015 |
+------------+---------+-------------------------------------+
| 1024 | 256 | -0.007 |
+------------+---------+-------------------------------------+
| 1518 | 256 | -0.011 |
+------------+---------+-------------------------------------+
Ubuntu 18.04
Kernel: 4.15.0-generic
GCC: 7.4
NIC: Mellanox ConnectX-4 Lx 40000 Mbps
Target: x86_64-native-linuxapp-gcc
Fail/Total: 0/6
Detail performance results:
+------------+---------+-------------------------------------+
| frame_size | txd/rxd | throughput difference from expected |
+============+=========+=====================================+
| 64 | 256 | -0.176 |
+------------+---------+-------------------------------------+
| 128 | 256 | -0.218 |
+------------+---------+-------------------------------------+
| 256 | 256 | 0.071 |
+------------+---------+-------------------------------------+
| 512 | 256 | -0.010 |
+------------+---------+-------------------------------------+
| 1024 | 256 | -0.004 |
+------------+---------+-------------------------------------+
| 1518 | 256 | -0.011 |
+------------+---------+-------------------------------------+
To view detailed results, visit:
https://lab.dpdk.org/results/dashboard/patchsets/9381/
UNH-IOL DPDK Community Lab
To manage your email subscriptions, visit:
https://lab.dpdk.org/results/dashboard/preferences/subscriptions/
^ permalink raw reply [flat|nested] 3+ messages in thread
end of thread, other threads:[~2020-01-28 7:16 UTC | newest]
Thread overview: 3+ messages (download: mbox.gz / follow: Atom feed)
-- links below jump to the message on this page --
2020-01-28 6:55 [dpdk-test-report] |SUCCESS| pw65169-65179 [PATCH] [v6, 01/11] examples/l3fwd: add framework for event device dpdklab
-- strict thread matches above, loose matches on Subject: below --
2020-01-28 7:16 dpdklab
2020-01-28 6:55 dpdklab
This is a public inbox, see mirroring instructions
for how to clone and mirror all data and code used for this inbox;
as well as URLs for NNTP newsgroup(s).