* [dpdk-test-report] |SUCCESS| pw65180-65188 [PATCH] [1/8] net/bnxt: fix bnxt_alloc_filter() to use a common routine
@ 2020-01-28 7:36 dpdklab
0 siblings, 0 replies; 3+ messages in thread
From: dpdklab @ 2020-01-28 7:36 UTC (permalink / raw)
To: Ruoshan Shi, Test Report; +Cc: dpdk-test-reports
[-- Attachment #1: Type: text/plain, Size: 1218 bytes --]
Test-Label: iol-nxp-Performance
Test-Status: SUCCESS
http://dpdk.org/patch/65180
_Performance Testing PASS_
Submitter: Somnath Kotur <somnath.kotur@broadcom.com>
Date: Tuesday, January 28 2020 06:23:50
DPDK git baseline: Repo:dpdk-next-net-brcm
Branch: master
CommitID:52fdfcb9bd232be260ae7ec16f9bcc59701e62be
65180-65188 --> performance testing pass
Test environment and result as below:
Ubuntu 18.04
Kernel: 4.14.122
GCC: 7.3.0
NIC: NXP LS2088A 10000 Mbps
Target: x86_64-native-linuxapp-gcc
Fail/Total: 0/2
Detail performance results:
+------------+---------+-------------------------------------+
| frame_size | txd/rxd | throughput difference from expected |
+============+=========+=====================================+
| 64 | 512 | -0.207 |
+------------+---------+-------------------------------------+
| 64 | 2048 | 0.025 |
+------------+---------+-------------------------------------+
To view detailed results, visit:
https://lab.dpdk.org/results/dashboard/patchsets/9382/
UNH-IOL DPDK Community Lab
To manage your email subscriptions, visit:
https://lab.dpdk.org/results/dashboard/preferences/subscriptions/
^ permalink raw reply [flat|nested] 3+ messages in thread
* [dpdk-test-report] |SUCCESS| pw65180-65188 [PATCH] [1/8] net/bnxt: fix bnxt_alloc_filter() to use a common routine
@ 2020-01-28 7:39 dpdklab
0 siblings, 0 replies; 3+ messages in thread
From: dpdklab @ 2020-01-28 7:39 UTC (permalink / raw)
To: Test Report; +Cc: dpdk-test-reports
[-- Attachment #1: Type: text/plain, Size: 2547 bytes --]
Test-Label: iol-testing
Test-Status: SUCCESS
http://dpdk.org/patch/65180
_Testing PASS_
Submitter: Somnath Kotur <somnath.kotur@broadcom.com>
Date: Tuesday, January 28 2020 06:23:50
DPDK git baseline: Repo:dpdk-next-net-brcm
Branch: master
CommitID:52fdfcb9bd232be260ae7ec16f9bcc59701e62be
65180-65188 --> testing pass
Test environment and result as below:
+------------------+-------------------+------------------+--------------+----------------+--------------------+
| Environment | dpdk_compile_spdk | dpdk_compile_ovs | dpdk_compile | dpdk_unit_test | dpdk_meson_compile |
+==================+===================+==================+==============+================+====================+
| FreeBSD 11.2 | PASS | SKIPPED | PASS | SKIPPED | PASS |
+------------------+-------------------+------------------+--------------+----------------+--------------------+
| Ubuntu 18.04 | PASS | PASS | PASS | PASS | PASS |
+------------------+-------------------+------------------+--------------+----------------+--------------------+
| openSUSE Leap 15 | SKIPPED | PASS | PASS | SKIPPED | PASS |
+------------------+-------------------+------------------+--------------+----------------+--------------------+
| Arch Linux | SKIPPED | PASS | PASS | SKIPPED | PASS |
+------------------+-------------------+------------------+--------------+----------------+--------------------+
| Fedora 31 | SKIPPED | PASS | PASS | SKIPPED | PASS |
+------------------+-------------------+------------------+--------------+----------------+--------------------+
| CentOS 8 | SKIPPED | PASS | PASS | SKIPPED | PASS |
+------------------+-------------------+------------------+--------------+----------------+--------------------+
FreeBSD 11.2
Kernel: 11.2
GCC: 8.3
Ubuntu 18.04
Kernel: 4.15.0-generic
GCC: 7.4
openSUSE Leap 15
Kernel: 4.12.14
GCC: 7.4.1
Arch Linux
Kernel: latest
GCC: latest
Fedora 31
Kernel: 5.3.16
GCC: 9.2.1
CentOS 8
Kernel: 4.18.0.el8_0
GCC: 8.3.1
To view detailed results, visit:
https://lab.dpdk.org/results/dashboard/patchsets/9382/
UNH-IOL DPDK Community Lab
To manage your email subscriptions, visit:
https://lab.dpdk.org/results/dashboard/preferences/subscriptions/
^ permalink raw reply [flat|nested] 3+ messages in thread
* [dpdk-test-report] |SUCCESS| pw65180-65188 [PATCH] [1/8] net/bnxt: fix bnxt_alloc_filter() to use a common routine
@ 2020-01-28 7:36 dpdklab
0 siblings, 0 replies; 3+ messages in thread
From: dpdklab @ 2020-01-28 7:36 UTC (permalink / raw)
To: Ali Alnubani, Test Report; +Cc: dpdk-test-reports
[-- Attachment #1: Type: text/plain, Size: 3962 bytes --]
Test-Label: iol-mellanox-Performance
Test-Status: SUCCESS
http://dpdk.org/patch/65180
_Performance Testing PASS_
Submitter: Somnath Kotur <somnath.kotur@broadcom.com>
Date: Tuesday, January 28 2020 06:23:50
DPDK git baseline: Repo:dpdk-next-net-brcm
Branch: master
CommitID:52fdfcb9bd232be260ae7ec16f9bcc59701e62be
65180-65188 --> performance testing pass
Test environment and result as below:
Ubuntu 18.04
Kernel: 4.15.0-generic
GCC: 7.4
NIC: Mellanox ConnectX-4 Lx 25000 Mbps
Target: x86_64-native-linuxapp-gcc
Fail/Total: 0/6
Detail performance results:
+------------+---------+-------------------------------------+
| frame_size | txd/rxd | throughput difference from expected |
+============+=========+=====================================+
| 64 | 256 | 0.081 |
+------------+---------+-------------------------------------+
| 128 | 256 | -0.115 |
+------------+---------+-------------------------------------+
| 256 | 256 | -0.051 |
+------------+---------+-------------------------------------+
| 512 | 256 | 0.034 |
+------------+---------+-------------------------------------+
| 1024 | 256 | -0.007 |
+------------+---------+-------------------------------------+
| 1518 | 256 | -0.012 |
+------------+---------+-------------------------------------+
Ubuntu 18.04
Kernel: 4.15.0-generic
GCC: 7.4
NIC: Mellanox ConnectX-4 Lx 40000 Mbps
Target: x86_64-native-linuxapp-gcc
Fail/Total: 0/6
Detail performance results:
+------------+---------+-------------------------------------+
| frame_size | txd/rxd | throughput difference from expected |
+============+=========+=====================================+
| 64 | 256 | -0.572 |
+------------+---------+-------------------------------------+
| 128 | 256 | -0.200 |
+------------+---------+-------------------------------------+
| 256 | 256 | 0.024 |
+------------+---------+-------------------------------------+
| 512 | 256 | -0.019 |
+------------+---------+-------------------------------------+
| 1024 | 256 | -0.010 |
+------------+---------+-------------------------------------+
| 1518 | 256 | -0.008 |
+------------+---------+-------------------------------------+
Ubuntu 18.04
Kernel: 4.15.0-generic
GCC: 7.4
NIC: Mellanox ConnectX-5 100000 Mbps
Target: x86_64-native-linuxapp-gcc
Fail/Total: 0/6
Detail performance results:
+------------+---------+-------------------------------------+
| frame_size | txd/rxd | throughput difference from expected |
+============+=========+=====================================+
| 64 | 256 | -0.329 |
+------------+---------+-------------------------------------+
| 128 | 256 | -0.152 |
+------------+---------+-------------------------------------+
| 256 | 256 | -0.035 |
+------------+---------+-------------------------------------+
| 512 | 256 | -0.184 |
+------------+---------+-------------------------------------+
| 1024 | 256 | -0.035 |
+------------+---------+-------------------------------------+
| 1518 | 256 | -0.024 |
+------------+---------+-------------------------------------+
To view detailed results, visit:
https://lab.dpdk.org/results/dashboard/patchsets/9382/
UNH-IOL DPDK Community Lab
To manage your email subscriptions, visit:
https://lab.dpdk.org/results/dashboard/preferences/subscriptions/
^ permalink raw reply [flat|nested] 3+ messages in thread
end of thread, other threads:[~2020-01-28 7:39 UTC | newest]
Thread overview: 3+ messages (download: mbox.gz / follow: Atom feed)
-- links below jump to the message on this page --
2020-01-28 7:36 [dpdk-test-report] |SUCCESS| pw65180-65188 [PATCH] [1/8] net/bnxt: fix bnxt_alloc_filter() to use a common routine dpdklab
-- strict thread matches above, loose matches on Subject: below --
2020-01-28 7:39 dpdklab
2020-01-28 7:36 dpdklab
This is a public inbox, see mirroring instructions
for how to clone and mirror all data and code used for this inbox;
as well as URLs for NNTP newsgroup(s).