* [dpdk-test-report] |SUCCESS| pw65272 [PATCH] net/mlx5: make FDB default rule optional
[not found] <1580231203-13912-1-git-send-email-matan@mellanox.com>
@ 2020-01-28 17:07 ` checkpatch
2020-01-29 5:00 ` [dpdk-test-report] |SUCCESS| pw65272 " 0-day Robot
1 sibling, 0 replies; 5+ messages in thread
From: checkpatch @ 2020-01-28 17:07 UTC (permalink / raw)
To: test-report
Test-Label: checkpatch
Test-Status: SUCCESS
http://dpdk.org/patch/65272
_coding style OK_
^ permalink raw reply [flat|nested] 5+ messages in thread
* [dpdk-test-report] |SUCCESS| pw65272 net/mlx5: make FDB default rule optional
[not found] <1580231203-13912-1-git-send-email-matan@mellanox.com>
2020-01-28 17:07 ` [dpdk-test-report] |SUCCESS| pw65272 [PATCH] net/mlx5: make FDB default rule optional checkpatch
@ 2020-01-29 5:00 ` 0-day Robot
1 sibling, 0 replies; 5+ messages in thread
From: 0-day Robot @ 2020-01-29 5:00 UTC (permalink / raw)
To: test-report; +Cc: robot
From: robot@bytheb.org
Test-Label: travis-robot
Test-Status: SUCCESS
http://dpdk.org/patch/65272
_Travis build: passed_
Build URL: https://travis-ci.com/ovsrobot/dpdk/builds/146447676
^ permalink raw reply [flat|nested] 5+ messages in thread
* [dpdk-test-report] |SUCCESS| pw65272 [PATCH] net/mlx5: make FDB default rule optional
@ 2020-01-28 22:29 dpdklab
0 siblings, 0 replies; 5+ messages in thread
From: dpdklab @ 2020-01-28 22:29 UTC (permalink / raw)
To: Test Report; +Cc: dpdk-test-reports
[-- Attachment #1: Type: text/plain, Size: 2252 bytes --]
Test-Label: iol-testing
Test-Status: SUCCESS
http://dpdk.org/patch/65272
_Testing PASS_
Submitter: Matan Azrad <matan@mellanox.com>
Date: Tuesday, January 28 2020 17:06:43
DPDK git baseline: Repo:dpdk
Branch: master
CommitID:c465e6b94be343303303f26b95f3c2ae4969063e
65272 --> testing pass
Test environment and result as below:
+------------------+-------------------+--------------+------------------+--------------------+----------------+
| Environment | dpdk_compile_spdk | dpdk_compile | dpdk_compile_ovs | dpdk_meson_compile | dpdk_unit_test |
+==================+===================+==============+==================+====================+================+
| FreeBSD 11.2 | PASS | PASS | SKIPPED | PASS | SKIPPED |
+------------------+-------------------+--------------+------------------+--------------------+----------------+
| Ubuntu 18.04 | PASS | PASS | PASS | PASS | PASS |
+------------------+-------------------+--------------+------------------+--------------------+----------------+
| openSUSE Leap 15 | SKIPPED | PASS | PASS | PASS | SKIPPED |
+------------------+-------------------+--------------+------------------+--------------------+----------------+
| Arch Linux | SKIPPED | PASS | PASS | PASS | SKIPPED |
+------------------+-------------------+--------------+------------------+--------------------+----------------+
| CentOS 8 | SKIPPED | PASS | PASS | PASS | SKIPPED |
+------------------+-------------------+--------------+------------------+--------------------+----------------+
FreeBSD 11.2
Kernel: 11.2
GCC: 8.3
Ubuntu 18.04
Kernel: 4.15.0-generic
GCC: 7.4
openSUSE Leap 15
Kernel: 4.12.14
GCC: 7.4.1
Arch Linux
Kernel: latest
GCC: latest
CentOS 8
Kernel: 4.18.0.el8_0
GCC: 8.3.1
To view detailed results, visit:
https://lab.dpdk.org/results/dashboard/patchsets/9396/
UNH-IOL DPDK Community Lab
To manage your email subscriptions, visit:
https://lab.dpdk.org/results/dashboard/preferences/subscriptions/
^ permalink raw reply [flat|nested] 5+ messages in thread
* [dpdk-test-report] |SUCCESS| pw65272 [PATCH] net/mlx5: make FDB default rule optional
@ 2020-01-28 20:57 dpdklab
0 siblings, 0 replies; 5+ messages in thread
From: dpdklab @ 2020-01-28 20:57 UTC (permalink / raw)
To: Ali Alnubani, Test Report; +Cc: dpdk-test-reports
[-- Attachment #1: Type: text/plain, Size: 3932 bytes --]
Test-Label: iol-mellanox-Performance
Test-Status: SUCCESS
http://dpdk.org/patch/65272
_Performance Testing PASS_
Submitter: Matan Azrad <matan@mellanox.com>
Date: Tuesday, January 28 2020 17:06:43
DPDK git baseline: Repo:dpdk
Branch: master
CommitID:c465e6b94be343303303f26b95f3c2ae4969063e
65272 --> performance testing pass
Test environment and result as below:
Ubuntu 18.04
Kernel: 4.15.0-generic
GCC: 7.4
NIC: Mellanox ConnectX-5 100000 Mbps
Target: x86_64-native-linuxapp-gcc
Fail/Total: 0/6
Detail performance results:
+------------+---------+-------------------------------------+
| frame_size | txd/rxd | throughput difference from expected |
+============+=========+=====================================+
| 64 | 256 | -0.313 |
+------------+---------+-------------------------------------+
| 128 | 256 | -0.105 |
+------------+---------+-------------------------------------+
| 256 | 256 | -0.066 |
+------------+---------+-------------------------------------+
| 512 | 256 | -0.145 |
+------------+---------+-------------------------------------+
| 1024 | 256 | -0.015 |
+------------+---------+-------------------------------------+
| 1518 | 256 | -0.033 |
+------------+---------+-------------------------------------+
Ubuntu 18.04
Kernel: 4.15.0-generic
GCC: 7.4
NIC: Mellanox ConnectX-4 Lx 25000 Mbps
Target: x86_64-native-linuxapp-gcc
Fail/Total: 0/6
Detail performance results:
+------------+---------+-------------------------------------+
| frame_size | txd/rxd | throughput difference from expected |
+============+=========+=====================================+
| 64 | 256 | -0.216 |
+------------+---------+-------------------------------------+
| 128 | 256 | -0.032 |
+------------+---------+-------------------------------------+
| 256 | 256 | 0.020 |
+------------+---------+-------------------------------------+
| 512 | 256 | -0.057 |
+------------+---------+-------------------------------------+
| 1024 | 256 | -0.014 |
+------------+---------+-------------------------------------+
| 1518 | 256 | -0.006 |
+------------+---------+-------------------------------------+
Ubuntu 18.04
Kernel: 4.15.0-generic
GCC: 7.4
NIC: Mellanox ConnectX-4 Lx 40000 Mbps
Target: x86_64-native-linuxapp-gcc
Fail/Total: 0/6
Detail performance results:
+------------+---------+-------------------------------------+
| frame_size | txd/rxd | throughput difference from expected |
+============+=========+=====================================+
| 64 | 256 | -0.088 |
+------------+---------+-------------------------------------+
| 128 | 256 | -0.257 |
+------------+---------+-------------------------------------+
| 256 | 256 | 0.008 |
+------------+---------+-------------------------------------+
| 512 | 256 | -0.031 |
+------------+---------+-------------------------------------+
| 1024 | 256 | 0.018 |
+------------+---------+-------------------------------------+
| 1518 | 256 | -0.013 |
+------------+---------+-------------------------------------+
To view detailed results, visit:
https://lab.dpdk.org/results/dashboard/patchsets/9396/
UNH-IOL DPDK Community Lab
To manage your email subscriptions, visit:
https://lab.dpdk.org/results/dashboard/preferences/subscriptions/
^ permalink raw reply [flat|nested] 5+ messages in thread
* [dpdk-test-report] |SUCCESS| pw65272 [PATCH] net/mlx5: make FDB default rule optional
@ 2020-01-28 20:57 dpdklab
0 siblings, 0 replies; 5+ messages in thread
From: dpdklab @ 2020-01-28 20:57 UTC (permalink / raw)
To: Ruoshan Shi, Test Report; +Cc: dpdk-test-reports
[-- Attachment #1: Type: text/plain, Size: 1188 bytes --]
Test-Label: iol-nxp-Performance
Test-Status: SUCCESS
http://dpdk.org/patch/65272
_Performance Testing PASS_
Submitter: Matan Azrad <matan@mellanox.com>
Date: Tuesday, January 28 2020 17:06:43
DPDK git baseline: Repo:dpdk
Branch: master
CommitID:c465e6b94be343303303f26b95f3c2ae4969063e
65272 --> performance testing pass
Test environment and result as below:
Ubuntu 18.04
Kernel: 4.14.122
GCC: 7.3.0
NIC: NXP LS2088A 10000 Mbps
Target: x86_64-native-linuxapp-gcc
Fail/Total: 0/2
Detail performance results:
+------------+---------+-------------------------------------+
| frame_size | txd/rxd | throughput difference from expected |
+============+=========+=====================================+
| 64 | 512 | -0.085 |
+------------+---------+-------------------------------------+
| 64 | 2048 | 0.090 |
+------------+---------+-------------------------------------+
To view detailed results, visit:
https://lab.dpdk.org/results/dashboard/patchsets/9396/
UNH-IOL DPDK Community Lab
To manage your email subscriptions, visit:
https://lab.dpdk.org/results/dashboard/preferences/subscriptions/
^ permalink raw reply [flat|nested] 5+ messages in thread
end of thread, other threads:[~2020-01-29 5:02 UTC | newest]
Thread overview: 5+ messages (download: mbox.gz / follow: Atom feed)
-- links below jump to the message on this page --
[not found] <1580231203-13912-1-git-send-email-matan@mellanox.com>
2020-01-28 17:07 ` [dpdk-test-report] |SUCCESS| pw65272 [PATCH] net/mlx5: make FDB default rule optional checkpatch
2020-01-29 5:00 ` [dpdk-test-report] |SUCCESS| pw65272 " 0-day Robot
2020-01-28 22:29 [dpdk-test-report] |SUCCESS| pw65272 [PATCH] " dpdklab
-- strict thread matches above, loose matches on Subject: below --
2020-01-28 20:57 dpdklab
2020-01-28 20:57 dpdklab
This is a public inbox, see mirroring instructions
for how to clone and mirror all data and code used for this inbox;
as well as URLs for NNTP newsgroup(s).