* [dpdk-test-report] |SUCCESS| pw65411 [PATCH] [v2] net/bnxt: fix to remove spurious warning in Rx handler
@ 2020-01-31 8:13 dpdklab
0 siblings, 0 replies; 3+ messages in thread
From: dpdklab @ 2020-01-31 8:13 UTC (permalink / raw)
To: Ruoshan Shi, Test Report; +Cc: dpdk-test-reports
[-- Attachment #1: Type: text/plain, Size: 1211 bytes --]
Test-Label: iol-nxp-Performance
Test-Status: SUCCESS
http://dpdk.org/patch/65411
_Performance Testing PASS_
Submitter: Somnath Kotur <somnath.kotur@broadcom.com>
Date: Friday, January 31 2020 06:16:58
DPDK git baseline: Repo:dpdk-next-net-brcm
Branch: master
CommitID:261b2ab8c0b3d5479038f6a0beaf99ad31d9c8d0
65411 --> performance testing pass
Test environment and result as below:
Ubuntu 18.04
Kernel: 4.14.122
GCC: 7.3.0
NIC: NXP LS2088A 10000 Mbps
Target: x86_64-native-linuxapp-gcc
Fail/Total: 0/2
Detail performance results:
+------------+---------+-------------------------------------+
| frame_size | txd/rxd | throughput difference from expected |
+============+=========+=====================================+
| 64 | 512 | -0.161 |
+------------+---------+-------------------------------------+
| 64 | 2048 | -0.017 |
+------------+---------+-------------------------------------+
To view detailed results, visit:
https://lab.dpdk.org/results/dashboard/patchsets/9444/
UNH-IOL DPDK Community Lab
To manage your email subscriptions, visit:
https://lab.dpdk.org/results/dashboard/preferences/subscriptions/
^ permalink raw reply [flat|nested] 3+ messages in thread
* [dpdk-test-report] |SUCCESS| pw65411 [PATCH] [v2] net/bnxt: fix to remove spurious warning in Rx handler
@ 2020-01-31 8:13 dpdklab
0 siblings, 0 replies; 3+ messages in thread
From: dpdklab @ 2020-01-31 8:13 UTC (permalink / raw)
To: Ali Alnubani, Test Report; +Cc: dpdk-test-reports
[-- Attachment #1: Type: text/plain, Size: 3955 bytes --]
Test-Label: iol-mellanox-Performance
Test-Status: SUCCESS
http://dpdk.org/patch/65411
_Performance Testing PASS_
Submitter: Somnath Kotur <somnath.kotur@broadcom.com>
Date: Friday, January 31 2020 06:16:58
DPDK git baseline: Repo:dpdk-next-net-brcm
Branch: master
CommitID:261b2ab8c0b3d5479038f6a0beaf99ad31d9c8d0
65411 --> performance testing pass
Test environment and result as below:
Ubuntu 18.04
Kernel: 4.15.0-generic
GCC: 7.4
NIC: Mellanox ConnectX-4 Lx 25000 Mbps
Target: x86_64-native-linuxapp-gcc
Fail/Total: 0/6
Detail performance results:
+------------+---------+-------------------------------------+
| frame_size | txd/rxd | throughput difference from expected |
+============+=========+=====================================+
| 64 | 256 | -0.146 |
+------------+---------+-------------------------------------+
| 128 | 256 | -0.091 |
+------------+---------+-------------------------------------+
| 256 | 256 | 0.092 |
+------------+---------+-------------------------------------+
| 512 | 256 | 0.013 |
+------------+---------+-------------------------------------+
| 1024 | 256 | 0.008 |
+------------+---------+-------------------------------------+
| 1518 | 256 | 0 |
+------------+---------+-------------------------------------+
Ubuntu 18.04
Kernel: 4.15.0-generic
GCC: 7.4
NIC: Mellanox ConnectX-5 100000 Mbps
Target: x86_64-native-linuxapp-gcc
Fail/Total: 0/6
Detail performance results:
+------------+---------+-------------------------------------+
| frame_size | txd/rxd | throughput difference from expected |
+============+=========+=====================================+
| 64 | 256 | -0.031 |
+------------+---------+-------------------------------------+
| 128 | 256 | -0.018 |
+------------+---------+-------------------------------------+
| 256 | 256 | -0.091 |
+------------+---------+-------------------------------------+
| 512 | 256 | -0.181 |
+------------+---------+-------------------------------------+
| 1024 | 256 | 0.030 |
+------------+---------+-------------------------------------+
| 1518 | 256 | -0.015 |
+------------+---------+-------------------------------------+
Ubuntu 18.04
Kernel: 4.15.0-generic
GCC: 7.4
NIC: Mellanox ConnectX-4 Lx 40000 Mbps
Target: x86_64-native-linuxapp-gcc
Fail/Total: 0/6
Detail performance results:
+------------+---------+-------------------------------------+
| frame_size | txd/rxd | throughput difference from expected |
+============+=========+=====================================+
| 64 | 256 | -0.024 |
+------------+---------+-------------------------------------+
| 128 | 256 | -0.194 |
+------------+---------+-------------------------------------+
| 256 | 256 | 0.050 |
+------------+---------+-------------------------------------+
| 512 | 256 | -0.027 |
+------------+---------+-------------------------------------+
| 1024 | 256 | -0.007 |
+------------+---------+-------------------------------------+
| 1518 | 256 | 0 |
+------------+---------+-------------------------------------+
To view detailed results, visit:
https://lab.dpdk.org/results/dashboard/patchsets/9444/
UNH-IOL DPDK Community Lab
To manage your email subscriptions, visit:
https://lab.dpdk.org/results/dashboard/preferences/subscriptions/
^ permalink raw reply [flat|nested] 3+ messages in thread
* [dpdk-test-report] |SUCCESS| pw65411 [PATCH] [v2] net/bnxt: fix to remove spurious warning in Rx handler
@ 2020-01-31 7:38 dpdklab
0 siblings, 0 replies; 3+ messages in thread
From: dpdklab @ 2020-01-31 7:38 UTC (permalink / raw)
To: Test Report; +Cc: dpdk-test-reports
[-- Attachment #1: Type: text/plain, Size: 2540 bytes --]
Test-Label: iol-testing
Test-Status: SUCCESS
http://dpdk.org/patch/65411
_Testing PASS_
Submitter: Somnath Kotur <somnath.kotur@broadcom.com>
Date: Friday, January 31 2020 06:16:58
DPDK git baseline: Repo:dpdk-next-net-brcm
Branch: master
CommitID:261b2ab8c0b3d5479038f6a0beaf99ad31d9c8d0
65411 --> testing pass
Test environment and result as below:
+------------------+-------------------+--------------+------------------+----------------+--------------------+
| Environment | dpdk_compile_spdk | dpdk_compile | dpdk_compile_ovs | dpdk_unit_test | dpdk_meson_compile |
+==================+===================+==============+==================+================+====================+
| FreeBSD 11.2 | PASS | PASS | SKIPPED | SKIPPED | PASS |
+------------------+-------------------+--------------+------------------+----------------+--------------------+
| Ubuntu 18.04 | PASS | PASS | PASS | PASS | PASS |
+------------------+-------------------+--------------+------------------+----------------+--------------------+
| openSUSE Leap 15 | SKIPPED | PASS | PASS | SKIPPED | PASS |
+------------------+-------------------+--------------+------------------+----------------+--------------------+
| Fedora 31 | SKIPPED | PASS | PASS | SKIPPED | PASS |
+------------------+-------------------+--------------+------------------+----------------+--------------------+
| Arch Linux | SKIPPED | PASS | PASS | SKIPPED | PASS |
+------------------+-------------------+--------------+------------------+----------------+--------------------+
| CentOS 8 | SKIPPED | PASS | PASS | SKIPPED | PASS |
+------------------+-------------------+--------------+------------------+----------------+--------------------+
FreeBSD 11.2
Kernel: 11.2
GCC: 8.3
Ubuntu 18.04
Kernel: 4.15.0-generic
GCC: 7.4
openSUSE Leap 15
Kernel: 4.12.14
GCC: 7.4.1
Fedora 31
Kernel: 5.3.16
GCC: 9.2.1
Arch Linux
Kernel: latest
GCC: latest
CentOS 8
Kernel: 4.18.0.el8_0
GCC: 8.3.1
To view detailed results, visit:
https://lab.dpdk.org/results/dashboard/patchsets/9444/
UNH-IOL DPDK Community Lab
To manage your email subscriptions, visit:
https://lab.dpdk.org/results/dashboard/preferences/subscriptions/
^ permalink raw reply [flat|nested] 3+ messages in thread
end of thread, other threads:[~2020-01-31 8:13 UTC | newest]
Thread overview: 3+ messages (download: mbox.gz / follow: Atom feed)
-- links below jump to the message on this page --
2020-01-31 8:13 [dpdk-test-report] |SUCCESS| pw65411 [PATCH] [v2] net/bnxt: fix to remove spurious warning in Rx handler dpdklab
-- strict thread matches above, loose matches on Subject: below --
2020-01-31 8:13 dpdklab
2020-01-31 7:38 dpdklab
This is a public inbox, see mirroring instructions
for how to clone and mirror all data and code used for this inbox;
as well as URLs for NNTP newsgroup(s).