* [dpdk-test-report] |SUCCESS| [GIT MASTER] 2395d814cf4e2296a8e0b9b1f85a46e80aa90ab6
@ 2020-01-31 15:47 dpdklab
0 siblings, 0 replies; 3+ messages in thread
From: dpdklab @ 2020-01-31 15:47 UTC (permalink / raw)
To: Test Report; +Cc: dpdk-test-reports
[-- Attachment #1: Type: text/plain, Size: 2320 bytes --]
_Testing PASS_
Branch: dpdk-next-net-mlx
2395d814cf4e2296a8e0b9b1f85a46e80aa90ab6 --> testing pass
Test environment and result as below:
+------------------+-------------------+--------------+------------------+----------------+--------------------+
| Environment | dpdk_compile_spdk | dpdk_compile | dpdk_compile_ovs | dpdk_unit_test | dpdk_meson_compile |
+==================+===================+==============+==================+================+====================+
| FreeBSD 11.2 | PASS | PASS | SKIPPED | SKIPPED | PASS |
+------------------+-------------------+--------------+------------------+----------------+--------------------+
| Ubuntu 18.04 | PASS | PASS | PASS | PASS | PASS |
+------------------+-------------------+--------------+------------------+----------------+--------------------+
| openSUSE Leap 15 | SKIPPED | PASS | PASS | SKIPPED | PASS |
+------------------+-------------------+--------------+------------------+----------------+--------------------+
| Fedora 31 | SKIPPED | PASS | PASS | SKIPPED | PASS |
+------------------+-------------------+--------------+------------------+----------------+--------------------+
| Arch Linux | SKIPPED | PASS | PASS | SKIPPED | PASS |
+------------------+-------------------+--------------+------------------+----------------+--------------------+
| CentOS 8 | SKIPPED | PASS | PASS | SKIPPED | PASS |
+------------------+-------------------+--------------+------------------+----------------+--------------------+
FreeBSD 11.2
Kernel: 11.2
GCC: 8.3
Ubuntu 18.04
Kernel: 4.15.0-generic
GCC: 7.4
openSUSE Leap 15
Kernel: 4.12.14
GCC: 7.4.1
Fedora 31
Kernel: 5.3.16
GCC: 9.2.1
Arch Linux
Kernel: latest
GCC: latest
CentOS 8
Kernel: 4.18.0.el8_0
GCC: 8.3.1
To view detailed results, visit:
https://lab.dpdk.org/results/dashboard/tarballs/7993/
UNH-IOL DPDK Community Lab
To manage your email subscriptions, visit:
https://lab.dpdk.org/results/dashboard/preferences/subscriptions/
^ permalink raw reply [flat|nested] 3+ messages in thread
* [dpdk-test-report] |SUCCESS| [GIT MASTER] 2395d814cf4e2296a8e0b9b1f85a46e80aa90ab6
@ 2020-01-31 16:05 dpdklab
0 siblings, 0 replies; 3+ messages in thread
From: dpdklab @ 2020-01-31 16:05 UTC (permalink / raw)
To: Ruoshan Shi, Test Report; +Cc: dpdk-test-reports
[-- Attachment #1: Type: text/plain, Size: 983 bytes --]
_Performance Testing PASS_
Branch: dpdk-next-net-mlx
2395d814cf4e2296a8e0b9b1f85a46e80aa90ab6 --> performance testing pass
Test environment and result as below:
Ubuntu 18.04
Kernel: 4.14.122
GCC: 7.3.0
NIC: NXP LS2088A 10000 Mbps
Target: x86_64-native-linuxapp-gcc
Fail/Total: 0/2
Detail performance results:
+------------+---------+-------------------------------------+
| frame_size | txd/rxd | throughput difference from expected |
+============+=========+=====================================+
| 64 | 512 | -0.191 |
+------------+---------+-------------------------------------+
| 64 | 2048 | 0.195 |
+------------+---------+-------------------------------------+
To view detailed results, visit:
https://lab.dpdk.org/results/dashboard/tarballs/7993/
UNH-IOL DPDK Community Lab
To manage your email subscriptions, visit:
https://lab.dpdk.org/results/dashboard/preferences/subscriptions/
^ permalink raw reply [flat|nested] 3+ messages in thread
* [dpdk-test-report] |SUCCESS| [GIT MASTER] 2395d814cf4e2296a8e0b9b1f85a46e80aa90ab6
@ 2020-01-31 16:05 dpdklab
0 siblings, 0 replies; 3+ messages in thread
From: dpdklab @ 2020-01-31 16:05 UTC (permalink / raw)
To: Ali Alnubani, Test Report; +Cc: dpdk-test-reports
[-- Attachment #1: Type: text/plain, Size: 3722 bytes --]
_Performance Testing PASS_
Branch: dpdk-next-net-mlx
2395d814cf4e2296a8e0b9b1f85a46e80aa90ab6 --> performance testing pass
Test environment and result as below:
Ubuntu 18.04
Kernel: 4.15.0-generic
GCC: 7.4
NIC: Mellanox ConnectX-5 100000 Mbps
Target: x86_64-native-linuxapp-gcc
Fail/Total: 0/6
Detail performance results:
+------------+---------+-------------------------------------+
| frame_size | txd/rxd | throughput difference from expected |
+============+=========+=====================================+
| 64 | 256 | -0.025 |
+------------+---------+-------------------------------------+
| 128 | 256 | -0.101 |
+------------+---------+-------------------------------------+
| 256 | 256 | -0.106 |
+------------+---------+-------------------------------------+
| 512 | 256 | -0.099 |
+------------+---------+-------------------------------------+
| 1024 | 256 | -0.055 |
+------------+---------+-------------------------------------+
| 1518 | 256 | -0.009 |
+------------+---------+-------------------------------------+
Ubuntu 18.04
Kernel: 4.15.0-generic
GCC: 7.4
NIC: Mellanox ConnectX-4 Lx 25000 Mbps
Target: x86_64-native-linuxapp-gcc
Fail/Total: 0/6
Detail performance results:
+------------+---------+-------------------------------------+
| frame_size | txd/rxd | throughput difference from expected |
+============+=========+=====================================+
| 64 | 256 | -0.094 |
+------------+---------+-------------------------------------+
| 128 | 256 | -0.060 |
+------------+---------+-------------------------------------+
| 256 | 256 | 0.123 |
+------------+---------+-------------------------------------+
| 512 | 256 | 0.003 |
+------------+---------+-------------------------------------+
| 1024 | 256 | 0.010 |
+------------+---------+-------------------------------------+
| 1518 | 256 | 0 |
+------------+---------+-------------------------------------+
Ubuntu 18.04
Kernel: 4.15.0-generic
GCC: 7.4
NIC: Mellanox ConnectX-4 Lx 40000 Mbps
Target: x86_64-native-linuxapp-gcc
Fail/Total: 0/6
Detail performance results:
+------------+---------+-------------------------------------+
| frame_size | txd/rxd | throughput difference from expected |
+============+=========+=====================================+
| 64 | 256 | 0.006 |
+------------+---------+-------------------------------------+
| 128 | 256 | -0.252 |
+------------+---------+-------------------------------------+
| 256 | 256 | -0.026 |
+------------+---------+-------------------------------------+
| 512 | 256 | 0.005 |
+------------+---------+-------------------------------------+
| 1024 | 256 | -0.004 |
+------------+---------+-------------------------------------+
| 1518 | 256 | 0.002 |
+------------+---------+-------------------------------------+
To view detailed results, visit:
https://lab.dpdk.org/results/dashboard/tarballs/7993/
UNH-IOL DPDK Community Lab
To manage your email subscriptions, visit:
https://lab.dpdk.org/results/dashboard/preferences/subscriptions/
^ permalink raw reply [flat|nested] 3+ messages in thread
end of thread, other threads:[~2020-01-31 16:06 UTC | newest]
Thread overview: 3+ messages (download: mbox.gz / follow: Atom feed)
-- links below jump to the message on this page --
2020-01-31 15:47 [dpdk-test-report] |SUCCESS| [GIT MASTER] 2395d814cf4e2296a8e0b9b1f85a46e80aa90ab6 dpdklab
2020-01-31 16:05 dpdklab
2020-01-31 16:05 dpdklab
This is a public inbox, see mirroring instructions
for how to clone and mirror all data and code used for this inbox;
as well as URLs for NNTP newsgroup(s).