* [dpdk-test-report] |SUCCESS| pw65448 [PATCH] [v3] app/testpmd: add portlist option to the testpmd
@ 2020-01-31 18:37 dpdklab
0 siblings, 0 replies; 2+ messages in thread
From: dpdklab @ 2020-01-31 18:37 UTC (permalink / raw)
To: Test Report; +Cc: dpdk-test-reports
[-- Attachment #1: Type: text/plain, Size: 2545 bytes --]
Test-Label: iol-testing
Test-Status: SUCCESS
http://dpdk.org/patch/65448
_Testing PASS_
Submitter: Hariprasad Govindharajan <hariprasad.govindharajan@intel.com>
Date: Friday, January 31 2020 17:41:29
DPDK git baseline: Repo:dpdk
Branch: master
CommitID:c465e6b94be343303303f26b95f3c2ae4969063e
65448 --> testing pass
Test environment and result as below:
+------------------+-------------------+--------------+------------------+----------------+--------------------+
| Environment | dpdk_compile_spdk | dpdk_compile | dpdk_compile_ovs | dpdk_unit_test | dpdk_meson_compile |
+==================+===================+==============+==================+================+====================+
| FreeBSD 11.2 | PASS | PASS | SKIPPED | SKIPPED | PASS |
+------------------+-------------------+--------------+------------------+----------------+--------------------+
| Ubuntu 18.04 | PASS | PASS | PASS | PASS | PASS |
+------------------+-------------------+--------------+------------------+----------------+--------------------+
| Fedora 31 | SKIPPED | PASS | PASS | SKIPPED | PASS |
+------------------+-------------------+--------------+------------------+----------------+--------------------+
| openSUSE Leap 15 | SKIPPED | PASS | PASS | SKIPPED | PASS |
+------------------+-------------------+--------------+------------------+----------------+--------------------+
| CentOS 8 | SKIPPED | PASS | PASS | SKIPPED | PASS |
+------------------+-------------------+--------------+------------------+----------------+--------------------+
| Arch Linux | SKIPPED | PASS | PASS | SKIPPED | PASS |
+------------------+-------------------+--------------+------------------+----------------+--------------------+
FreeBSD 11.2
Kernel: 11.2
GCC: 8.3
Ubuntu 18.04
Kernel: 4.15.0-generic
GCC: 7.4
Fedora 31
Kernel: 5.3.16
GCC: 9.2.1
openSUSE Leap 15
Kernel: 4.12.14
GCC: 7.4.1
CentOS 8
Kernel: 4.18.0.el8_0
GCC: 8.3.1
Arch Linux
Kernel: latest
GCC: latest
To view detailed results, visit:
https://lab.dpdk.org/results/dashboard/patchsets/9453/
UNH-IOL DPDK Community Lab
To manage your email subscriptions, visit:
https://lab.dpdk.org/results/dashboard/preferences/subscriptions/
^ permalink raw reply [flat|nested] 2+ messages in thread
[parent not found: <1580492489-28598-1-git-send-email-hariprasad.govindharajan@intel.com>]
end of thread, other threads:[~2020-01-31 18:37 UTC | newest]
Thread overview: 2+ messages (download: mbox.gz / follow: Atom feed)
-- links below jump to the message on this page --
2020-01-31 18:37 [dpdk-test-report] |SUCCESS| pw65448 [PATCH] [v3] app/testpmd: add portlist option to the testpmd dpdklab
[not found] <1580492489-28598-1-git-send-email-hariprasad.govindharajan@intel.com>
2020-01-31 17:41 ` [dpdk-test-report] |SUCCESS| pw65448 [PATCH v3] " checkpatch
This is a public inbox, see mirroring instructions
for how to clone and mirror all data and code used for this inbox;
as well as URLs for NNTP newsgroup(s).