* [dpdk-test-report] |SUCCESS| pw65752 [PATCH] [v2] net/i40e: fix unchecked return value
@ 2020-02-12 14:42 dpdklab
0 siblings, 0 replies; 3+ messages in thread
From: dpdklab @ 2020-02-12 14:42 UTC (permalink / raw)
To: Test Report; +Cc: dpdk-test-reports
[-- Attachment #1: Type: text/plain, Size: 1703 bytes --]
Test-Label: iol-testing
Test-Status: SUCCESS
http://dpdk.org/patch/65752
_Testing PASS_
Submitter: Beilei Xing <beilei.xing@intel.com>
Date: Wednesday, February 12 2020 12:36:01
DPDK git baseline: Repo:dpdk
Branch: master
CommitID:43e34a229d3e575eb5ed075091afef0e5bf60a77
65752 --> testing pass
Test environment and result as below:
+---------------------+--------------------+
| Environment | dpdk_meson_compile |
+=====================+====================+
| Windows Server 2019 | PASS |
+---------------------+--------------------+
| openSUSE Leap 15 | PASS |
+---------------------+--------------------+
| CentOS 8 | PASS |
+---------------------+--------------------+
| Fedora 31 | PASS |
+---------------------+--------------------+
| Ubuntu 18.04 | PASS |
+---------------------+--------------------+
| FreeBSD 11.2 | PASS |
+---------------------+--------------------+
| Arch Linux | PASS |
+---------------------+--------------------+
Windows Server 2019
Kernel: 10.0
Compiler: clang 9.0
openSUSE Leap 15
Kernel: 4.12.14
Compiler: gcc 7.4.1
CentOS 8
Kernel: 4.18.0.el8_0
Compiler: gcc 8.3.1
Fedora 31
Kernel: 5.3.16
Compiler: gcc 9.2.1
Ubuntu 18.04
Kernel: 4.15.0-generic
Compiler: gcc 7.4
FreeBSD 11.2
Kernel: 11.2
Compiler: gcc 8.3
Arch Linux
Kernel: latest
Compiler: gcc latest
To view detailed results, visit:
https://lab.dpdk.org/results/dashboard/patchsets/9574/
UNH-IOL DPDK Community Lab
To manage your email subscriptions, visit:
https://lab.dpdk.org/results/dashboard/preferences/subscriptions/
^ permalink raw reply [flat|nested] 3+ messages in thread
* [dpdk-test-report] |SUCCESS| pw65752 [PATCH] [v2] net/i40e: fix unchecked return value
@ 2020-02-12 6:54 dpdklab
0 siblings, 0 replies; 3+ messages in thread
From: dpdklab @ 2020-02-12 6:54 UTC (permalink / raw)
To: Ali Alnubani, Test Report; +Cc: dpdk-test-reports
[-- Attachment #1: Type: text/plain, Size: 3965 bytes --]
Test-Label: iol-mellanox-Performance
Test-Status: SUCCESS
http://dpdk.org/patch/65752
_Performance Testing PASS_
Submitter: Beilei Xing <beilei.xing@intel.com>
Date: Wednesday, February 12 2020 12:36:01
DPDK git baseline: Repo:dpdk
Branch: master
CommitID:43e34a229d3e575eb5ed075091afef0e5bf60a77
65752 --> performance testing pass
Test environment and result as below:
Ubuntu 18.04
Kernel: 4.15.0-generic
Compiler: gcc 7.4
NIC: Mellanox ConnectX-4 Lx 40000 Mbps
Target: x86_64-native-linuxapp-gcc
Fail/Total: 0/6
Detail performance results:
+------------+---------+-------------------------------------+
| frame_size | txd/rxd | throughput difference from expected |
+============+=========+=====================================+
| 64 | 256 | 0.331 |
+------------+---------+-------------------------------------+
| 128 | 256 | 0.241 |
+------------+---------+-------------------------------------+
| 256 | 256 | -0.063 |
+------------+---------+-------------------------------------+
| 512 | 256 | 0.009 |
+------------+---------+-------------------------------------+
| 1024 | 256 | -0.001 |
+------------+---------+-------------------------------------+
| 1518 | 256 | 0.003 |
+------------+---------+-------------------------------------+
Ubuntu 18.04
Kernel: 4.15.0-generic
Compiler: gcc 7.4
NIC: Mellanox ConnectX-5 100000 Mbps
Target: x86_64-native-linuxapp-gcc
Fail/Total: 0/6
Detail performance results:
+------------+---------+-------------------------------------+
| frame_size | txd/rxd | throughput difference from expected |
+============+=========+=====================================+
| 64 | 256 | 0.069 |
+------------+---------+-------------------------------------+
| 128 | 256 | -0.086 |
+------------+---------+-------------------------------------+
| 256 | 256 | -0.171 |
+------------+---------+-------------------------------------+
| 512 | 256 | 0.029 |
+------------+---------+-------------------------------------+
| 1024 | 256 | -0.100 |
+------------+---------+-------------------------------------+
| 1518 | 256 | -0.002 |
+------------+---------+-------------------------------------+
Ubuntu 18.04
Kernel: 4.15.0-generic
Compiler: gcc 7.4
NIC: Mellanox ConnectX-4 Lx 25000 Mbps
Target: x86_64-native-linuxapp-gcc
Fail/Total: 0/6
Detail performance results:
+------------+---------+-------------------------------------+
| frame_size | txd/rxd | throughput difference from expected |
+============+=========+=====================================+
| 64 | 256 | 0.078 |
+------------+---------+-------------------------------------+
| 128 | 256 | 0.182 |
+------------+---------+-------------------------------------+
| 256 | 256 | -0.206 |
+------------+---------+-------------------------------------+
| 512 | 256 | -0.026 |
+------------+---------+-------------------------------------+
| 1024 | 256 | -0.003 |
+------------+---------+-------------------------------------+
| 1518 | 256 | -0.009 |
+------------+---------+-------------------------------------+
To view detailed results, visit:
https://lab.dpdk.org/results/dashboard/patchsets/9574/
UNH-IOL DPDK Community Lab
To manage your email subscriptions, visit:
https://lab.dpdk.org/results/dashboard/preferences/subscriptions/
^ permalink raw reply [flat|nested] 3+ messages in thread
[parent not found: <1581510961-96878-1-git-send-email-beilei.xing@intel.com>]
end of thread, other threads:[~2020-02-12 14:42 UTC | newest]
Thread overview: 3+ messages (download: mbox.gz / follow: Atom feed)
-- links below jump to the message on this page --
2020-02-12 14:42 [dpdk-test-report] |SUCCESS| pw65752 [PATCH] [v2] net/i40e: fix unchecked return value dpdklab
-- strict thread matches above, loose matches on Subject: below --
2020-02-12 6:54 dpdklab
[not found] <1581510961-96878-1-git-send-email-beilei.xing@intel.com>
2020-02-12 3:44 ` [dpdk-test-report] |SUCCESS| pw65752 [PATCH v2] " checkpatch
This is a public inbox, see mirroring instructions
for how to clone and mirror all data and code used for this inbox;
as well as URLs for NNTP newsgroup(s).