automatic DPDK test reports
 help / color / Atom feed
* [dpdk-test-report] |SUCCESS| pw65719 [PATCH] [v2] examples/vhost_blk: fix the TOCTOU
@ 2020-02-12 14:50 dpdklab
  0 siblings, 0 replies; 3+ messages in thread
From: dpdklab @ 2020-02-12 14:50 UTC (permalink / raw)
  To: Test Report; +Cc: dpdk-test-reports

[-- Attachment #1: Type: text/plain, Size: 1691 bytes --]

Test-Label: iol-testing
Test-Status: SUCCESS
http://dpdk.org/patch/65719

_Testing PASS_

Submitter: Jin Yu <jin.yu@intel.com>
Date: Tuesday, February 11 2020 09:33:36 
DPDK git baseline: Repo:dpdk
  Branch: master
  CommitID:2636c2a23878b4f9906d90744664d8740bc9ec66

65719 --> testing pass

Test environment and result as below:

+---------------------+--------------------+
|     Environment     | dpdk_meson_compile |
+=====================+====================+
| Windows Server 2019 | PASS               |
+---------------------+--------------------+
| Ubuntu 18.04        | PASS               |
+---------------------+--------------------+
| openSUSE Leap 15    | PASS               |
+---------------------+--------------------+
| Fedora 31           | PASS               |
+---------------------+--------------------+
| Arch Linux          | PASS               |
+---------------------+--------------------+
| CentOS 8            | PASS               |
+---------------------+--------------------+
| FreeBSD 11.2        | PASS               |
+---------------------+--------------------+

Windows Server 2019
	Kernel: 10.0
	Compiler: clang 9.0

Ubuntu 18.04
	Kernel: 4.15.0-generic
	Compiler: gcc 7.4

openSUSE Leap 15
	Kernel: 4.12.14
	Compiler: gcc 7.4.1

Fedora 31
	Kernel: 5.3.16
	Compiler: gcc 9.2.1

Arch Linux
	Kernel: latest
	Compiler: gcc latest

CentOS 8
	Kernel: 4.18.0.el8_0
	Compiler: gcc 8.3.1

FreeBSD 11.2
	Kernel: 11.2
	Compiler: gcc 8.3

To view detailed results, visit:
https://lab.dpdk.org/results/dashboard/patchsets/9557/

UNH-IOL DPDK Community Lab

To manage your email subscriptions, visit: 
https://lab.dpdk.org/results/dashboard/preferences/subscriptions/

^ permalink raw reply	[flat|nested] 3+ messages in thread

* [dpdk-test-report] |SUCCESS| pw65719 [PATCH] [v2] examples/vhost_blk: fix the TOCTOU
@ 2020-02-11  3:11 dpdklab
  0 siblings, 0 replies; 3+ messages in thread
From: dpdklab @ 2020-02-11  3:11 UTC (permalink / raw)
  To: Ali Alnubani, Test Report; +Cc: dpdk-test-reports

[-- Attachment #1: Type: text/plain, Size: 3953 bytes --]

Test-Label: iol-mellanox-Performance
Test-Status: SUCCESS
http://dpdk.org/patch/65719

_Performance Testing PASS_

Submitter: Jin Yu <jin.yu@intel.com>
Date: Tuesday, February 11 2020 09:33:36 
DPDK git baseline: Repo:dpdk
  Branch: master
  CommitID:2636c2a23878b4f9906d90744664d8740bc9ec66

65719 --> performance testing pass

Test environment and result as below:

Ubuntu 18.04
Kernel: 4.15.0-generic
Compiler: gcc 7.4
NIC: Mellanox ConnectX-5 100000 Mbps
Target: x86_64-native-linuxapp-gcc
Fail/Total: 0/6

Detail performance results: 
+------------+---------+-------------------------------------+
| frame_size | txd/rxd | throughput difference from expected |
+============+=========+=====================================+
| 64         | 256     | -0.146                              |
+------------+---------+-------------------------------------+
| 128        | 256     | 0.081                               |
+------------+---------+-------------------------------------+
| 256        | 256     | 0.033                               |
+------------+---------+-------------------------------------+
| 512        | 256     | 0.277                               |
+------------+---------+-------------------------------------+
| 1024       | 256     | -0.041                              |
+------------+---------+-------------------------------------+
| 1518       | 256     | -0.021                              |
+------------+---------+-------------------------------------+

Ubuntu 18.04
Kernel: 4.15.0-generic
Compiler: gcc 7.4
NIC: Mellanox ConnectX-4 Lx 25000 Mbps
Target: x86_64-native-linuxapp-gcc
Fail/Total: 0/6

Detail performance results: 
+------------+---------+-------------------------------------+
| frame_size | txd/rxd | throughput difference from expected |
+============+=========+=====================================+
| 64         | 256     | 0.741                               |
+------------+---------+-------------------------------------+
| 128        | 256     | -0.175                              |
+------------+---------+-------------------------------------+
| 256        | 256     | -0.601                              |
+------------+---------+-------------------------------------+
| 512        | 256     | 0.023                               |
+------------+---------+-------------------------------------+
| 1024       | 256     | 0.002                               |
+------------+---------+-------------------------------------+
| 1518       | 256     | 0.002                               |
+------------+---------+-------------------------------------+

Ubuntu 18.04
Kernel: 4.15.0-generic
Compiler: gcc 7.4
NIC: Mellanox ConnectX-4 Lx 40000 Mbps
Target: x86_64-native-linuxapp-gcc
Fail/Total: 0/6

Detail performance results: 
+------------+---------+-------------------------------------+
| frame_size | txd/rxd | throughput difference from expected |
+============+=========+=====================================+
| 64         | 256     | 0.675                               |
+------------+---------+-------------------------------------+
| 128        | 256     | 0.089                               |
+------------+---------+-------------------------------------+
| 256        | 256     | 0.005                               |
+------------+---------+-------------------------------------+
| 512        | 256     | 0.026                               |
+------------+---------+-------------------------------------+
| 1024       | 256     | -0.006                              |
+------------+---------+-------------------------------------+
| 1518       | 256     | -0.007                              |
+------------+---------+-------------------------------------+

To view detailed results, visit:
https://lab.dpdk.org/results/dashboard/patchsets/9557/

UNH-IOL DPDK Community Lab

To manage your email subscriptions, visit: 
https://lab.dpdk.org/results/dashboard/preferences/subscriptions/

^ permalink raw reply	[flat|nested] 3+ messages in thread

* [dpdk-test-report] |SUCCESS| pw65719 [PATCH v2] examples/vhost_blk: fix the TOCTOU
       [not found] <20200211093336.32792-1-jin.yu@intel.com>
@ 2020-02-11  2:01 ` " checkpatch
  0 siblings, 0 replies; 3+ messages in thread
From: checkpatch @ 2020-02-11  2:01 UTC (permalink / raw)
  To: test-report

Test-Label: checkpatch
Test-Status: SUCCESS
http://dpdk.org/patch/65719

_coding style OK_



^ permalink raw reply	[flat|nested] 3+ messages in thread

end of thread, back to index

Thread overview: 3+ messages (download: mbox.gz / follow: Atom feed)
-- links below jump to the message on this page --
2020-02-12 14:50 [dpdk-test-report] |SUCCESS| pw65719 [PATCH] [v2] examples/vhost_blk: fix the TOCTOU dpdklab
  -- strict thread matches above, loose matches on Subject: below --
2020-02-11  3:11 dpdklab
     [not found] <20200211093336.32792-1-jin.yu@intel.com>
2020-02-11  2:01 ` [dpdk-test-report] |SUCCESS| pw65719 [PATCH v2] " checkpatch

automatic DPDK test reports

Archives are clonable:
	git clone --mirror http://inbox.dpdk.org/test-report/0 test-report/git/0.git

	# If you have public-inbox 1.1+ installed, you may
	# initialize and index your mirror using the following commands:
	public-inbox-init -V2 test-report test-report/ http://inbox.dpdk.org/test-report \
		test-report@dpdk.org
	public-inbox-index test-report


Newsgroup available over NNTP:
	nntp://inbox.dpdk.org/inbox.dpdk.test-report


AGPL code for this site: git clone https://public-inbox.org/ public-inbox