automatic DPDK test reports
 help / color / Atom feed
* [dpdk-test-report] |SUCCESS| pw65765 [PATCH] kni: fix build with Linux 5.6
       [not found] <20200212171424.695556-1-ferruh.yigit@intel.com>
@ 2020-02-12 17:16 ` checkpatch
  2020-02-13  5:03 ` [dpdk-test-report] |SUCCESS| pw65765 " 0-day Robot
  1 sibling, 0 replies; 4+ messages in thread
From: checkpatch @ 2020-02-12 17:16 UTC (permalink / raw)
  To: test-report

Test-Label: checkpatch
Test-Status: SUCCESS
http://dpdk.org/patch/65765

_coding style OK_



^ permalink raw reply	[flat|nested] 4+ messages in thread

* [dpdk-test-report] |SUCCESS| pw65765 kni: fix build with Linux 5.6
       [not found] <20200212171424.695556-1-ferruh.yigit@intel.com>
  2020-02-12 17:16 ` [dpdk-test-report] |SUCCESS| pw65765 [PATCH] kni: fix build with Linux 5.6 checkpatch
@ 2020-02-13  5:03 ` " 0-day Robot
  1 sibling, 0 replies; 4+ messages in thread
From: 0-day Robot @ 2020-02-13  5:03 UTC (permalink / raw)
  To: test-report; +Cc: robot

From: robot@bytheb.org

Test-Label: travis-robot
Test-Status: SUCCESS
http://dpdk.org/patch/65765

_Travis build: passed_
Build URL: https://travis-ci.com/ovsrobot/dpdk/builds/148626962

^ permalink raw reply	[flat|nested] 4+ messages in thread

* [dpdk-test-report] |SUCCESS| pw65765 [PATCH] kni: fix build with Linux 5.6
@ 2020-02-12 20:43 dpdklab
  0 siblings, 0 replies; 4+ messages in thread
From: dpdklab @ 2020-02-12 20:43 UTC (permalink / raw)
  To: Ali Alnubani, Test Report; +Cc: dpdk-test-reports

[-- Attachment #1: Type: text/plain, Size: 3967 bytes --]

Test-Label: iol-mellanox-Performance
Test-Status: SUCCESS
http://dpdk.org/patch/65765

_Performance Testing PASS_

Submitter: Ferruh Yigit <ferruh.yigit@intel.com>
Date: Wednesday, February 12 2020 17:14:24 
DPDK git baseline: Repo:dpdk
  Branch: master
  CommitID:43e34a229d3e575eb5ed075091afef0e5bf60a77

65765 --> performance testing pass

Test environment and result as below:

Ubuntu 18.04
Kernel: 4.15.0-generic
Compiler: gcc 7.4
NIC: Mellanox ConnectX-4 Lx 25000 Mbps
Target: x86_64-native-linuxapp-gcc
Fail/Total: 0/6

Detail performance results: 
+------------+---------+-------------------------------------+
| frame_size | txd/rxd | throughput difference from expected |
+============+=========+=====================================+
| 64         | 256     | -0.072                              |
+------------+---------+-------------------------------------+
| 128        | 256     | 0.080                               |
+------------+---------+-------------------------------------+
| 256        | 256     | -0.271                              |
+------------+---------+-------------------------------------+
| 512        | 256     | 0.011                               |
+------------+---------+-------------------------------------+
| 1024       | 256     | -0.004                              |
+------------+---------+-------------------------------------+
| 1518       | 256     | -0.008                              |
+------------+---------+-------------------------------------+

Ubuntu 18.04
Kernel: 4.15.0-generic
Compiler: gcc 7.4
NIC: Mellanox ConnectX-4 Lx 40000 Mbps
Target: x86_64-native-linuxapp-gcc
Fail/Total: 0/6

Detail performance results: 
+------------+---------+-------------------------------------+
| frame_size | txd/rxd | throughput difference from expected |
+============+=========+=====================================+
| 64         | 256     | 0.330                               |
+------------+---------+-------------------------------------+
| 128        | 256     | -0.086                              |
+------------+---------+-------------------------------------+
| 256        | 256     | -0.032                              |
+------------+---------+-------------------------------------+
| 512        | 256     | -0.013                              |
+------------+---------+-------------------------------------+
| 1024       | 256     | 0.008                               |
+------------+---------+-------------------------------------+
| 1518       | 256     | 0                                   |
+------------+---------+-------------------------------------+

Ubuntu 18.04
Kernel: 4.15.0-generic
Compiler: gcc 7.4
NIC: Mellanox ConnectX-5 100000 Mbps
Target: x86_64-native-linuxapp-gcc
Fail/Total: 0/6

Detail performance results: 
+------------+---------+-------------------------------------+
| frame_size | txd/rxd | throughput difference from expected |
+============+=========+=====================================+
| 64         | 256     | -0.018                              |
+------------+---------+-------------------------------------+
| 128        | 256     | -0.020                              |
+------------+---------+-------------------------------------+
| 256        | 256     | -0.145                              |
+------------+---------+-------------------------------------+
| 512        | 256     | -0.055                              |
+------------+---------+-------------------------------------+
| 1024       | 256     | -0.031                              |
+------------+---------+-------------------------------------+
| 1518       | 256     | -0.030                              |
+------------+---------+-------------------------------------+

To view detailed results, visit:
https://lab.dpdk.org/results/dashboard/patchsets/9583/

UNH-IOL DPDK Community Lab

To manage your email subscriptions, visit: 
https://lab.dpdk.org/results/dashboard/preferences/subscriptions/

^ permalink raw reply	[flat|nested] 4+ messages in thread

* [dpdk-test-report] |SUCCESS| pw65765 [PATCH] kni: fix build with Linux 5.6
@ 2020-02-12 20:11 " dpdklab
  0 siblings, 0 replies; 4+ messages in thread
From: dpdklab @ 2020-02-12 20:11 UTC (permalink / raw)
  To: Test Report; +Cc: dpdk-test-reports

[-- Attachment #1: Type: text/plain, Size: 2912 bytes --]

Test-Label: iol-testing
Test-Status: SUCCESS
http://dpdk.org/patch/65765

_Testing PASS_

Submitter: Ferruh Yigit <ferruh.yigit@intel.com>
Date: Wednesday, February 12 2020 17:14:24 
DPDK git baseline: Repo:dpdk
  Branch: master
  CommitID:43e34a229d3e575eb5ed075091afef0e5bf60a77

65765 --> testing pass

Test environment and result as below:

+---------------------+--------------------+-------------------+------------------+--------------+----------------+
|     Environment     | dpdk_meson_compile | dpdk_compile_spdk | dpdk_compile_ovs | dpdk_compile | dpdk_unit_test |
+=====================+====================+===================+==================+==============+================+
| Windows Server 2019 | PASS               | SKIPPED           | SKIPPED          | SKIPPED      | SKIPPED        |
+---------------------+--------------------+-------------------+------------------+--------------+----------------+
| openSUSE Leap 15    | PASS               | SKIPPED           | PASS             | PASS         | SKIPPED        |
+---------------------+--------------------+-------------------+------------------+--------------+----------------+
| Fedora 31           | PASS               | PASS              | PASS             | PASS         | SKIPPED        |
+---------------------+--------------------+-------------------+------------------+--------------+----------------+
| Ubuntu 18.04        | PASS               | PASS              | PASS             | PASS         | PASS           |
+---------------------+--------------------+-------------------+------------------+--------------+----------------+
| CentOS 8            | PASS               | PASS              | PASS             | PASS         | SKIPPED        |
+---------------------+--------------------+-------------------+------------------+--------------+----------------+
| FreeBSD 11.2        | PASS               | PASS              | SKIPPED          | PASS         | SKIPPED        |
+---------------------+--------------------+-------------------+------------------+--------------+----------------+
| Arch Linux          | PASS               | SKIPPED           | PASS             | PASS         | SKIPPED        |
+---------------------+--------------------+-------------------+------------------+--------------+----------------+

Windows Server 2019
	Kernel: 10.0
	Compiler: clang 9.0

openSUSE Leap 15
	Kernel: 4.12.14
	Compiler: gcc 7.4.1

Fedora 31
	Kernel: 5.3.16
	Compiler: gcc 9.2.1

Ubuntu 18.04
	Kernel: 4.15.0-generic
	Compiler: gcc 7.4

CentOS 8
	Kernel: 4.18.0.el8_0
	Compiler: gcc 8.3.1

FreeBSD 11.2
	Kernel: 11.2
	Compiler: gcc 8.3

Arch Linux
	Kernel: latest
	Compiler: gcc latest

To view detailed results, visit:
https://lab.dpdk.org/results/dashboard/patchsets/9583/

UNH-IOL DPDK Community Lab

To manage your email subscriptions, visit: 
https://lab.dpdk.org/results/dashboard/preferences/subscriptions/

^ permalink raw reply	[flat|nested] 4+ messages in thread

end of thread, back to index

Thread overview: 4+ messages (download: mbox.gz / follow: Atom feed)
-- links below jump to the message on this page --
     [not found] <20200212171424.695556-1-ferruh.yigit@intel.com>
2020-02-12 17:16 ` [dpdk-test-report] |SUCCESS| pw65765 [PATCH] kni: fix build with Linux 5.6 checkpatch
2020-02-13  5:03 ` [dpdk-test-report] |SUCCESS| pw65765 " 0-day Robot
2020-02-12 20:11 [dpdk-test-report] |SUCCESS| pw65765 [PATCH] " dpdklab
2020-02-12 20:43 dpdklab

automatic DPDK test reports

Archives are clonable:
	git clone --mirror http://inbox.dpdk.org/test-report/0 test-report/git/0.git

	# If you have public-inbox 1.1+ installed, you may
	# initialize and index your mirror using the following commands:
	public-inbox-init -V2 test-report test-report/ http://inbox.dpdk.org/test-report \
		test-report@dpdk.org
	public-inbox-index test-report


Newsgroup available over NNTP:
	nntp://inbox.dpdk.org/inbox.dpdk.test-report


AGPL code for this site: git clone https://public-inbox.org/ public-inbox