automatic DPDK test reports
 help / color / Atom feed
* [dpdk-test-report] |SUCCESS| pw65795 [PATCH] [20.05] ethdev: clear struct on releasing port
@ 2020-02-13 15:27 dpdklab
  0 siblings, 0 replies; 3+ messages in thread
From: dpdklab @ 2020-02-13 15:27 UTC (permalink / raw)
  To: Ali Alnubani, Test Report; +Cc: dpdk-test-reports

[-- Attachment #1: Type: text/plain, Size: 3966 bytes --]

Test-Label: iol-mellanox-Performance
Test-Status: SUCCESS
http://dpdk.org/patch/65795

_Performance Testing PASS_

Submitter: Thomas Monjalon <thomas@monjalon.net>
Date: Thursday, February 13 2020 14:33:12 
DPDK git baseline: Repo:dpdk
  Branch: master
  CommitID:1c806ae5c3ac97b10dc6238dd7fa8ae3e195061e

65795 --> performance testing pass

Test environment and result as below:

Ubuntu 18.04
Kernel: 4.15.0-generic
Compiler: gcc 7.4
NIC: Mellanox ConnectX-5 100000 Mbps
Target: x86_64-native-linuxapp-gcc
Fail/Total: 0/6

Detail performance results: 
+------------+---------+-------------------------------------+
| frame_size | txd/rxd | throughput difference from expected |
+============+=========+=====================================+
| 64         | 256     | 0.161                               |
+------------+---------+-------------------------------------+
| 128        | 256     | 0.170                               |
+------------+---------+-------------------------------------+
| 256        | 256     | -0.059                              |
+------------+---------+-------------------------------------+
| 512        | 256     | 0.117                               |
+------------+---------+-------------------------------------+
| 1024       | 256     | 0.006                               |
+------------+---------+-------------------------------------+
| 1518       | 256     | 0.004                               |
+------------+---------+-------------------------------------+

Ubuntu 18.04
Kernel: 4.15.0-generic
Compiler: gcc 7.4
NIC: Mellanox ConnectX-4 Lx 25000 Mbps
Target: x86_64-native-linuxapp-gcc
Fail/Total: 0/6

Detail performance results: 
+------------+---------+-------------------------------------+
| frame_size | txd/rxd | throughput difference from expected |
+============+=========+=====================================+
| 64         | 256     | 0.275                               |
+------------+---------+-------------------------------------+
| 128        | 256     | -0.023                              |
+------------+---------+-------------------------------------+
| 256        | 256     | 0.095                               |
+------------+---------+-------------------------------------+
| 512        | 256     | 0.007                               |
+------------+---------+-------------------------------------+
| 1024       | 256     | 0.001                               |
+------------+---------+-------------------------------------+
| 1518       | 256     | -0.005                              |
+------------+---------+-------------------------------------+

Ubuntu 18.04
Kernel: 4.15.0-generic
Compiler: gcc 7.4
NIC: Mellanox ConnectX-4 Lx 40000 Mbps
Target: x86_64-native-linuxapp-gcc
Fail/Total: 0/6

Detail performance results: 
+------------+---------+-------------------------------------+
| frame_size | txd/rxd | throughput difference from expected |
+============+=========+=====================================+
| 64         | 256     | 0.029                               |
+------------+---------+-------------------------------------+
| 128        | 256     | -0.148                              |
+------------+---------+-------------------------------------+
| 256        | 256     | -0.045                              |
+------------+---------+-------------------------------------+
| 512        | 256     | -0.007                              |
+------------+---------+-------------------------------------+
| 1024       | 256     | -0.027                              |
+------------+---------+-------------------------------------+
| 1518       | 256     | 0                                   |
+------------+---------+-------------------------------------+

To view detailed results, visit:
https://lab.dpdk.org/results/dashboard/patchsets/9594/

UNH-IOL DPDK Community Lab

To manage your email subscriptions, visit: 
https://lab.dpdk.org/results/dashboard/preferences/subscriptions/

^ permalink raw reply	[flat|nested] 3+ messages in thread

* [dpdk-test-report] |SUCCESS| pw65795 [PATCH] [20.05] ethdev: clear struct on releasing port
@ 2020-02-13 15:19 dpdklab
  0 siblings, 0 replies; 3+ messages in thread
From: dpdklab @ 2020-02-13 15:19 UTC (permalink / raw)
  To: Test Report; +Cc: dpdk-test-reports

[-- Attachment #1: Type: text/plain, Size: 2911 bytes --]

Test-Label: iol-testing
Test-Status: SUCCESS
http://dpdk.org/patch/65795

_Testing PASS_

Submitter: Thomas Monjalon <thomas@monjalon.net>
Date: Thursday, February 13 2020 14:33:12 
DPDK git baseline: Repo:dpdk
  Branch: master
  CommitID:1c806ae5c3ac97b10dc6238dd7fa8ae3e195061e

65795 --> testing pass

Test environment and result as below:

+---------------------+--------------------+-------------------+--------------+------------------+----------------+
|     Environment     | dpdk_meson_compile | dpdk_compile_spdk | dpdk_compile | dpdk_compile_ovs | dpdk_unit_test |
+=====================+====================+===================+==============+==================+================+
| Windows Server 2019 | PASS               | SKIPPED           | SKIPPED      | SKIPPED          | SKIPPED        |
+---------------------+--------------------+-------------------+--------------+------------------+----------------+
| openSUSE Leap 15    | PASS               | SKIPPED           | PASS         | PASS             | SKIPPED        |
+---------------------+--------------------+-------------------+--------------+------------------+----------------+
| Fedora 31           | PASS               | PASS              | PASS         | PASS             | SKIPPED        |
+---------------------+--------------------+-------------------+--------------+------------------+----------------+
| Ubuntu 18.04        | PASS               | PASS              | PASS         | PASS             | PASS           |
+---------------------+--------------------+-------------------+--------------+------------------+----------------+
| CentOS 8            | PASS               | PASS              | PASS         | PASS             | SKIPPED        |
+---------------------+--------------------+-------------------+--------------+------------------+----------------+
| FreeBSD 11.2        | PASS               | PASS              | PASS         | SKIPPED          | SKIPPED        |
+---------------------+--------------------+-------------------+--------------+------------------+----------------+
| Arch Linux          | PASS               | SKIPPED           | PASS         | PASS             | SKIPPED        |
+---------------------+--------------------+-------------------+--------------+------------------+----------------+

Windows Server 2019
	Kernel: 10.0
	Compiler: clang 9.0

openSUSE Leap 15
	Kernel: 4.12.14
	Compiler: gcc 7.4.1

Fedora 31
	Kernel: 5.3.16
	Compiler: gcc 9.2.1

Ubuntu 18.04
	Kernel: 4.15.0-generic
	Compiler: gcc 7.4

CentOS 8
	Kernel: 4.18.0.el8_0
	Compiler: gcc 8.3.1

FreeBSD 11.2
	Kernel: 11.2
	Compiler: gcc 8.3

Arch Linux
	Kernel: latest
	Compiler: gcc latest

To view detailed results, visit:
https://lab.dpdk.org/results/dashboard/patchsets/9594/

UNH-IOL DPDK Community Lab

To manage your email subscriptions, visit: 
https://lab.dpdk.org/results/dashboard/preferences/subscriptions/

^ permalink raw reply	[flat|nested] 3+ messages in thread

* [dpdk-test-report] |SUCCESS| pw65795 [PATCH 20.05] ethdev: clear struct on releasing port
       [not found] <20200213143312.1021487-1-thomas@monjalon.net>
@ 2020-02-13 14:33 ` " checkpatch
  0 siblings, 0 replies; 3+ messages in thread
From: checkpatch @ 2020-02-13 14:33 UTC (permalink / raw)
  To: test-report

Test-Label: checkpatch
Test-Status: SUCCESS
http://dpdk.org/patch/65795

_coding style OK_



^ permalink raw reply	[flat|nested] 3+ messages in thread

end of thread, back to index

Thread overview: 3+ messages (download: mbox.gz / follow: Atom feed)
-- links below jump to the message on this page --
2020-02-13 15:27 [dpdk-test-report] |SUCCESS| pw65795 [PATCH] [20.05] ethdev: clear struct on releasing port dpdklab
  -- strict thread matches above, loose matches on Subject: below --
2020-02-13 15:19 dpdklab
     [not found] <20200213143312.1021487-1-thomas@monjalon.net>
2020-02-13 14:33 ` [dpdk-test-report] |SUCCESS| pw65795 [PATCH 20.05] " checkpatch

automatic DPDK test reports

Archives are clonable:
	git clone --mirror http://inbox.dpdk.org/test-report/0 test-report/git/0.git

	# If you have public-inbox 1.1+ installed, you may
	# initialize and index your mirror using the following commands:
	public-inbox-init -V2 test-report test-report/ http://inbox.dpdk.org/test-report \
		test-report@dpdk.org
	public-inbox-index test-report


Newsgroup available over NNTP:
	nntp://inbox.dpdk.org/inbox.dpdk.test-report


AGPL code for this site: git clone https://public-inbox.org/ public-inbox