automatic DPDK test reports
 help / color / Atom feed
* [dpdk-test-report] |SUCCESS| pw65815 [PATCH v2] lib: fix unnecessary double negation
       [not found] <20200214161725.36104-1-ciara.power@intel.com>
@ 2020-02-14 16:29 ` checkpatch
  2020-02-15  1:03 ` [dpdk-test-report] |SUCCESS| pw65815 " 0-day Robot
  1 sibling, 0 replies; 4+ messages in thread
From: checkpatch @ 2020-02-14 16:29 UTC (permalink / raw)
  To: test-report

Test-Label: checkpatch
Test-Status: SUCCESS
http://dpdk.org/patch/65815

_coding style OK_



^ permalink raw reply	[flat|nested] 4+ messages in thread

* [dpdk-test-report] |SUCCESS| pw65815 lib: fix unnecessary double negation
       [not found] <20200214161725.36104-1-ciara.power@intel.com>
  2020-02-14 16:29 ` [dpdk-test-report] |SUCCESS| pw65815 [PATCH v2] lib: fix unnecessary double negation checkpatch
@ 2020-02-15  1:03 ` " 0-day Robot
  1 sibling, 0 replies; 4+ messages in thread
From: 0-day Robot @ 2020-02-15  1:03 UTC (permalink / raw)
  To: test-report; +Cc: robot

From: robot@bytheb.org

Test-Label: travis-robot
Test-Status: SUCCESS
http://dpdk.org/patch/65815

_Travis build: passed_
Build URL: https://travis-ci.com/ovsrobot/dpdk/builds/149015112

^ permalink raw reply	[flat|nested] 4+ messages in thread

* [dpdk-test-report] |SUCCESS| pw65815 [PATCH] [v2] lib: fix unnecessary double negation
@ 2020-02-14 17:46 dpdklab
  0 siblings, 0 replies; 4+ messages in thread
From: dpdklab @ 2020-02-14 17:46 UTC (permalink / raw)
  To: Ali Alnubani, Test Report; +Cc: dpdk-test-reports

[-- Attachment #1: Type: text/plain, Size: 3962 bytes --]

Test-Label: iol-mellanox-Performance
Test-Status: SUCCESS
http://dpdk.org/patch/65815

_Performance Testing PASS_

Submitter: Ciara Power <ciara.power@intel.com>
Date: Friday, February 14 2020 16:17:25 
DPDK git baseline: Repo:dpdk
  Branch: master
  CommitID:2a115479c6361f9667efaa30ceb0dbdcbd931f48

65815 --> performance testing pass

Test environment and result as below:

Ubuntu 18.04
Kernel: 4.15.0-generic
Compiler: gcc 7.4
NIC: Mellanox ConnectX-5 100000 Mbps
Target: x86_64-native-linuxapp-gcc
Fail/Total: 0/6

Detail performance results: 
+------------+---------+-------------------------------------+
| frame_size | txd/rxd | throughput difference from expected |
+============+=========+=====================================+
| 64         | 256     | 0.202                               |
+------------+---------+-------------------------------------+
| 128        | 256     | 0.007                               |
+------------+---------+-------------------------------------+
| 256        | 256     | 0.035                               |
+------------+---------+-------------------------------------+
| 512        | 256     | -0.065                              |
+------------+---------+-------------------------------------+
| 1024       | 256     | 0.059                               |
+------------+---------+-------------------------------------+
| 1518       | 256     | 0.013                               |
+------------+---------+-------------------------------------+

Ubuntu 18.04
Kernel: 4.15.0-generic
Compiler: gcc 7.4
NIC: Mellanox ConnectX-4 Lx 40000 Mbps
Target: x86_64-native-linuxapp-gcc
Fail/Total: 0/6

Detail performance results: 
+------------+---------+-------------------------------------+
| frame_size | txd/rxd | throughput difference from expected |
+============+=========+=====================================+
| 64         | 256     | -0.193                              |
+------------+---------+-------------------------------------+
| 128        | 256     | -0.095                              |
+------------+---------+-------------------------------------+
| 256        | 256     | -0.039                              |
+------------+---------+-------------------------------------+
| 512        | 256     | 0.011                               |
+------------+---------+-------------------------------------+
| 1024       | 256     | 0.005                               |
+------------+---------+-------------------------------------+
| 1518       | 256     | 0.008                               |
+------------+---------+-------------------------------------+

Ubuntu 18.04
Kernel: 4.15.0-generic
Compiler: gcc 7.4
NIC: Mellanox ConnectX-4 Lx 25000 Mbps
Target: x86_64-native-linuxapp-gcc
Fail/Total: 0/6

Detail performance results: 
+------------+---------+-------------------------------------+
| frame_size | txd/rxd | throughput difference from expected |
+============+=========+=====================================+
| 64         | 256     | -0.038                              |
+------------+---------+-------------------------------------+
| 128        | 256     | -0.038                              |
+------------+---------+-------------------------------------+
| 256        | 256     | -0.213                              |
+------------+---------+-------------------------------------+
| 512        | 256     | 0.035                               |
+------------+---------+-------------------------------------+
| 1024       | 256     | -0.008                              |
+------------+---------+-------------------------------------+
| 1518       | 256     | -0.002                              |
+------------+---------+-------------------------------------+

To view detailed results, visit:
https://lab.dpdk.org/results/dashboard/patchsets/9610/

UNH-IOL DPDK Community Lab

To manage your email subscriptions, visit: 
https://lab.dpdk.org/results/dashboard/preferences/subscriptions/

^ permalink raw reply	[flat|nested] 4+ messages in thread

* [dpdk-test-report] |SUCCESS| pw65815 [PATCH] [v2] lib: fix unnecessary double negation
@ 2020-02-14 17:32 " dpdklab
  0 siblings, 0 replies; 4+ messages in thread
From: dpdklab @ 2020-02-14 17:32 UTC (permalink / raw)
  To: Test Report; +Cc: dpdk-test-reports

[-- Attachment #1: Type: text/plain, Size: 2907 bytes --]

Test-Label: iol-testing
Test-Status: SUCCESS
http://dpdk.org/patch/65815

_Testing PASS_

Submitter: Ciara Power <ciara.power@intel.com>
Date: Friday, February 14 2020 16:17:25 
DPDK git baseline: Repo:dpdk
  Branch: master
  CommitID:2a115479c6361f9667efaa30ceb0dbdcbd931f48

65815 --> testing pass

Test environment and result as below:

+---------------------+--------------------+-------------------+--------------+----------------+------------------+
|     Environment     | dpdk_meson_compile | dpdk_compile_spdk | dpdk_compile | dpdk_unit_test | dpdk_compile_ovs |
+=====================+====================+===================+==============+================+==================+
| Windows Server 2019 | PASS               | SKIPPED           | SKIPPED      | SKIPPED        | SKIPPED          |
+---------------------+--------------------+-------------------+--------------+----------------+------------------+
| openSUSE Leap 15    | PASS               | SKIPPED           | PASS         | SKIPPED        | PASS             |
+---------------------+--------------------+-------------------+--------------+----------------+------------------+
| Fedora 31           | PASS               | PASS              | PASS         | SKIPPED        | PASS             |
+---------------------+--------------------+-------------------+--------------+----------------+------------------+
| Ubuntu 18.04        | PASS               | PASS              | PASS         | PASS           | PASS             |
+---------------------+--------------------+-------------------+--------------+----------------+------------------+
| CentOS 8            | PASS               | PASS              | PASS         | SKIPPED        | PASS             |
+---------------------+--------------------+-------------------+--------------+----------------+------------------+
| FreeBSD 11.2        | PASS               | PASS              | PASS         | SKIPPED        | SKIPPED          |
+---------------------+--------------------+-------------------+--------------+----------------+------------------+
| Arch Linux          | PASS               | SKIPPED           | PASS         | SKIPPED        | PASS             |
+---------------------+--------------------+-------------------+--------------+----------------+------------------+

Windows Server 2019
	Kernel: 10.0
	Compiler: clang 9.0

openSUSE Leap 15
	Kernel: 4.12.14
	Compiler: gcc 7.4.1

Fedora 31
	Kernel: 5.3.16
	Compiler: gcc 9.2.1

Ubuntu 18.04
	Kernel: 4.15.0-generic
	Compiler: gcc 7.4

CentOS 8
	Kernel: 4.18.0.el8_0
	Compiler: gcc 8.3.1

FreeBSD 11.2
	Kernel: 11.2
	Compiler: gcc 8.3

Arch Linux
	Kernel: latest
	Compiler: gcc latest

To view detailed results, visit:
https://lab.dpdk.org/results/dashboard/patchsets/9610/

UNH-IOL DPDK Community Lab

To manage your email subscriptions, visit: 
https://lab.dpdk.org/results/dashboard/preferences/subscriptions/

^ permalink raw reply	[flat|nested] 4+ messages in thread

end of thread, back to index

Thread overview: 4+ messages (download: mbox.gz / follow: Atom feed)
-- links below jump to the message on this page --
     [not found] <20200214161725.36104-1-ciara.power@intel.com>
2020-02-14 16:29 ` [dpdk-test-report] |SUCCESS| pw65815 [PATCH v2] lib: fix unnecessary double negation checkpatch
2020-02-15  1:03 ` [dpdk-test-report] |SUCCESS| pw65815 " 0-day Robot
2020-02-14 17:32 [dpdk-test-report] |SUCCESS| pw65815 [PATCH] [v2] " dpdklab
2020-02-14 17:46 dpdklab

automatic DPDK test reports

Archives are clonable:
	git clone --mirror http://inbox.dpdk.org/test-report/0 test-report/git/0.git

	# If you have public-inbox 1.1+ installed, you may
	# initialize and index your mirror using the following commands:
	public-inbox-init -V2 test-report test-report/ http://inbox.dpdk.org/test-report \
		test-report@dpdk.org
	public-inbox-index test-report


Newsgroup available over NNTP:
	nntp://inbox.dpdk.org/inbox.dpdk.test-report


AGPL code for this site: git clone https://public-inbox.org/ public-inbox