* [dpdk-test-report] |SUCCESS| pw65820 [PATCH] [v3] examples/tep_term: remove redundant info get
@ 2020-02-17 2:59 dpdklab
0 siblings, 0 replies; 4+ messages in thread
From: dpdklab @ 2020-02-17 2:59 UTC (permalink / raw)
To: Ali Alnubani, Test Report; +Cc: dpdk-test-reports
[-- Attachment #1: Type: text/plain, Size: 3961 bytes --]
Test-Label: iol-mellanox-Performance
Test-Status: SUCCESS
http://dpdk.org/patch/65820
_Performance Testing PASS_
Submitter: Li, Xiaoyun <xiaoyun.li@intel.com>
Date: Monday, February 17 2020 01:41:15
DPDK git baseline: Repo:dpdk
Branch: master
CommitID:914397d6c1141235b48ca60249221976e9e08feb
65820 --> performance testing pass
Test environment and result as below:
Ubuntu 18.04
Kernel: 4.15.0-generic
Compiler: gcc 7.4
NIC: Mellanox ConnectX-4 Lx 25000 Mbps
Target: x86_64-native-linuxapp-gcc
Fail/Total: 0/6
Detail performance results:
+------------+---------+-------------------------------------+
| frame_size | txd/rxd | throughput difference from expected |
+============+=========+=====================================+
| 64 | 256 | 0.139 |
+------------+---------+-------------------------------------+
| 128 | 256 | -0.117 |
+------------+---------+-------------------------------------+
| 256 | 256 | -0.034 |
+------------+---------+-------------------------------------+
| 512 | 256 | -0.022 |
+------------+---------+-------------------------------------+
| 1024 | 256 | 0.016 |
+------------+---------+-------------------------------------+
| 1518 | 256 | 0.009 |
+------------+---------+-------------------------------------+
Ubuntu 18.04
Kernel: 4.15.0-generic
Compiler: gcc 7.4
NIC: Mellanox ConnectX-5 100000 Mbps
Target: x86_64-native-linuxapp-gcc
Fail/Total: 0/6
Detail performance results:
+------------+---------+-------------------------------------+
| frame_size | txd/rxd | throughput difference from expected |
+============+=========+=====================================+
| 64 | 256 | -0.146 |
+------------+---------+-------------------------------------+
| 128 | 256 | -0.046 |
+------------+---------+-------------------------------------+
| 256 | 256 | -0.033 |
+------------+---------+-------------------------------------+
| 512 | 256 | 0.012 |
+------------+---------+-------------------------------------+
| 1024 | 256 | -0.019 |
+------------+---------+-------------------------------------+
| 1518 | 256 | -0.011 |
+------------+---------+-------------------------------------+
Ubuntu 18.04
Kernel: 4.15.0-generic
Compiler: gcc 7.4
NIC: Mellanox ConnectX-4 Lx 40000 Mbps
Target: x86_64-native-linuxapp-gcc
Fail/Total: 0/6
Detail performance results:
+------------+---------+-------------------------------------+
| frame_size | txd/rxd | throughput difference from expected |
+============+=========+=====================================+
| 64 | 256 | -0.005 |
+------------+---------+-------------------------------------+
| 128 | 256 | -0.021 |
+------------+---------+-------------------------------------+
| 256 | 256 | -0.156 |
+------------+---------+-------------------------------------+
| 512 | 256 | 0.017 |
+------------+---------+-------------------------------------+
| 1024 | 256 | -0.004 |
+------------+---------+-------------------------------------+
| 1518 | 256 | -0.019 |
+------------+---------+-------------------------------------+
To view detailed results, visit:
https://lab.dpdk.org/results/dashboard/patchsets/9614/
UNH-IOL DPDK Community Lab
To manage your email subscriptions, visit:
https://lab.dpdk.org/results/dashboard/preferences/subscriptions/
^ permalink raw reply [flat|nested] 4+ messages in thread
* [dpdk-test-report] |SUCCESS| pw65820 [PATCH] [v3] examples/tep_term: remove redundant info get
@ 2020-02-17 2:52 dpdklab
0 siblings, 0 replies; 4+ messages in thread
From: dpdklab @ 2020-02-17 2:52 UTC (permalink / raw)
To: Test Report; +Cc: dpdk-test-reports
[-- Attachment #1: Type: text/plain, Size: 2906 bytes --]
Test-Label: iol-testing
Test-Status: SUCCESS
http://dpdk.org/patch/65820
_Testing PASS_
Submitter: Li, Xiaoyun <xiaoyun.li@intel.com>
Date: Monday, February 17 2020 01:41:15
DPDK git baseline: Repo:dpdk
Branch: master
CommitID:914397d6c1141235b48ca60249221976e9e08feb
65820 --> testing pass
Test environment and result as below:
+---------------------+--------------------+--------------+------------------+----------------+-------------------+
| Environment | dpdk_meson_compile | dpdk_compile | dpdk_compile_ovs | dpdk_unit_test | dpdk_compile_spdk |
+=====================+====================+==============+==================+================+===================+
| Windows Server 2019 | PASS | SKIPPED | SKIPPED | SKIPPED | SKIPPED |
+---------------------+--------------------+--------------+------------------+----------------+-------------------+
| Ubuntu 18.04 | PASS | PASS | PASS | PASS | PASS |
+---------------------+--------------------+--------------+------------------+----------------+-------------------+
| Fedora 31 | PASS | PASS | PASS | SKIPPED | PASS |
+---------------------+--------------------+--------------+------------------+----------------+-------------------+
| CentOS 8 | PASS | PASS | PASS | SKIPPED | PASS |
+---------------------+--------------------+--------------+------------------+----------------+-------------------+
| FreeBSD 11.2 | PASS | PASS | SKIPPED | SKIPPED | PASS |
+---------------------+--------------------+--------------+------------------+----------------+-------------------+
| openSUSE Leap 15 | PASS | PASS | PASS | SKIPPED | PASS |
+---------------------+--------------------+--------------+------------------+----------------+-------------------+
| Arch Linux | PASS | PASS | PASS | SKIPPED | SKIPPED |
+---------------------+--------------------+--------------+------------------+----------------+-------------------+
Windows Server 2019
Kernel: 10.0
Compiler: clang 9.0
Ubuntu 18.04
Kernel: 4.15.0-generic
Compiler: gcc 7.4
Fedora 31
Kernel: 5.3.16
Compiler: gcc 9.2.1
CentOS 8
Kernel: 4.18.0.el8_0
Compiler: gcc 8.3.1
FreeBSD 11.2
Kernel: 11.2
Compiler: gcc 8.3
openSUSE Leap 15
Kernel: 4.12.14
Compiler: gcc 7.4.1
Arch Linux
Kernel: latest
Compiler: gcc latest
To view detailed results, visit:
https://lab.dpdk.org/results/dashboard/patchsets/9614/
UNH-IOL DPDK Community Lab
To manage your email subscriptions, visit:
https://lab.dpdk.org/results/dashboard/preferences/subscriptions/
^ permalink raw reply [flat|nested] 4+ messages in thread
end of thread, other threads:[~2020-02-17 4:05 UTC | newest]
Thread overview: 4+ messages (download: mbox.gz / follow: Atom feed)
-- links below jump to the message on this page --
[not found] <20200217014115.26572-1-xiaoyun.li@intel.com>
2020-02-17 1:42 ` [dpdk-test-report] |SUCCESS| pw65820 [PATCH v3] examples/tep_term: remove redundant info get checkpatch
2020-02-17 4:03 ` [dpdk-test-report] |WARNING| pw65820 " 0-day Robot
2020-02-17 2:59 [dpdk-test-report] |SUCCESS| pw65820 [PATCH] [v3] " dpdklab
-- strict thread matches above, loose matches on Subject: below --
2020-02-17 2:52 dpdklab
This is a public inbox, see mirroring instructions
for how to clone and mirror all data and code used for this inbox;
as well as URLs for NNTP newsgroup(s).