* [dpdk-test-report] |SUCCESS| pw66055 [PATCH] net/vhost: enable promiscuous and multicast by default
@ 2020-02-26 14:54 dpdklab
0 siblings, 0 replies; 3+ messages in thread
From: dpdklab @ 2020-02-26 14:54 UTC (permalink / raw)
To: Test Report; +Cc: dpdk-test-reports
[-- Attachment #1: Type: text/plain, Size: 2910 bytes --]
Test-Label: iol-testing
Test-Status: SUCCESS
http://dpdk.org/patch/66055
_Testing PASS_
Submitter: Xiaolong Ye <xiaolong.ye@intel.com>
Date: Wednesday, February 26 2020 13:45:34
DPDK git baseline: Repo:dpdk
Branch: master
CommitID:d7142fbae16f185e11bfa44be061399afc40a1be
66055 --> testing pass
Test environment and result as below:
+---------------------+--------------------+--------------+-------------------+----------------+------------------+
| Environment | dpdk_meson_compile | dpdk_compile | dpdk_compile_spdk | dpdk_unit_test | dpdk_compile_ovs |
+=====================+====================+==============+===================+================+==================+
| Windows Server 2019 | PASS | SKIPPED | SKIPPED | SKIPPED | SKIPPED |
+---------------------+--------------------+--------------+-------------------+----------------+------------------+
| Fedora 31 | PASS | PASS | PASS | SKIPPED | PASS |
+---------------------+--------------------+--------------+-------------------+----------------+------------------+
| Ubuntu 18.04 | PASS | PASS | PASS | PASS | PASS |
+---------------------+--------------------+--------------+-------------------+----------------+------------------+
| CentOS 8 | PASS | PASS | PASS | SKIPPED | PASS |
+---------------------+--------------------+--------------+-------------------+----------------+------------------+
| FreeBSD 11.2 | PASS | PASS | PASS | SKIPPED | SKIPPED |
+---------------------+--------------------+--------------+-------------------+----------------+------------------+
| openSUSE Leap 15 | PASS | PASS | PASS | SKIPPED | PASS |
+---------------------+--------------------+--------------+-------------------+----------------+------------------+
| Arch Linux | PASS | PASS | SKIPPED | SKIPPED | PASS |
+---------------------+--------------------+--------------+-------------------+----------------+------------------+
Windows Server 2019
Kernel: 10.0
Compiler: clang 9.0
Fedora 31
Kernel: 5.3.16
Compiler: gcc 9.2.1
Ubuntu 18.04
Kernel: 4.15.0-generic
Compiler: gcc 7.4
CentOS 8
Kernel: 4.18.0.el8_0
Compiler: gcc 8.3.1
FreeBSD 11.2
Kernel: 11.2
Compiler: gcc 8.3
openSUSE Leap 15
Kernel: 4.12.14
Compiler: gcc 7.4.1
Arch Linux
Kernel: latest
Compiler: gcc latest
To view detailed results, visit:
https://lab.dpdk.org/results/dashboard/patchsets/9761/
UNH-IOL DPDK Community Lab
To manage your email subscriptions, visit:
https://lab.dpdk.org/results/dashboard/preferences/subscriptions/
^ permalink raw reply [flat|nested] 3+ messages in thread
* [dpdk-test-report] |SUCCESS| pw66055 [PATCH] net/vhost: enable promiscuous and multicast by default
@ 2020-02-26 15:09 dpdklab
0 siblings, 0 replies; 3+ messages in thread
From: dpdklab @ 2020-02-26 15:09 UTC (permalink / raw)
To: Ali Alnubani, Test Report; +Cc: dpdk-test-reports
[-- Attachment #1: Type: text/plain, Size: 3965 bytes --]
Test-Label: iol-mellanox-Performance
Test-Status: SUCCESS
http://dpdk.org/patch/66055
_Performance Testing PASS_
Submitter: Xiaolong Ye <xiaolong.ye@intel.com>
Date: Wednesday, February 26 2020 13:45:34
DPDK git baseline: Repo:dpdk
Branch: master
CommitID:d7142fbae16f185e11bfa44be061399afc40a1be
66055 --> performance testing pass
Test environment and result as below:
Ubuntu 18.04
Kernel: 4.15.0-generic
Compiler: gcc 7.4
NIC: Mellanox ConnectX-4 Lx 25000 Mbps
Target: x86_64-native-linuxapp-gcc
Fail/Total: 0/6
Detail performance results:
+------------+---------+-------------------------------------+
| frame_size | txd/rxd | throughput difference from expected |
+============+=========+=====================================+
| 64 | 256 | 0.096 |
+------------+---------+-------------------------------------+
| 128 | 256 | 0.040 |
+------------+---------+-------------------------------------+
| 256 | 256 | -0.010 |
+------------+---------+-------------------------------------+
| 512 | 256 | 0.008 |
+------------+---------+-------------------------------------+
| 1024 | 256 | 0 |
+------------+---------+-------------------------------------+
| 1518 | 256 | -0.002 |
+------------+---------+-------------------------------------+
Ubuntu 18.04
Kernel: 4.15.0-generic
Compiler: gcc 7.4
NIC: Mellanox ConnectX-5 100000 Mbps
Target: x86_64-native-linuxapp-gcc
Fail/Total: 0/6
Detail performance results:
+------------+---------+-------------------------------------+
| frame_size | txd/rxd | throughput difference from expected |
+============+=========+=====================================+
| 64 | 256 | 0.159 |
+------------+---------+-------------------------------------+
| 128 | 256 | 0.176 |
+------------+---------+-------------------------------------+
| 256 | 256 | -0.088 |
+------------+---------+-------------------------------------+
| 512 | 256 | 0.082 |
+------------+---------+-------------------------------------+
| 1024 | 256 | 0.006 |
+------------+---------+-------------------------------------+
| 1518 | 256 | 0.039 |
+------------+---------+-------------------------------------+
Ubuntu 18.04
Kernel: 4.15.0-generic
Compiler: gcc 7.4
NIC: Mellanox ConnectX-4 Lx 40000 Mbps
Target: x86_64-native-linuxapp-gcc
Fail/Total: 0/6
Detail performance results:
+------------+---------+-------------------------------------+
| frame_size | txd/rxd | throughput difference from expected |
+============+=========+=====================================+
| 64 | 256 | -0.109 |
+------------+---------+-------------------------------------+
| 128 | 256 | 0.122 |
+------------+---------+-------------------------------------+
| 256 | 256 | -0.031 |
+------------+---------+-------------------------------------+
| 512 | 256 | 0.037 |
+------------+---------+-------------------------------------+
| 1024 | 256 | -0.001 |
+------------+---------+-------------------------------------+
| 1518 | 256 | -0.007 |
+------------+---------+-------------------------------------+
To view detailed results, visit:
https://lab.dpdk.org/results/dashboard/patchsets/9761/
UNH-IOL DPDK Community Lab
To manage your email subscriptions, visit:
https://lab.dpdk.org/results/dashboard/preferences/subscriptions/
^ permalink raw reply [flat|nested] 3+ messages in thread
* [dpdk-test-report] |SUCCESS| pw66055 [PATCH] net/vhost: enable promiscuous and multicast by default
[not found] <20200226134534.15292-1-xiaolong.ye@intel.com>
@ 2020-02-26 13:48 ` checkpatch
0 siblings, 0 replies; 3+ messages in thread
From: checkpatch @ 2020-02-26 13:48 UTC (permalink / raw)
To: test-report
Test-Label: checkpatch
Test-Status: SUCCESS
http://dpdk.org/patch/66055
_coding style OK_
^ permalink raw reply [flat|nested] 3+ messages in thread
end of thread, other threads:[~2020-02-26 15:09 UTC | newest]
Thread overview: 3+ messages (download: mbox.gz / follow: Atom feed)
-- links below jump to the message on this page --
2020-02-26 14:54 [dpdk-test-report] |SUCCESS| pw66055 [PATCH] net/vhost: enable promiscuous and multicast by default dpdklab
-- strict thread matches above, loose matches on Subject: below --
2020-02-26 15:09 dpdklab
[not found] <20200226134534.15292-1-xiaolong.ye@intel.com>
2020-02-26 13:48 ` checkpatch
This is a public inbox, see mirroring instructions
for how to clone and mirror all data and code used for this inbox;
as well as URLs for NNTP newsgroup(s).