Test-Label: checkpatch Test-Status: SUCCESS http://dpdk.org/patch/66150 _coding style OK_
[-- Attachment #1: Type: text/plain, Size: 1261 bytes --] Test-Label: iol-intel-Performance Test-Status: SUCCESS http://dpdk.org/patch/66150 _Performance Testing PASS_ Submitter: Luca Boccassi <luca.boccassi@gmail.com> Date: Saturday, February 29 2020 16:37:06 DPDK git baseline: Repo:dpdk Branch: master CommitID:1f362c7a7b619dae848bb66944793fb498e16346 66150 --> performance testing pass Test environment and result as below: Ubuntu 18.04 Kernel: 4.15.0-generic Compiler: gcc 7.4 NIC: Intel Corporation Ethernet Converged Network Adapter 82599ES 10000 Mbps Target: x86_64-native-linuxapp-gcc Fail/Total: 0/2 Detail performance results: +------------+---------+-------------------------------------+ | frame_size | txd/rxd | throughput difference from expected | +============+=========+=====================================+ | 64 | 512 | 0.118 | +------------+---------+-------------------------------------+ | 64 | 2048 | -0.017 | +------------+---------+-------------------------------------+ To view detailed results, visit: https://lab.dpdk.org/results/dashboard/patchsets/9797/ UNH-IOL DPDK Community Lab To manage your email subscriptions, visit: https://lab.dpdk.org/results/dashboard/preferences/subscriptions/
[-- Attachment #1: Type: text/plain, Size: 3968 bytes --] Test-Label: iol-mellanox-Performance Test-Status: SUCCESS http://dpdk.org/patch/66150 _Performance Testing PASS_ Submitter: Luca Boccassi <luca.boccassi@gmail.com> Date: Saturday, February 29 2020 16:37:06 DPDK git baseline: Repo:dpdk Branch: master CommitID:1f362c7a7b619dae848bb66944793fb498e16346 66150 --> performance testing pass Test environment and result as below: Ubuntu 18.04 Kernel: 4.15.0-generic Compiler: gcc 7.4 NIC: Mellanox ConnectX-4 Lx 25000 Mbps Target: x86_64-native-linuxapp-gcc Fail/Total: 0/6 Detail performance results: +------------+---------+-------------------------------------+ | frame_size | txd/rxd | throughput difference from expected | +============+=========+=====================================+ | 64 | 256 | -0.221 | +------------+---------+-------------------------------------+ | 128 | 256 | -0.186 | +------------+---------+-------------------------------------+ | 256 | 256 | 0.060 | +------------+---------+-------------------------------------+ | 512 | 256 | 0.004 | +------------+---------+-------------------------------------+ | 1024 | 256 | 0.002 | +------------+---------+-------------------------------------+ | 1518 | 256 | 0.007 | +------------+---------+-------------------------------------+ Ubuntu 18.04 Kernel: 4.15.0-generic Compiler: gcc 7.4 NIC: Mellanox ConnectX-5 100000 Mbps Target: x86_64-native-linuxapp-gcc Fail/Total: 0/6 Detail performance results: +------------+---------+-------------------------------------+ | frame_size | txd/rxd | throughput difference from expected | +============+=========+=====================================+ | 64 | 256 | 0.048 | +------------+---------+-------------------------------------+ | 128 | 256 | -0.056 | +------------+---------+-------------------------------------+ | 256 | 256 | -0.043 | +------------+---------+-------------------------------------+ | 512 | 256 | -0.088 | +------------+---------+-------------------------------------+ | 1024 | 256 | -0.008 | +------------+---------+-------------------------------------+ | 1518 | 256 | -0.005 | +------------+---------+-------------------------------------+ Ubuntu 18.04 Kernel: 4.15.0-generic Compiler: gcc 7.4 NIC: Mellanox ConnectX-4 Lx 40000 Mbps Target: x86_64-native-linuxapp-gcc Fail/Total: 0/6 Detail performance results: +------------+---------+-------------------------------------+ | frame_size | txd/rxd | throughput difference from expected | +============+=========+=====================================+ | 64 | 256 | 0.485 | +------------+---------+-------------------------------------+ | 128 | 256 | -0.184 | +------------+---------+-------------------------------------+ | 256 | 256 | -0.011 | +------------+---------+-------------------------------------+ | 512 | 256 | 0.001 | +------------+---------+-------------------------------------+ | 1024 | 256 | -0.001 | +------------+---------+-------------------------------------+ | 1518 | 256 | -0.016 | +------------+---------+-------------------------------------+ To view detailed results, visit: https://lab.dpdk.org/results/dashboard/patchsets/9797/ UNH-IOL DPDK Community Lab To manage your email subscriptions, visit: https://lab.dpdk.org/results/dashboard/preferences/subscriptions/
[-- Attachment #1: Type: text/plain, Size: 2913 bytes --] Test-Label: iol-testing Test-Status: SUCCESS http://dpdk.org/patch/66150 _Testing PASS_ Submitter: Luca Boccassi <luca.boccassi@gmail.com> Date: Saturday, February 29 2020 16:37:06 DPDK git baseline: Repo:dpdk Branch: master CommitID:1f362c7a7b619dae848bb66944793fb498e16346 66150 --> testing pass Test environment and result as below: +---------------------+--------------+------------------+--------------------+-------------------+----------------+ | Environment | dpdk_compile | dpdk_compile_ovs | dpdk_meson_compile | dpdk_compile_spdk | dpdk_unit_test | +=====================+==============+==================+====================+===================+================+ | openSUSE Leap 15 | PASS | PASS | PASS | PASS | SKIPPED | +---------------------+--------------+------------------+--------------------+-------------------+----------------+ | Ubuntu 18.04 | PASS | PASS | PASS | PASS | PASS | +---------------------+--------------+------------------+--------------------+-------------------+----------------+ | CentOS 8 | PASS | PASS | PASS | PASS | SKIPPED | +---------------------+--------------+------------------+--------------------+-------------------+----------------+ | FreeBSD 11.2 | PASS | SKIPPED | PASS | PASS | SKIPPED | +---------------------+--------------+------------------+--------------------+-------------------+----------------+ | Arch Linux | PASS | PASS | PASS | SKIPPED | SKIPPED | +---------------------+--------------+------------------+--------------------+-------------------+----------------+ | Fedora 31 | PASS | PASS | PASS | PASS | SKIPPED | +---------------------+--------------+------------------+--------------------+-------------------+----------------+ | Windows Server 2019 | SKIPPED | SKIPPED | PASS | SKIPPED | SKIPPED | +---------------------+--------------+------------------+--------------------+-------------------+----------------+ openSUSE Leap 15 Kernel: 4.12.14 Compiler: gcc 7.4.1 Ubuntu 18.04 Kernel: 4.15.0-generic Compiler: gcc 7.4 CentOS 8 Kernel: 4.18.0.el8_0 Compiler: gcc 8.3.1 FreeBSD 11.2 Kernel: 11.2 Compiler: gcc 8.3 Arch Linux Kernel: latest Compiler: gcc latest Fedora 31 Kernel: 5.3.16 Compiler: gcc 9.2.1 Windows Server 2019 Kernel: 10.0 Compiler: clang 9.0 To view detailed results, visit: https://lab.dpdk.org/results/dashboard/patchsets/9797/ UNH-IOL DPDK Community Lab To manage your email subscriptions, visit: https://lab.dpdk.org/results/dashboard/preferences/subscriptions/
From: robot@bytheb.org Test-Label: travis-robot Test-Status: SUCCESS http://dpdk.org/patch/66150 _Travis build: passed_ Build URL: https://travis-ci.com/ovsrobot/dpdk/builds/151185726