* [dpdk-test-report] |SUCCESS| pw66201 [PATCH] net/vhost: fix potential memory leak
@ 2020-03-03 1:34 dpdklab
0 siblings, 0 replies; 4+ messages in thread
From: dpdklab @ 2020-03-03 1:34 UTC (permalink / raw)
To: Test Report; +Cc: dpdk-test-reports
[-- Attachment #1: Type: text/plain, Size: 2900 bytes --]
Test-Label: iol-testing
Test-Status: SUCCESS
http://dpdk.org/patch/66201
_Testing PASS_
Submitter: Itsuro Oda <oda@valinux.co.jp>
Date: Tuesday, March 03 2020 00:03:29
DPDK git baseline: Repo:dpdk
Branch: master
CommitID:974c8a9d2e97225767a7925f238dc60395ca6787
66201 --> testing pass
Test environment and result as below:
+---------------------+--------------------+-------------------+----------------+------------------+--------------+
| Environment | dpdk_meson_compile | dpdk_compile_spdk | dpdk_unit_test | dpdk_compile_ovs | dpdk_compile |
+=====================+====================+===================+================+==================+==============+
| Windows Server 2019 | PASS | SKIPPED | SKIPPED | SKIPPED | SKIPPED |
+---------------------+--------------------+-------------------+----------------+------------------+--------------+
| Ubuntu 18.04 | PASS | PASS | PASS | PASS | PASS |
+---------------------+--------------------+-------------------+----------------+------------------+--------------+
| openSUSE Leap 15 | PASS | PASS | SKIPPED | PASS | PASS |
+---------------------+--------------------+-------------------+----------------+------------------+--------------+
| CentOS 8 | PASS | PASS | SKIPPED | PASS | PASS |
+---------------------+--------------------+-------------------+----------------+------------------+--------------+
| Fedora 31 | PASS | PASS | SKIPPED | PASS | PASS |
+---------------------+--------------------+-------------------+----------------+------------------+--------------+
| FreeBSD 11.2 | PASS | PASS | SKIPPED | SKIPPED | PASS |
+---------------------+--------------------+-------------------+----------------+------------------+--------------+
| Arch Linux | PASS | SKIPPED | SKIPPED | PASS | PASS |
+---------------------+--------------------+-------------------+----------------+------------------+--------------+
Windows Server 2019
Kernel: 10.0
Compiler: clang 9.0
Ubuntu 18.04
Kernel: 4.15.0-generic
Compiler: gcc 7.4
openSUSE Leap 15
Kernel: 4.12.14
Compiler: gcc 7.4.1
CentOS 8
Kernel: 4.18.0.el8_0
Compiler: gcc 8.3.1
Fedora 31
Kernel: 5.3.16
Compiler: gcc 9.2.1
FreeBSD 11.2
Kernel: 11.2
Compiler: gcc 8.3
Arch Linux
Kernel: latest
Compiler: gcc latest
To view detailed results, visit:
https://lab.dpdk.org/results/dashboard/patchsets/9813/
UNH-IOL DPDK Community Lab
To manage your email subscriptions, visit:
https://lab.dpdk.org/results/dashboard/preferences/subscriptions/
^ permalink raw reply [flat|nested] 4+ messages in thread
* [dpdk-test-report] |SUCCESS| pw66201 [PATCH] net/vhost: fix potential memory leak
@ 2020-03-03 1:46 dpdklab
0 siblings, 0 replies; 4+ messages in thread
From: dpdklab @ 2020-03-03 1:46 UTC (permalink / raw)
To: Ali Alnubani, Test Report; +Cc: dpdk-test-reports
[-- Attachment #1: Type: text/plain, Size: 3955 bytes --]
Test-Label: iol-mellanox-Performance
Test-Status: SUCCESS
http://dpdk.org/patch/66201
_Performance Testing PASS_
Submitter: Itsuro Oda <oda@valinux.co.jp>
Date: Tuesday, March 03 2020 00:03:29
DPDK git baseline: Repo:dpdk
Branch: master
CommitID:974c8a9d2e97225767a7925f238dc60395ca6787
66201 --> performance testing pass
Test environment and result as below:
Ubuntu 18.04
Kernel: 4.15.0-generic
Compiler: gcc 7.4
NIC: Mellanox ConnectX-5 100000 Mbps
Target: x86_64-native-linuxapp-gcc
Fail/Total: 0/6
Detail performance results:
+------------+---------+-------------------------------------+
| frame_size | txd/rxd | throughput difference from expected |
+============+=========+=====================================+
| 64 | 256 | 0.657 |
+------------+---------+-------------------------------------+
| 128 | 256 | 0.439 |
+------------+---------+-------------------------------------+
| 256 | 256 | 0.081 |
+------------+---------+-------------------------------------+
| 512 | 256 | 0.073 |
+------------+---------+-------------------------------------+
| 1024 | 256 | 0.047 |
+------------+---------+-------------------------------------+
| 1518 | 256 | 0.003 |
+------------+---------+-------------------------------------+
Ubuntu 18.04
Kernel: 4.15.0-generic
Compiler: gcc 7.4
NIC: Mellanox ConnectX-4 Lx 25000 Mbps
Target: x86_64-native-linuxapp-gcc
Fail/Total: 0/6
Detail performance results:
+------------+---------+-------------------------------------+
| frame_size | txd/rxd | throughput difference from expected |
+============+=========+=====================================+
| 64 | 256 | -0.335 |
+------------+---------+-------------------------------------+
| 128 | 256 | -0.070 |
+------------+---------+-------------------------------------+
| 256 | 256 | -0.074 |
+------------+---------+-------------------------------------+
| 512 | 256 | -0.006 |
+------------+---------+-------------------------------------+
| 1024 | 256 | 0.001 |
+------------+---------+-------------------------------------+
| 1518 | 256 | 0.004 |
+------------+---------+-------------------------------------+
Ubuntu 18.04
Kernel: 4.15.0-generic
Compiler: gcc 7.4
NIC: Mellanox ConnectX-4 Lx 40000 Mbps
Target: x86_64-native-linuxapp-gcc
Fail/Total: 0/6
Detail performance results:
+------------+---------+-------------------------------------+
| frame_size | txd/rxd | throughput difference from expected |
+============+=========+=====================================+
| 64 | 256 | -0.184 |
+------------+---------+-------------------------------------+
| 128 | 256 | 0.041 |
+------------+---------+-------------------------------------+
| 256 | 256 | 0.061 |
+------------+---------+-------------------------------------+
| 512 | 256 | 0.006 |
+------------+---------+-------------------------------------+
| 1024 | 256 | 0.005 |
+------------+---------+-------------------------------------+
| 1518 | 256 | 0.016 |
+------------+---------+-------------------------------------+
To view detailed results, visit:
https://lab.dpdk.org/results/dashboard/patchsets/9813/
UNH-IOL DPDK Community Lab
To manage your email subscriptions, visit:
https://lab.dpdk.org/results/dashboard/preferences/subscriptions/
^ permalink raw reply [flat|nested] 4+ messages in thread
* [dpdk-test-report] |SUCCESS| pw66201 [PATCH] net/vhost: fix potential memory leak
@ 2020-03-03 0:48 dpdklab
0 siblings, 0 replies; 4+ messages in thread
From: dpdklab @ 2020-03-03 0:48 UTC (permalink / raw)
To: Test Report; +Cc: dpdk-test-reports
[-- Attachment #1: Type: text/plain, Size: 1248 bytes --]
Test-Label: iol-intel-Performance
Test-Status: SUCCESS
http://dpdk.org/patch/66201
_Performance Testing PASS_
Submitter: Itsuro Oda <oda@valinux.co.jp>
Date: Tuesday, March 03 2020 00:03:29
DPDK git baseline: Repo:dpdk
Branch: master
CommitID:974c8a9d2e97225767a7925f238dc60395ca6787
66201 --> performance testing pass
Test environment and result as below:
Ubuntu 18.04
Kernel: 4.15.0-generic
Compiler: gcc 7.4
NIC: Intel Corporation Ethernet Converged Network Adapter 82599ES 10000 Mbps
Target: x86_64-native-linuxapp-gcc
Fail/Total: 0/2
Detail performance results:
+------------+---------+-------------------------------------+
| frame_size | txd/rxd | throughput difference from expected |
+============+=========+=====================================+
| 64 | 512 | -0.033 |
+------------+---------+-------------------------------------+
| 64 | 2048 | -0.079 |
+------------+---------+-------------------------------------+
To view detailed results, visit:
https://lab.dpdk.org/results/dashboard/patchsets/9813/
UNH-IOL DPDK Community Lab
To manage your email subscriptions, visit:
https://lab.dpdk.org/results/dashboard/preferences/subscriptions/
^ permalink raw reply [flat|nested] 4+ messages in thread
* [dpdk-test-report] |SUCCESS| pw66201 [PATCH] net/vhost: fix potential memory leak
[not found] <20200303000329.823-1-oda@valinux.co.jp>
@ 2020-03-03 0:05 ` checkpatch
0 siblings, 0 replies; 4+ messages in thread
From: checkpatch @ 2020-03-03 0:05 UTC (permalink / raw)
To: test-report
Test-Label: checkpatch
Test-Status: SUCCESS
http://dpdk.org/patch/66201
_coding style OK_
^ permalink raw reply [flat|nested] 4+ messages in thread
end of thread, other threads:[~2020-03-03 1:46 UTC | newest]
Thread overview: 4+ messages (download: mbox.gz / follow: Atom feed)
-- links below jump to the message on this page --
2020-03-03 1:34 [dpdk-test-report] |SUCCESS| pw66201 [PATCH] net/vhost: fix potential memory leak dpdklab
-- strict thread matches above, loose matches on Subject: below --
2020-03-03 1:46 dpdklab
2020-03-03 0:48 dpdklab
[not found] <20200303000329.823-1-oda@valinux.co.jp>
2020-03-03 0:05 ` checkpatch
This is a public inbox, see mirroring instructions
for how to clone and mirror all data and code used for this inbox;
as well as URLs for NNTP newsgroup(s).