* [dpdk-test-report] |SUCCESS| pw66300 [PATCH] net/sfc: fix Rx queue start failure path
[not found] <1583423335-15020-1-git-send-email-arybchenko@solarflare.com>
@ 2020-03-05 15:50 ` checkpatch
2020-03-05 18:04 ` [dpdk-test-report] |SUCCESS| pw66300 " 0-day Robot
1 sibling, 0 replies; 5+ messages in thread
From: checkpatch @ 2020-03-05 15:50 UTC (permalink / raw)
To: test-report
Test-Label: checkpatch
Test-Status: SUCCESS
http://dpdk.org/patch/66300
_coding style OK_
^ permalink raw reply [flat|nested] 5+ messages in thread
* [dpdk-test-report] |SUCCESS| pw66300 net/sfc: fix Rx queue start failure path
[not found] <1583423335-15020-1-git-send-email-arybchenko@solarflare.com>
2020-03-05 15:50 ` [dpdk-test-report] |SUCCESS| pw66300 [PATCH] net/sfc: fix Rx queue start failure path checkpatch
@ 2020-03-05 18:04 ` 0-day Robot
1 sibling, 0 replies; 5+ messages in thread
From: 0-day Robot @ 2020-03-05 18:04 UTC (permalink / raw)
To: test-report; +Cc: robot
From: robot@bytheb.org
Test-Label: travis-robot
Test-Status: SUCCESS
http://dpdk.org/patch/66300
_Travis build: passed_
Build URL: https://travis-ci.com/ovsrobot/dpdk/builds/151991177
^ permalink raw reply [flat|nested] 5+ messages in thread
* [dpdk-test-report] |SUCCESS| pw66300 [PATCH] net/sfc: fix Rx queue start failure path
@ 2020-03-05 17:46 dpdklab
0 siblings, 0 replies; 5+ messages in thread
From: dpdklab @ 2020-03-05 17:46 UTC (permalink / raw)
To: Ali Alnubani, Test Report; +Cc: dpdk-test-reports
[-- Attachment #1: Type: text/plain, Size: 3970 bytes --]
Test-Label: iol-mellanox-Performance
Test-Status: SUCCESS
http://dpdk.org/patch/66300
_Performance Testing PASS_
Submitter: Andrew Rybchenko <arybchenko@solarflare.com>
Date: Thursday, March 05 2020 15:48:55
DPDK git baseline: Repo:dpdk
Branch: master
CommitID:345187bda58f2685e34a00c7bca917637395aad4
66300 --> performance testing pass
Test environment and result as below:
Ubuntu 18.04
Kernel: 4.15.0-generic
Compiler: gcc 7.4
NIC: Mellanox ConnectX-4 Lx 25000 Mbps
Target: x86_64-native-linuxapp-gcc
Fail/Total: 0/6
Detail performance results:
+------------+---------+-------------------------------------+
| frame_size | txd/rxd | throughput difference from expected |
+============+=========+=====================================+
| 64 | 256 | 0.689 |
+------------+---------+-------------------------------------+
| 128 | 256 | 0.010 |
+------------+---------+-------------------------------------+
| 256 | 256 | 0.250 |
+------------+---------+-------------------------------------+
| 512 | 256 | 0.032 |
+------------+---------+-------------------------------------+
| 1024 | 256 | 0.010 |
+------------+---------+-------------------------------------+
| 1518 | 256 | 0.005 |
+------------+---------+-------------------------------------+
Ubuntu 18.04
Kernel: 4.15.0-generic
Compiler: gcc 7.4
NIC: Mellanox ConnectX-5 100000 Mbps
Target: x86_64-native-linuxapp-gcc
Fail/Total: 0/6
Detail performance results:
+------------+---------+-------------------------------------+
| frame_size | txd/rxd | throughput difference from expected |
+============+=========+=====================================+
| 64 | 256 | -0.405 |
+------------+---------+-------------------------------------+
| 128 | 256 | -0.058 |
+------------+---------+-------------------------------------+
| 256 | 256 | 0.013 |
+------------+---------+-------------------------------------+
| 512 | 256 | -0.024 |
+------------+---------+-------------------------------------+
| 1024 | 256 | 0.037 |
+------------+---------+-------------------------------------+
| 1518 | 256 | 0.012 |
+------------+---------+-------------------------------------+
Ubuntu 18.04
Kernel: 4.15.0-generic
Compiler: gcc 7.4
NIC: Mellanox ConnectX-4 Lx 40000 Mbps
Target: x86_64-native-linuxapp-gcc
Fail/Total: 0/6
Detail performance results:
+------------+---------+-------------------------------------+
| frame_size | txd/rxd | throughput difference from expected |
+============+=========+=====================================+
| 64 | 256 | 0.120 |
+------------+---------+-------------------------------------+
| 128 | 256 | 0.016 |
+------------+---------+-------------------------------------+
| 256 | 256 | 0.019 |
+------------+---------+-------------------------------------+
| 512 | 256 | 0.023 |
+------------+---------+-------------------------------------+
| 1024 | 256 | 0.012 |
+------------+---------+-------------------------------------+
| 1518 | 256 | -0.002 |
+------------+---------+-------------------------------------+
To view detailed results, visit:
https://lab.dpdk.org/results/dashboard/patchsets/9862/
UNH-IOL DPDK Community Lab
To manage your email subscriptions, visit:
https://lab.dpdk.org/results/dashboard/preferences/subscriptions/
^ permalink raw reply [flat|nested] 5+ messages in thread
* [dpdk-test-report] |SUCCESS| pw66300 [PATCH] net/sfc: fix Rx queue start failure path
@ 2020-03-05 17:31 dpdklab
0 siblings, 0 replies; 5+ messages in thread
From: dpdklab @ 2020-03-05 17:31 UTC (permalink / raw)
To: Test Report; +Cc: dpdk-test-reports
[-- Attachment #1: Type: text/plain, Size: 2915 bytes --]
Test-Label: iol-testing
Test-Status: SUCCESS
http://dpdk.org/patch/66300
_Testing PASS_
Submitter: Andrew Rybchenko <arybchenko@solarflare.com>
Date: Thursday, March 05 2020 15:48:55
DPDK git baseline: Repo:dpdk
Branch: master
CommitID:345187bda58f2685e34a00c7bca917637395aad4
66300 --> testing pass
Test environment and result as below:
+---------------------+--------------------+-------------------+------------------+--------------+----------------+
| Environment | dpdk_meson_compile | dpdk_compile_spdk | dpdk_compile_ovs | dpdk_compile | dpdk_unit_test |
+=====================+====================+===================+==================+==============+================+
| Windows Server 2019 | PASS | SKIPPED | SKIPPED | SKIPPED | SKIPPED |
+---------------------+--------------------+-------------------+------------------+--------------+----------------+
| Fedora 31 | PASS | PASS | PASS | PASS | SKIPPED |
+---------------------+--------------------+-------------------+------------------+--------------+----------------+
| openSUSE Leap 15 | PASS | PASS | PASS | PASS | SKIPPED |
+---------------------+--------------------+-------------------+------------------+--------------+----------------+
| Ubuntu 18.04 | PASS | PASS | PASS | PASS | PASS |
+---------------------+--------------------+-------------------+------------------+--------------+----------------+
| CentOS 8 | PASS | PASS | PASS | PASS | SKIPPED |
+---------------------+--------------------+-------------------+------------------+--------------+----------------+
| FreeBSD 11.2 | PASS | PASS | SKIPPED | PASS | SKIPPED |
+---------------------+--------------------+-------------------+------------------+--------------+----------------+
| Arch Linux | PASS | SKIPPED | PASS | PASS | SKIPPED |
+---------------------+--------------------+-------------------+------------------+--------------+----------------+
Windows Server 2019
Kernel: 10.0
Compiler: clang 9.0
Fedora 31
Kernel: 5.3.16
Compiler: gcc 9.2.1
openSUSE Leap 15
Kernel: 4.12.14
Compiler: gcc 7.4.1
Ubuntu 18.04
Kernel: 4.15.0-generic
Compiler: gcc 7.4
CentOS 8
Kernel: 4.18.0.el8_0
Compiler: gcc 8.3.1
FreeBSD 11.2
Kernel: 11.2
Compiler: gcc 8.3
Arch Linux
Kernel: latest
Compiler: gcc latest
To view detailed results, visit:
https://lab.dpdk.org/results/dashboard/patchsets/9862/
UNH-IOL DPDK Community Lab
To manage your email subscriptions, visit:
https://lab.dpdk.org/results/dashboard/preferences/subscriptions/
^ permalink raw reply [flat|nested] 5+ messages in thread
* [dpdk-test-report] |SUCCESS| pw66300 [PATCH] net/sfc: fix Rx queue start failure path
@ 2020-03-05 16:25 dpdklab
0 siblings, 0 replies; 5+ messages in thread
From: dpdklab @ 2020-03-05 16:25 UTC (permalink / raw)
To: Test Report; +Cc: dpdk-test-reports
[-- Attachment #1: Type: text/plain, Size: 1266 bytes --]
Test-Label: iol-intel-Performance
Test-Status: SUCCESS
http://dpdk.org/patch/66300
_Performance Testing PASS_
Submitter: Andrew Rybchenko <arybchenko@solarflare.com>
Date: Thursday, March 05 2020 15:48:55
DPDK git baseline: Repo:dpdk
Branch: master
CommitID:345187bda58f2685e34a00c7bca917637395aad4
66300 --> performance testing pass
Test environment and result as below:
Ubuntu 18.04
Kernel: 4.15.0-generic
Compiler: gcc 7.4
NIC: Intel Corporation Ethernet Converged Network Adapter XL710-QDA2 40000 Mbps
Target: x86_64-native-linuxapp-gcc
Fail/Total: 0/2
Detail performance results:
+------------+---------+-------------------------------------+
| frame_size | txd/rxd | throughput difference from expected |
+============+=========+=====================================+
| 64 | 512 | 0.698 |
+------------+---------+-------------------------------------+
| 64 | 2048 | 0.146 |
+------------+---------+-------------------------------------+
To view detailed results, visit:
https://lab.dpdk.org/results/dashboard/patchsets/9862/
UNH-IOL DPDK Community Lab
To manage your email subscriptions, visit:
https://lab.dpdk.org/results/dashboard/preferences/subscriptions/
^ permalink raw reply [flat|nested] 5+ messages in thread
end of thread, other threads:[~2020-03-05 18:06 UTC | newest]
Thread overview: 5+ messages (download: mbox.gz / follow: Atom feed)
-- links below jump to the message on this page --
[not found] <1583423335-15020-1-git-send-email-arybchenko@solarflare.com>
2020-03-05 15:50 ` [dpdk-test-report] |SUCCESS| pw66300 [PATCH] net/sfc: fix Rx queue start failure path checkpatch
2020-03-05 18:04 ` [dpdk-test-report] |SUCCESS| pw66300 " 0-day Robot
2020-03-05 17:46 [dpdk-test-report] |SUCCESS| pw66300 [PATCH] " dpdklab
-- strict thread matches above, loose matches on Subject: below --
2020-03-05 17:31 dpdklab
2020-03-05 16:25 dpdklab
This is a public inbox, see mirroring instructions
for how to clone and mirror all data and code used for this inbox;
as well as URLs for NNTP newsgroup(s).