Test-Label: checkpatch Test-Status: SUCCESS http://dpdk.org/patch/66366 _coding style OK_
[-- Attachment #1: Type: text/plain, Size: 1255 bytes --] Test-Label: iol-intel-Performance Test-Status: SUCCESS http://dpdk.org/patch/66366 _Performance Testing PASS_ Submitter: Haiyue Wang <haiyue.wang@intel.com> Date: Sunday, March 08 2020 04:18:24 DPDK git baseline: Repo:dpdk Branch: master CommitID:44c775feb491106d472c1a44433c6427a3fb3b3b 66366 --> performance testing pass Test environment and result as below: Ubuntu 18.04 Kernel: 4.15.0-generic Compiler: gcc 7.4 NIC: Intel Corporation Ethernet Converged Network Adapter XL710-QDA2 40000 Mbps Target: x86_64-native-linuxapp-gcc Fail/Total: 0/2 Detail performance results: +------------+---------+-------------------------------------+ | frame_size | txd/rxd | throughput difference from expected | +============+=========+=====================================+ | 64 | 512 | -0.242 | +------------+---------+-------------------------------------+ | 64 | 2048 | 0.113 | +------------+---------+-------------------------------------+ To view detailed results, visit: https://lab.dpdk.org/results/dashboard/patchsets/9888/ UNH-IOL DPDK Community Lab To manage your email subscriptions, visit: https://lab.dpdk.org/results/dashboard/preferences/subscriptions/
[-- Attachment #1: Type: text/plain, Size: 2904 bytes --] Test-Label: iol-testing Test-Status: SUCCESS http://dpdk.org/patch/66366 _Testing PASS_ Submitter: Haiyue Wang <haiyue.wang@intel.com> Date: Sunday, March 08 2020 04:18:24 DPDK git baseline: Repo:dpdk Branch: master CommitID:44c775feb491106d472c1a44433c6427a3fb3b3b 66366 --> testing pass Test environment and result as below: +---------------------+--------------------+-------------------+--------------+------------------+----------------+ | Environment | dpdk_meson_compile | dpdk_compile_spdk | dpdk_compile | dpdk_compile_ovs | dpdk_unit_test | +=====================+====================+===================+==============+==================+================+ | Windows Server 2019 | PASS | SKIPPED | SKIPPED | SKIPPED | SKIPPED | +---------------------+--------------------+-------------------+--------------+------------------+----------------+ | openSUSE Leap 15 | PASS | PASS | PASS | PASS | SKIPPED | +---------------------+--------------------+-------------------+--------------+------------------+----------------+ | Fedora 31 | PASS | PASS | PASS | PASS | SKIPPED | +---------------------+--------------------+-------------------+--------------+------------------+----------------+ | Ubuntu 18.04 | PASS | PASS | PASS | PASS | PASS | +---------------------+--------------------+-------------------+--------------+------------------+----------------+ | CentOS 8 | PASS | PASS | PASS | PASS | SKIPPED | +---------------------+--------------------+-------------------+--------------+------------------+----------------+ | FreeBSD 11.2 | PASS | PASS | PASS | SKIPPED | SKIPPED | +---------------------+--------------------+-------------------+--------------+------------------+----------------+ | Arch Linux | PASS | SKIPPED | PASS | PASS | SKIPPED | +---------------------+--------------------+-------------------+--------------+------------------+----------------+ Windows Server 2019 Kernel: 10.0 Compiler: clang 9.0 openSUSE Leap 15 Kernel: 4.12.14 Compiler: gcc 7.4.1 Fedora 31 Kernel: 5.3.16 Compiler: gcc 9.2.1 Ubuntu 18.04 Kernel: 4.15.0-generic Compiler: gcc 7.4 CentOS 8 Kernel: 4.18.0.el8_0 Compiler: gcc 8.3.1 FreeBSD 11.2 Kernel: 11.2 Compiler: gcc 8.3 Arch Linux Kernel: latest Compiler: gcc latest To view detailed results, visit: https://lab.dpdk.org/results/dashboard/patchsets/9888/ UNH-IOL DPDK Community Lab To manage your email subscriptions, visit: https://lab.dpdk.org/results/dashboard/preferences/subscriptions/
[-- Attachment #1: Type: text/plain, Size: 3959 bytes --] Test-Label: iol-mellanox-Performance Test-Status: SUCCESS http://dpdk.org/patch/66366 _Performance Testing PASS_ Submitter: Haiyue Wang <haiyue.wang@intel.com> Date: Sunday, March 08 2020 04:18:24 DPDK git baseline: Repo:dpdk Branch: master CommitID:44c775feb491106d472c1a44433c6427a3fb3b3b 66366 --> performance testing pass Test environment and result as below: Ubuntu 18.04 Kernel: 4.15.0-generic Compiler: gcc 7.4 NIC: Mellanox ConnectX-4 Lx 40000 Mbps Target: x86_64-native-linuxapp-gcc Fail/Total: 0/6 Detail performance results: +------------+---------+-------------------------------------+ | frame_size | txd/rxd | throughput difference from expected | +============+=========+=====================================+ | 64 | 256 | -0.121 | +------------+---------+-------------------------------------+ | 128 | 256 | -0.011 | +------------+---------+-------------------------------------+ | 256 | 256 | 0.068 | +------------+---------+-------------------------------------+ | 512 | 256 | 0.002 | +------------+---------+-------------------------------------+ | 1024 | 256 | -0.002 | +------------+---------+-------------------------------------+ | 1518 | 256 | 0.015 | +------------+---------+-------------------------------------+ Ubuntu 18.04 Kernel: 4.15.0-generic Compiler: gcc 7.4 NIC: Mellanox ConnectX-4 Lx 25000 Mbps Target: x86_64-native-linuxapp-gcc Fail/Total: 0/6 Detail performance results: +------------+---------+-------------------------------------+ | frame_size | txd/rxd | throughput difference from expected | +============+=========+=====================================+ | 64 | 256 | 0.148 | +------------+---------+-------------------------------------+ | 128 | 256 | -0.123 | +------------+---------+-------------------------------------+ | 256 | 256 | 0.245 | +------------+---------+-------------------------------------+ | 512 | 256 | 0.004 | +------------+---------+-------------------------------------+ | 1024 | 256 | -0.014 | +------------+---------+-------------------------------------+ | 1518 | 256 | 0.001 | +------------+---------+-------------------------------------+ Ubuntu 18.04 Kernel: 4.15.0-generic Compiler: gcc 7.4 NIC: Mellanox ConnectX-5 100000 Mbps Target: x86_64-native-linuxapp-gcc Fail/Total: 0/6 Detail performance results: +------------+---------+-------------------------------------+ | frame_size | txd/rxd | throughput difference from expected | +============+=========+=====================================+ | 64 | 256 | -0.724 | +------------+---------+-------------------------------------+ | 128 | 256 | 0.491 | +------------+---------+-------------------------------------+ | 256 | 256 | -0.050 | +------------+---------+-------------------------------------+ | 512 | 256 | -0.025 | +------------+---------+-------------------------------------+ | 1024 | 256 | 0.086 | +------------+---------+-------------------------------------+ | 1518 | 256 | -0.026 | +------------+---------+-------------------------------------+ To view detailed results, visit: https://lab.dpdk.org/results/dashboard/patchsets/9888/ UNH-IOL DPDK Community Lab To manage your email subscriptions, visit: https://lab.dpdk.org/results/dashboard/preferences/subscriptions/