automatic DPDK test reports
 help / color / mirror / Atom feed
* [dpdk-test-report] |SUCCESS| pw66511 [PATCH] lpm6: spelling fixes
       [not found] <20200310162622.7948-1-stephen@networkplumber.org>
@ 2020-03-10 16:26 ` checkpatch
  2020-03-10 20:04 ` [dpdk-test-report] |SUCCESS| pw66511 " 0-day Robot
  1 sibling, 0 replies; 4+ messages in thread
From: checkpatch @ 2020-03-10 16:26 UTC (permalink / raw)
  To: test-report

Test-Label: checkpatch
Test-Status: SUCCESS
http://dpdk.org/patch/66511

_coding style OK_



^ permalink raw reply	[flat|nested] 4+ messages in thread

* [dpdk-test-report] |SUCCESS| pw66511 lpm6: spelling fixes
       [not found] <20200310162622.7948-1-stephen@networkplumber.org>
  2020-03-10 16:26 ` [dpdk-test-report] |SUCCESS| pw66511 [PATCH] lpm6: spelling fixes checkpatch
@ 2020-03-10 20:04 ` 0-day Robot
  1 sibling, 0 replies; 4+ messages in thread
From: 0-day Robot @ 2020-03-10 20:04 UTC (permalink / raw)
  To: test-report; +Cc: robot

From: robot@bytheb.org

Test-Label: travis-robot
Test-Status: SUCCESS
http://dpdk.org/patch/66511

_Travis build: passed_
Build URL: https://travis-ci.com/ovsrobot/dpdk/builds/152675260

^ permalink raw reply	[flat|nested] 4+ messages in thread

* [dpdk-test-report] |SUCCESS| pw66511 [PATCH] lpm6: spelling fixes
@ 2020-03-10 18:39 dpdklab
  0 siblings, 0 replies; 4+ messages in thread
From: dpdklab @ 2020-03-10 18:39 UTC (permalink / raw)
  To: Ali Alnubani, Test Report; +Cc: dpdk-test-reports

[-- Attachment #1: Type: text/plain, Size: 3971 bytes --]

Test-Label: iol-mellanox-Performance
Test-Status: SUCCESS
http://dpdk.org/patch/66511

_Performance Testing PASS_

Submitter: Stephen Hemminger <stephen@networkplumber.org>
Date: Tuesday, March 10 2020 16:26:22 
DPDK git baseline: Repo:dpdk
  Branch: master
  CommitID:44c775feb491106d472c1a44433c6427a3fb3b3b

66511 --> performance testing pass

Test environment and result as below:

Ubuntu 18.04
Kernel: 4.15.0-generic
Compiler: gcc 7.4
NIC: Mellanox ConnectX-5 100000 Mbps
Target: x86_64-native-linuxapp-gcc
Fail/Total: 0/6

Detail performance results: 
+------------+---------+-------------------------------------+
| frame_size | txd/rxd | throughput difference from expected |
+============+=========+=====================================+
| 64         | 256     | 0.084                               |
+------------+---------+-------------------------------------+
| 128        | 256     | 0.580                               |
+------------+---------+-------------------------------------+
| 256        | 256     | -0.093                              |
+------------+---------+-------------------------------------+
| 512        | 256     | 0.157                               |
+------------+---------+-------------------------------------+
| 1024       | 256     | 0.109                               |
+------------+---------+-------------------------------------+
| 1518       | 256     | 0.004                               |
+------------+---------+-------------------------------------+

Ubuntu 18.04
Kernel: 4.15.0-generic
Compiler: gcc 7.4
NIC: Mellanox ConnectX-4 Lx 40000 Mbps
Target: x86_64-native-linuxapp-gcc
Fail/Total: 0/6

Detail performance results: 
+------------+---------+-------------------------------------+
| frame_size | txd/rxd | throughput difference from expected |
+============+=========+=====================================+
| 64         | 256     | 0.009                               |
+------------+---------+-------------------------------------+
| 128        | 256     | 0.188                               |
+------------+---------+-------------------------------------+
| 256        | 256     | 0.056                               |
+------------+---------+-------------------------------------+
| 512        | 256     | 0.017                               |
+------------+---------+-------------------------------------+
| 1024       | 256     | 0.001                               |
+------------+---------+-------------------------------------+
| 1518       | 256     | 0.015                               |
+------------+---------+-------------------------------------+

Ubuntu 18.04
Kernel: 4.15.0-generic
Compiler: gcc 7.4
NIC: Mellanox ConnectX-4 Lx 25000 Mbps
Target: x86_64-native-linuxapp-gcc
Fail/Total: 0/6

Detail performance results: 
+------------+---------+-------------------------------------+
| frame_size | txd/rxd | throughput difference from expected |
+============+=========+=====================================+
| 64         | 256     | 0.043                               |
+------------+---------+-------------------------------------+
| 128        | 256     | -0.028                              |
+------------+---------+-------------------------------------+
| 256        | 256     | -0.041                              |
+------------+---------+-------------------------------------+
| 512        | 256     | -0.075                              |
+------------+---------+-------------------------------------+
| 1024       | 256     | 0.002                               |
+------------+---------+-------------------------------------+
| 1518       | 256     | -0.004                              |
+------------+---------+-------------------------------------+

To view detailed results, visit:
https://lab.dpdk.org/results/dashboard/patchsets/9935/

UNH-IOL DPDK Community Lab

To manage your email subscriptions, visit: 
https://lab.dpdk.org/results/dashboard/preferences/subscriptions/

^ permalink raw reply	[flat|nested] 4+ messages in thread

* [dpdk-test-report] |SUCCESS| pw66511 [PATCH] lpm6: spelling fixes
@ 2020-03-10 18:28 dpdklab
  0 siblings, 0 replies; 4+ messages in thread
From: dpdklab @ 2020-03-10 18:28 UTC (permalink / raw)
  To: Test Report; +Cc: dpdk-test-reports

[-- Attachment #1: Type: text/plain, Size: 2916 bytes --]

Test-Label: iol-testing
Test-Status: SUCCESS
http://dpdk.org/patch/66511

_Testing PASS_

Submitter: Stephen Hemminger <stephen@networkplumber.org>
Date: Tuesday, March 10 2020 16:26:22 
DPDK git baseline: Repo:dpdk
  Branch: master
  CommitID:44c775feb491106d472c1a44433c6427a3fb3b3b

66511 --> testing pass

Test environment and result as below:

+---------------------+--------------------+-------------------+------------------+----------------+--------------+
|     Environment     | dpdk_meson_compile | dpdk_compile_spdk | dpdk_compile_ovs | dpdk_unit_test | dpdk_compile |
+=====================+====================+===================+==================+================+==============+
| Windows Server 2019 | PASS               | SKIPPED           | SKIPPED          | SKIPPED        | SKIPPED      |
+---------------------+--------------------+-------------------+------------------+----------------+--------------+
| Fedora 31           | PASS               | PASS              | PASS             | SKIPPED        | PASS         |
+---------------------+--------------------+-------------------+------------------+----------------+--------------+
| CentOS 8            | PASS               | PASS              | PASS             | SKIPPED        | PASS         |
+---------------------+--------------------+-------------------+------------------+----------------+--------------+
| Ubuntu 18.04        | PASS               | PASS              | PASS             | PASS           | PASS         |
+---------------------+--------------------+-------------------+------------------+----------------+--------------+
| openSUSE Leap 15    | PASS               | PASS              | PASS             | SKIPPED        | PASS         |
+---------------------+--------------------+-------------------+------------------+----------------+--------------+
| FreeBSD 11.2        | PASS               | PASS              | SKIPPED          | SKIPPED        | PASS         |
+---------------------+--------------------+-------------------+------------------+----------------+--------------+
| Arch Linux          | PASS               | SKIPPED           | PASS             | SKIPPED        | PASS         |
+---------------------+--------------------+-------------------+------------------+----------------+--------------+

Windows Server 2019
	Kernel: 10.0
	Compiler: clang 9.0

Fedora 31
	Kernel: 5.3.16
	Compiler: gcc 9.2.1

CentOS 8
	Kernel: 4.18.0.el8_0
	Compiler: gcc 8.3.1

Ubuntu 18.04
	Kernel: 4.15.0-generic
	Compiler: gcc 7.4

openSUSE Leap 15
	Kernel: 4.12.14
	Compiler: gcc 7.4.1

FreeBSD 11.2
	Kernel: 11.2
	Compiler: gcc 8.3

Arch Linux
	Kernel: latest
	Compiler: gcc latest

To view detailed results, visit:
https://lab.dpdk.org/results/dashboard/patchsets/9935/

UNH-IOL DPDK Community Lab

To manage your email subscriptions, visit: 
https://lab.dpdk.org/results/dashboard/preferences/subscriptions/

^ permalink raw reply	[flat|nested] 4+ messages in thread

end of thread, other threads:[~2020-03-10 20:06 UTC | newest]

Thread overview: 4+ messages (download: mbox.gz / follow: Atom feed)
-- links below jump to the message on this page --
     [not found] <20200310162622.7948-1-stephen@networkplumber.org>
2020-03-10 16:26 ` [dpdk-test-report] |SUCCESS| pw66511 [PATCH] lpm6: spelling fixes checkpatch
2020-03-10 20:04 ` [dpdk-test-report] |SUCCESS| pw66511 " 0-day Robot
2020-03-10 18:28 [dpdk-test-report] |SUCCESS| pw66511 [PATCH] " dpdklab
2020-03-10 18:39 dpdklab

automatic DPDK test reports

This inbox may be cloned and mirrored by anyone:

	git clone --mirror http://inbox.dpdk.org/test-report/0 test-report/git/0.git

	# If you have public-inbox 1.1+ installed, you may
	# initialize and index your mirror using the following commands:
	public-inbox-init -V2 test-report test-report/ http://inbox.dpdk.org/test-report \
		test-report@dpdk.org
	public-inbox-index test-report

Example config snippet for mirrors.
Newsgroup available over NNTP:
	nntp://inbox.dpdk.org/inbox.dpdk.test-report


AGPL code for this site: git clone https://public-inbox.org/public-inbox.git