automatic DPDK test reports
 help / color / mirror / Atom feed
* [dpdk-test-report] |SUCCESS| pw66641 [PATCH] net/mlx5: fix Rx descriptor status returned value
@ 2020-03-13 11:24 dpdklab
  0 siblings, 0 replies; 4+ messages in thread
From: dpdklab @ 2020-03-13 11:24 UTC (permalink / raw)
  To: Test Report; +Cc: dpdk-test-reports

[-- Attachment #1: Type: text/plain, Size: 2910 bytes --]

Test-Label: iol-testing
Test-Status: SUCCESS
http://dpdk.org/patch/66641

_Testing PASS_

Submitter: Didier Pallard <didier.pallard@6wind.com>
Date: Friday, March 13 2020 09:56:59 
DPDK git baseline: Repo:dpdk
  Branch: master
  CommitID:2a860943b847fbd44e08ef4f1ca66de759875c9e

66641 --> testing pass

Test environment and result as below:

+---------------------+--------------------+-------------------+--------------+----------------+------------------+
|     Environment     | dpdk_meson_compile | dpdk_compile_spdk | dpdk_compile | dpdk_unit_test | dpdk_compile_ovs |
+=====================+====================+===================+==============+================+==================+
| Windows Server 2019 | PASS               | SKIPPED           | SKIPPED      | SKIPPED        | SKIPPED          |
+---------------------+--------------------+-------------------+--------------+----------------+------------------+
| Fedora 31           | PASS               | PASS              | PASS         | SKIPPED        | PASS             |
+---------------------+--------------------+-------------------+--------------+----------------+------------------+
| CentOS 8            | PASS               | PASS              | PASS         | SKIPPED        | PASS             |
+---------------------+--------------------+-------------------+--------------+----------------+------------------+
| Ubuntu 18.04        | PASS               | PASS              | PASS         | PASS           | PASS             |
+---------------------+--------------------+-------------------+--------------+----------------+------------------+
| Arch Linux          | PASS               | SKIPPED           | PASS         | SKIPPED        | PASS             |
+---------------------+--------------------+-------------------+--------------+----------------+------------------+
| FreeBSD 11.2        | PASS               | PASS              | PASS         | SKIPPED        | SKIPPED          |
+---------------------+--------------------+-------------------+--------------+----------------+------------------+
| openSUSE Leap 15    | PASS               | PASS              | PASS         | SKIPPED        | PASS             |
+---------------------+--------------------+-------------------+--------------+----------------+------------------+

Windows Server 2019
	Kernel: 10.0
	Compiler: clang 9.0

Fedora 31
	Kernel: 5.3.16
	Compiler: gcc 9.2.1

CentOS 8
	Kernel: 4.18.0.el8_0
	Compiler: gcc 8.3.1

Ubuntu 18.04
	Kernel: 4.15.0-generic
	Compiler: gcc 7.4

Arch Linux
	Kernel: latest
	Compiler: gcc latest

FreeBSD 11.2
	Kernel: 11.2
	Compiler: gcc 8.3

openSUSE Leap 15
	Kernel: 4.12.14
	Compiler: gcc 7.4.1

To view detailed results, visit:
https://lab.dpdk.org/results/dashboard/patchsets/9966/

UNH-IOL DPDK Community Lab

To manage your email subscriptions, visit: 
https://lab.dpdk.org/results/dashboard/preferences/subscriptions/

^ permalink raw reply	[flat|nested] 4+ messages in thread

* [dpdk-test-report] |SUCCESS| pw66641 [PATCH] net/mlx5: fix Rx descriptor status returned value
@ 2020-03-13 11:26 dpdklab
  0 siblings, 0 replies; 4+ messages in thread
From: dpdklab @ 2020-03-13 11:26 UTC (permalink / raw)
  To: Ali Alnubani, Test Report; +Cc: dpdk-test-reports

[-- Attachment #1: Type: text/plain, Size: 3965 bytes --]

Test-Label: iol-mellanox-Performance
Test-Status: SUCCESS
http://dpdk.org/patch/66641

_Performance Testing PASS_

Submitter: Didier Pallard <didier.pallard@6wind.com>
Date: Friday, March 13 2020 09:56:59 
DPDK git baseline: Repo:dpdk
  Branch: master
  CommitID:2a860943b847fbd44e08ef4f1ca66de759875c9e

66641 --> performance testing pass

Test environment and result as below:

Ubuntu 18.04
Kernel: 4.15.0-generic
Compiler: gcc 7.4
NIC: Mellanox ConnectX-5 100000 Mbps
Target: x86_64-native-linuxapp-gcc
Fail/Total: 0/6

Detail performance results: 
+------------+---------+-------------------------------------+
| frame_size | txd/rxd | throughput difference from expected |
+============+=========+=====================================+
| 64         | 256     | -0.146                              |
+------------+---------+-------------------------------------+
| 128        | 256     | -0.148                              |
+------------+---------+-------------------------------------+
| 256        | 256     | 0.009                               |
+------------+---------+-------------------------------------+
| 512        | 256     | -0.070                              |
+------------+---------+-------------------------------------+
| 1024       | 256     | 0.032                               |
+------------+---------+-------------------------------------+
| 1518       | 256     | 0.003                               |
+------------+---------+-------------------------------------+

Ubuntu 18.04
Kernel: 4.15.0-generic
Compiler: gcc 7.4
NIC: Mellanox ConnectX-4 Lx 25000 Mbps
Target: x86_64-native-linuxapp-gcc
Fail/Total: 0/6

Detail performance results: 
+------------+---------+-------------------------------------+
| frame_size | txd/rxd | throughput difference from expected |
+============+=========+=====================================+
| 64         | 256     | -0.019                              |
+------------+---------+-------------------------------------+
| 128        | 256     | -0.063                              |
+------------+---------+-------------------------------------+
| 256        | 256     | -0.066                              |
+------------+---------+-------------------------------------+
| 512        | 256     | 0.021                               |
+------------+---------+-------------------------------------+
| 1024       | 256     | 0.008                               |
+------------+---------+-------------------------------------+
| 1518       | 256     | -0.008                              |
+------------+---------+-------------------------------------+

Ubuntu 18.04
Kernel: 4.15.0-generic
Compiler: gcc 7.4
NIC: Mellanox ConnectX-4 Lx 40000 Mbps
Target: x86_64-native-linuxapp-gcc
Fail/Total: 0/6

Detail performance results: 
+------------+---------+-------------------------------------+
| frame_size | txd/rxd | throughput difference from expected |
+============+=========+=====================================+
| 64         | 256     | 0.154                               |
+------------+---------+-------------------------------------+
| 128        | 256     | -0.213                              |
+------------+---------+-------------------------------------+
| 256        | 256     | -0.063                              |
+------------+---------+-------------------------------------+
| 512        | 256     | -0.003                              |
+------------+---------+-------------------------------------+
| 1024       | 256     | 0.002                               |
+------------+---------+-------------------------------------+
| 1518       | 256     | 0                                   |
+------------+---------+-------------------------------------+

To view detailed results, visit:
https://lab.dpdk.org/results/dashboard/patchsets/9966/

UNH-IOL DPDK Community Lab

To manage your email subscriptions, visit: 
https://lab.dpdk.org/results/dashboard/preferences/subscriptions/

^ permalink raw reply	[flat|nested] 4+ messages in thread

* [dpdk-test-report] |SUCCESS| pw66641 [PATCH] net/mlx5: fix Rx descriptor status returned value
@ 2020-03-13 11:26 dpdklab
  0 siblings, 0 replies; 4+ messages in thread
From: dpdklab @ 2020-03-13 11:26 UTC (permalink / raw)
  To: Test Report; +Cc: dpdk-test-reports

[-- Attachment #1: Type: text/plain, Size: 1261 bytes --]

Test-Label: iol-intel-Performance
Test-Status: SUCCESS
http://dpdk.org/patch/66641

_Performance Testing PASS_

Submitter: Didier Pallard <didier.pallard@6wind.com>
Date: Friday, March 13 2020 09:56:59 
DPDK git baseline: Repo:dpdk
  Branch: master
  CommitID:2a860943b847fbd44e08ef4f1ca66de759875c9e

66641 --> performance testing pass

Test environment and result as below:

Ubuntu 18.04
Kernel: 4.15.0-generic
Compiler: gcc 7.4
NIC: Intel Corporation Ethernet Converged Network Adapter XL710-QDA2 40000 Mbps
Target: x86_64-native-linuxapp-gcc
Fail/Total: 0/2

Detail performance results: 
+------------+---------+-------------------------------------+
| frame_size | txd/rxd | throughput difference from expected |
+============+=========+=====================================+
| 64         | 512     | -0.411                              |
+------------+---------+-------------------------------------+
| 64         | 2048    | 0.063                               |
+------------+---------+-------------------------------------+

To view detailed results, visit:
https://lab.dpdk.org/results/dashboard/patchsets/9966/

UNH-IOL DPDK Community Lab

To manage your email subscriptions, visit: 
https://lab.dpdk.org/results/dashboard/preferences/subscriptions/

^ permalink raw reply	[flat|nested] 4+ messages in thread

* [dpdk-test-report] |SUCCESS| pw66641 [PATCH] net/mlx5: fix Rx descriptor status returned value
       [not found] <20200313095659.19000-1-didier.pallard@6wind.com>
@ 2020-03-13  9:58 ` checkpatch
  0 siblings, 0 replies; 4+ messages in thread
From: checkpatch @ 2020-03-13  9:58 UTC (permalink / raw)
  To: test-report

Test-Label: checkpatch
Test-Status: SUCCESS
http://dpdk.org/patch/66641

_coding style OK_



^ permalink raw reply	[flat|nested] 4+ messages in thread

end of thread, other threads:[~2020-03-13 11:26 UTC | newest]

Thread overview: 4+ messages (download: mbox.gz / follow: Atom feed)
-- links below jump to the message on this page --
2020-03-13 11:24 [dpdk-test-report] |SUCCESS| pw66641 [PATCH] net/mlx5: fix Rx descriptor status returned value dpdklab
  -- strict thread matches above, loose matches on Subject: below --
2020-03-13 11:26 dpdklab
2020-03-13 11:26 dpdklab
     [not found] <20200313095659.19000-1-didier.pallard@6wind.com>
2020-03-13  9:58 ` checkpatch

automatic DPDK test reports

This inbox may be cloned and mirrored by anyone:

	git clone --mirror http://inbox.dpdk.org/test-report/0 test-report/git/0.git

	# If you have public-inbox 1.1+ installed, you may
	# initialize and index your mirror using the following commands:
	public-inbox-init -V2 test-report test-report/ http://inbox.dpdk.org/test-report \
		test-report@dpdk.org
	public-inbox-index test-report

Example config snippet for mirrors.
Newsgroup available over NNTP:
	nntp://inbox.dpdk.org/inbox.dpdk.test-report


AGPL code for this site: git clone https://public-inbox.org/public-inbox.git